Workbook

Sheet ORDER
A1: DIVINE ALCHEMY BY IREN | F1: =CHOOSE(DETAILS!$B$2,"Oferta B2B i formularz zamówienia","B2B offer and order form","B2B-Angebot und Bestellformular","Offre B2B et bon de commande","Oferta B2B y formulario de pedido","Offerta B2B e modulo d’ordine","B2B nabídka a objednávkový formulář","B2B ponuka a objednávkový formulár") -> B2B offer and order form
A2: =CHOOSE(DETAILS!$B$2,"Język","Language","Sprache","Langue","Idioma","Lingua","Jazyk","Jazyk") -> Language | B2: English | C2: =CHOOSE(DETAILS!$B$2,"Kraj dostawy","Delivery country","Lieferland","Pays de livraison","País de entrega","Paese di consegna","Země doručení","Krajina doručenia") -> Delivery country | D2: PL | E2: =CHOOSE(DETAILS!$B$2,"Waluta","Currency","Währung","Devise","Moneda","Valuta","Měna","Mena") -> Currency | F2: AUTO | G2: =DETAILS!$B$27 -> PLN | H2: =CHOOSE(DETAILS!$B$2,"Suma","Total","Summe","Total","Total","Totale","Celkem","Spolu") -> Total | J2: =IF(L3>0,CHOOSE(DETAILS!$B$2,"Cena na zapytanie","Price on request","Preis auf Anfrage","Prix sur demande","Precio a consultar","Prezzo su richiesta","Cena na dotaz","Cena na vyžiadanie"),SUM(J6:J58)) -> 0
A3: =CHOOSE(DETAILS!$B$2,"AUTO: waluta kraju dostawy. Język nie zmienia cen. Ilości wpisz w żółtej kolumnie G.","AUTO: destination currency. Language does not change prices. Enter quantities in yellow column G.","AUTO: Währung des Lieferlandes. Die Sprache ändert keine Preise. Mengen in gelbe Spalte G eintragen.","AUTO : devise du pays de livraison. La langue ne modifie pas les prix. Quantités en colonne jaune G.","AUTO: moneda del país de entrega. El idioma no cambia los precios. Cantidades en la columna amarilla G.","AUTO: valuta del paese di consegna. La lingua non modifica i prezzi. Quantità nella colonna gialla G.","AUTO: měna země doručení. Jazyk nemění ceny. Množství zadejte do žlutého sloupce G.","AUTO: mena krajiny doručenia. Jazyk nemení ceny. Množstvá zadajte do žltého stĺpca G.") -> AUTO: destination currency. Language does not change prices. Enter quantities in yellow column G. | H3: =CHOOSE(DETAILS!$B$2,"Pozycje do potwierdzenia","Items to confirm","Zu bestätigende Positionen","Lignes à confirmer","Líneas por confirmar","Voci da confermare","Položky k potvrzení","Položky na potvrdenie") -> Items to confirm | L3: =SUM(PRICES!W5:W57) -> 0
A4: =CHOOSE(DETAILS!$B$2,"Kwoty w wybranej walucie. Dostawa i VAT zostaną potwierdzone przed przyjęciem zamówienia.","Amounts in the selected currency. Delivery and VAT will be confirmed before order acceptance.","Beträge in der gewählten Währung. Versand und Umsatzsteuer werden vor Auftragsannahme bestätigt.","Montants dans la devise choisie. Livraison et TVA à confirmer avant acceptation.","Importes en la moneda seleccionada. Envío e IVA se confirmarán antes de aceptar el pedido.","Importi nella valuta selezionata. Spedizione e trattamento IVA saranno confermati prima dell’accettazione dell’ordine.","Částky ve zvolené měně. Doprava a režim DPH budou potvrzeny před přijetím objednávky.","Sumy vo zvolenej mene. Doprava a režim DPH budú potvrdené pred prijatím objednávky.") -> Amounts in the selected currency. Delivery and VAT will be confirmed before order acceptance.
A5: =CHOOSE(DETAILS!$B$2,"Zdjęcie","Photo","Foto","Photo"," Foto","Foto","Fotografie","Fotografia") -> Photo | B5: =CHOOSE(DETAILS!$B$2,"Produkt","Product","Produkt","Produit","Producto","Prodotto","Produkt","Produkt") -> Product | C5: =CHOOSE(DETAILS!$B$2,"Kolor","Colour","Farbe","Couleur","Color","Colore","Barva","Farba") -> Colour | D5: =CHOOSE(DETAILS!$B$2,"Rozmiar","Size","Größe","Dimensions","Tamaño","Dimensioni","Rozměry","Rozmery") -> Size | E5: =CHOOSE(DETAILS!$B$2,"Jednostka","Unit","Einheit","Unité","Unidad","Unità","Jednotka","Jednotka") -> Unit | F5: =CHOOSE(DETAILS!$B$2,"Cena bazowa","Reference price","Basispreis","Prix de référence","Precio base","Prezzo di riferimento","Základní cena","Základná cena") -> Reference price | G5: =CHOOSE(DETAILS!$B$2,"Ilość","Quantity","Menge","Quantité","Cantidad","Quantità","Množství","Množstvo") -> Quantity | H5: =CHOOSE(DETAILS!$B$2,"Cena / jedn.","Price / unit","Preis / Einheit","Prix / unité","Precio / unidad","Prezzo / unità","Cena / jednotku","Cena / jednotku") -> Price / unit | I5: =CHOOSE(DETAILS!$B$2,"Rabat","Discount","Rabatt","Remise","Descuento","Sconto","Sleva","Zľava") -> Discount | J5: =CHOOSE(DETAILS!$B$2,"Suma","Total","Summe","Total","Total","Totale","Celkem","Spolu") -> Total | K5: =CHOOSE(DETAILS!$B$2,"Zdjęcia / opinie","Photos / reviews","Fotos / Bewertungen","Photos / avis","Fotos / reseñas","Foto / recensioni","Fotografie / recenze","Fotografie / recenzie") -> Photos / reviews | L5: =CHOOSE(DETAILS!$B$2,"Status","Status","Status","Statut","Estado","Stato","Stav","Stav") -> Status
A6: #VALUE! | B6: =CHOOSE(DETAILS!$B$2,"Kolorowa świeca z wosku pszczelego","Coloured beeswax candle","Farbige Bienenwachskerze","Bougie colorée en cire d’abeille","Vela de cera de abeja de color","Candela colorata in cera d’api","Barevná svíčka ze včelího vosku","Farebná sviečka zo včelieho vosku") -> Coloured beeswax candle | C6: =CHOOSE(DETAILS!$B$2,"Biała","White","Weiß","Blanche","Blanca","Bianco","Bílá","Biela") -> White | D6: 130 × 10 mm | E6: =CHOOSE(DETAILS!$B$2,"szt.","piece","Stück","pièce","unidad","pz.","ks","ks") -> piece | F6: =ROUND(BASE_PRICES!B5*(1+DETAILS!$B$30)/DETAILS!$B$26,2) -> 6.1 | G6: 0 | H6: =IF(ISNUMBER(PRICES!V5),ROUND(PRICES!V5*(1+DETAILS!$B$30)/DETAILS!$B$26,4),"") -> 0 | I6: =IF(AND(ISNUMBER(PRICES!V5),BASE_PRICES!B5>0),1-PRICES!V5/BASE_PRICES!B5,"") | J6: =IF(ISNUMBER(H6),ROUND(G6*H6,2),"") | K6: Allegro | L6: =IF(NOT(ISNUMBER(G6)),CHOOSE(DETAILS!$B$2,"Wpisz liczbę całkowitą ≥ 0","Enter a whole number ≥ 0","Ganze Zahl ≥ 0 eingeben","Saisir un entier ≥ 0","Introduzca un entero ≥ 0","Inserire un numero intero ≥ 0","Zadejte celé číslo ≥ 0","Zadajte celé číslo ≥ 0"),IF(OR(G6<0,MOD(G6,1)<>0),CHOOSE(DETAILS!$B$2,"Wpisz liczbę całkowitą ≥ 0","Enter a whole number ≥ 0","Ganze Zahl ≥ 0 eingeben","Saisir un entier ≥ 0","Introduzca un entero ≥ 0","Inserire un numero intero ≥ 0","Zadejte celé číslo ≥ 0","Zadajte celé číslo ≥ 0"),IF(G6=0,"",IF(G6<BASE_PRICES!D5,CHOOSE(DETAILS!$B$2,"Minimum: ","Minimum: ","Mindestmenge: ","Minimum : ","Mínimo: ","Minimo: ","Minimum: ","Minimum: ")&BASE_PRICES!D5,IF(MOD(G6,BASE_PRICES!E5)<>0,CHOOSE(DETAILS!$B$2,"Wielokrotność: ","Order in multiples of: ","Bestellen in Vielfachen von: ","Commander par multiples de : ","Pedir en múltiplos de: ","Ordinare in multipli di: ","Objednávejte násobky: ","Objednávajte násobky: ")&BASE_PRICES!E5,IF(ISNUMBER(H6),CHOOSE(DETAILS!$B$2,"Wyceniono","Priced","Bepreist","Chiffré","Calculado","Prezzo calcolato","Cena vypočtena","Cena vypočítaná"),CHOOSE(DETAILS!$B$2,"Cena na zapytanie","Price on request","Preis auf Anfrage","Prix sur demande","Precio a consultar","Prezzo su richiesta","Cena na dotaz","Cena na vyžiadanie")))))))
A7: #VALUE! | B7: =CHOOSE(DETAILS!$B$2,"Kolorowa świeca z wosku pszczelego","Coloured beeswax candle","Farbige Bienenwachskerze","Bougie colorée en cire d’abeille","Vela de cera de abeja de color","Candela colorata in cera d’api","Barevná svíčka ze včelího vosku","Farebná sviečka zo včelieho vosku") -> Coloured beeswax candle | C7: =CHOOSE(DETAILS!$B$2,"Błękitna","Light blue","Hellblau","Bleu clair","Azul claro","Azzurro","Světle modrá","Svetlomodrá") -> Light blue | D7: 130 × 10 mm | E7: =CHOOSE(DETAILS!$B$2,"szt.","piece","Stück","pièce","unidad","pz.","ks","ks") -> piece | F7: =ROUND(BASE_PRICES!B6*(1+DETAILS!$B$30)/DETAILS!$B$26,2) -> 6.1 | G7: 0 | H7: =IF(ISNUMBER(PRICES!V6),ROUND(PRICES!V6*(1+DETAILS!$B$30)/DETAILS!$B$26,4),"") -> 0 | I7: =IF(AND(ISNUMBER(PRICES!V6),BASE_PRICES!B6>0),1-PRICES!V6/BASE_PRICES!B6,"") | J7: =IF(ISNUMBER(H7),ROUND(G7*H7,2),"") | K7: Allegro | L7: =IF(NOT(ISNUMBER(G7)),CHOOSE(DETAILS!$B$2,"Wpisz liczbę całkowitą ≥ 0","Enter a whole number ≥ 0","Ganze Zahl ≥ 0 eingeben","Saisir un entier ≥ 0","Introduzca un entero ≥ 0","Inserire un numero intero ≥ 0","Zadejte celé číslo ≥ 0","Zadajte celé číslo ≥ 0"),IF(OR(G7<0,MOD(G7,1)<>0),CHOOSE(DETAILS!$B$2,"Wpisz liczbę całkowitą ≥ 0","Enter a whole number ≥ 0","Ganze Zahl ≥ 0 eingeben","Saisir un entier ≥ 0","Introduzca un entero ≥ 0","Inserire un numero intero ≥ 0","Zadejte celé číslo ≥ 0","Zadajte celé číslo ≥ 0"),IF(G7=0,"",IF(G7<BASE_PRICES!D6,CHOOSE(DETAILS!$B$2,"Minimum: ","Minimum: ","Mindestmenge: ","Minimum : ","Mínimo: ","Minimo: ","Minimum: ","Minimum: ")&BASE_PRICES!D6,IF(MOD(G7,BASE_PRICES!E6)<>0,CHOOSE(DETAILS!$B$2,"Wielokrotność: ","Order in multiples of: ","Bestellen in Vielfachen von: ","Commander par multiples de : ","Pedir en múltiplos de: ","Ordinare in multipli di: ","Objednávejte násobky: ","Objednávajte násobky: ")&BASE_PRICES!E6,IF(ISNUMBER(H7),CHOOSE(DETAILS!$B$2,"Wyceniono","Priced","Bepreist","Chiffré","Calculado","Prezzo calcolato","Cena vypočtena","Cena vypočítaná"),CHOOSE(DETAILS!$B$2,"Cena na zapytanie","Price on request","Preis auf Anfrage","Prix sur demande","Precio a consultar","Prezzo su richiesta","Cena na dotaz","Cena na vyžiadanie")))))))
A8: #VALUE! | B8: =CHOOSE(DETAILS!$B$2,"Kolorowa świeca z wosku pszczelego","Coloured beeswax candle","Farbige Bienenwachskerze","Bougie colorée en cire d’abeille","Vela de cera de abeja de color","Candela colorata in cera d’api","Barevná svíčka ze včelího vosku","Farebná sviečka zo včelieho vosku") -> Coloured beeswax candle | C8: =CHOOSE(DETAILS!$B$2,"Naturalna żółta","Natural yellow","Naturgelb","Jaune naturel","Amarillo natural","Giallo naturale","Přírodní žlutá","Prírodná žltá") -> Natural yellow | D8: 130 × 10 mm | E8: =CHOOSE(DETAILS!$B$2,"szt.","piece","Stück","pièce","unidad","pz.","ks","ks") -> piece | F8: =ROUND(BASE_PRICES!B7*(1+DETAILS!$B$30)/DETAILS!$B$26,2) -> 5.4 | G8: 0 | H8: =IF(ISNUMBER(PRICES!V7),ROUND(PRICES!V7*(1+DETAILS!$B$30)/DETAILS!$B$26,4),"") -> 0 | I8: =IF(AND(ISNUMBER(PRICES!V7),BASE_PRICES!B7>0),1-PRICES!V7/BASE_PRICES!B7,"") | J8: =IF(ISNUMBER(H8),ROUND(G8*H8,2),"") | K8: Allegro | L8: =IF(NOT(ISNUMBER(G8)),CHOOSE(DETAILS!$B$2,"Wpisz liczbę całkowitą ≥ 0","Enter a whole number ≥ 0","Ganze Zahl ≥ 0 eingeben","Saisir un entier ≥ 0","Introduzca un entero ≥ 0","Inserire un numero intero ≥ 0","Zadejte celé číslo ≥ 0","Zadajte celé číslo ≥ 0"),IF(OR(G8<0,MOD(G8,1)<>0),CHOOSE(DETAILS!$B$2,"Wpisz liczbę całkowitą ≥ 0","Enter a whole number ≥ 0","Ganze Zahl ≥ 0 eingeben","Saisir un entier ≥ 0","Introduzca un entero ≥ 0","Inserire un numero intero ≥ 0","Zadejte celé číslo ≥ 0","Zadajte celé číslo ≥ 0"),IF(G8=0,"",IF(G8<BASE_PRICES!D7,CHOOSE(DETAILS!$B$2,"Minimum: ","Minimum: ","Mindestmenge: ","Minimum : ","Mínimo: ","Minimo: ","Minimum: ","Minimum: ")&BASE_PRICES!D7,IF(MOD(G8,BASE_PRICES!E7)<>0,CHOOSE(DETAILS!$B$2,"Wielokrotność: ","Order in multiples of: ","Bestellen in Vielfachen von: ","Commander par multiples de : ","Pedir en múltiplos de: ","Ordinare in multipli di: ","Objednávejte násobky: ","Objednávajte násobky: ")&BASE_PRICES!E7,IF(ISNUMBER(H8),CHOOSE(DETAILS!$B$2,"Wyceniono","Priced","Bepreist","Chiffré","Calculado","Prezzo calcolato","Cena vypočtena","Cena vypočítaná"),CHOOSE(DETAILS!$B$2,"Cena na zapytanie","Price on request","Preis auf Anfrage","Prix sur demande","Precio a consultar","Prezzo su richiesta","Cena na dotaz","Cena na vyžiadanie")))))))
A9: #VALUE! | B9: =CHOOSE(DETAILS!$B$2,"Kolorowa świeca z wosku pszczelego","Coloured beeswax candle","Farbige Bienenwachskerze","Bougie colorée en cire d’abeille","Vela de cera de abeja de color","Candela colorata in cera d’api","Barevná svíčka ze včelího vosku","Farebná sviečka zo včelieho vosku") -> Coloured beeswax candle | C9: =CHOOSE(DETAILS!$B$2,"Zielona","Green","Grün","Verte","Verde","Verde","Zelená","Zelená") -> Green | D9: 130 × 10 mm | E9: =CHOOSE(DETAILS!$B$2,"szt.","piece","Stück","pièce","unidad","pz.","ks","ks") -> piece | F9: =ROUND(BASE_PRICES!B8*(1+DETAILS!$B$30)/DETAILS!$B$26,2) -> 5.4 | G9: 0 | H9: =IF(ISNUMBER(PRICES!V8),ROUND(PRICES!V8*(1+DETAILS!$B$30)/DETAILS!$B$26,4),"") -> 0 | I9: =IF(AND(ISNUMBER(PRICES!V8),BASE_PRICES!B8>0),1-PRICES!V8/BASE_PRICES!B8,"") | J9: =IF(ISNUMBER(H9),ROUND(G9*H9,2),"") | K9: Allegro | L9: =IF(NOT(ISNUMBER(G9)),CHOOSE(DETAILS!$B$2,"Wpisz liczbę całkowitą ≥ 0","Enter a whole number ≥ 0","Ganze Zahl ≥ 0 eingeben","Saisir un entier ≥ 0","Introduzca un entero ≥ 0","Inserire un numero intero ≥ 0","Zadejte celé číslo ≥ 0","Zadajte celé číslo ≥ 0"),IF(OR(G9<0,MOD(G9,1)<>0),CHOOSE(DETAILS!$B$2,"Wpisz liczbę całkowitą ≥ 0","Enter a whole number ≥ 0","Ganze Zahl ≥ 0 eingeben","Saisir un entier ≥ 0","Introduzca un entero ≥ 0","Inserire un numero intero ≥ 0","Zadejte celé číslo ≥ 0","Zadajte celé číslo ≥ 0"),IF(G9=0,"",IF(G9<BASE_PRICES!D8,CHOOSE(DETAILS!$B$2,"Minimum: ","Minimum: ","Mindestmenge: ","Minimum : ","Mínimo: ","Minimo: ","Minimum: ","Minimum: ")&BASE_PRICES!D8,IF(MOD(G9,BASE_PRICES!E8)<>0,CHOOSE(DETAILS!$B$2,"Wielokrotność: ","Order in multiples of: ","Bestellen in Vielfachen von: ","Commander par multiples de : ","Pedir en múltiplos de: ","Ordinare in multipli di: ","Objednávejte násobky: ","Objednávajte násobky: ")&BASE_PRICES!E8,IF(ISNUMBER(H9),CHOOSE(DETAILS!$B$2,"Wyceniono","Priced","Bepreist","Chiffré","Calculado","Prezzo calcolato","Cena vypočtena","Cena vypočítaná"),CHOOSE(DETAILS!$B$2,"Cena na zapytanie","Price on request","Preis auf Anfrage","Prix sur demande","Precio a consultar","Prezzo su richiesta","Cena na dotaz","Cena na vyžiadanie")))))))
A10: #VALUE! | B10: =CHOOSE(DETAILS!$B$2,"Kolorowa świeca z wosku pszczelego","Coloured beeswax candle","Farbige Bienenwachskerze","Bougie colorée en cire d’abeille","Vela de cera de abeja de color","Candela colorata in cera d’api","Barevná svíčka ze včelího vosku","Farebná sviečka zo včelieho vosku") -> Coloured beeswax candle | C10: =CHOOSE(DETAILS!$B$2,"Złota","Gold","Gold","Dorée","Dorada","Oro","Zlatá","Zlatá") -> Gold | D10: 130 × 10 mm | E10: =CHOOSE(DETAILS!$B$2,"szt.","piece","Stück","pièce","unidad","pz.","ks","ks") -> piece | F10: =ROUND(BASE_PRICES!B9*(1+DETAILS!$B$30)/DETAILS!$B$26,2) -> 6.4 | G10: 0 | H10: =IF(ISNUMBER(PRICES!V9),ROUND(PRICES!V9*(1+DETAILS!$B$30)/DETAILS!$B$26,4),"") -> 0 | I10: =IF(AND(ISNUMBER(PRICES!V9),BASE_PRICES!B9>0),1-PRICES!V9/BASE_PRICES!B9,"") | J10: =IF(ISNUMBER(H10),ROUND(G10*H10,2),"") | K10: Allegro | L10: =IF(NOT(ISNUMBER(G10)),CHOOSE(DETAILS!$B$2,"Wpisz liczbę całkowitą ≥ 0","Enter a whole number ≥ 0","Ganze Zahl ≥ 0 eingeben","Saisir un entier ≥ 0","Introduzca un entero ≥ 0","Inserire un numero intero ≥ 0","Zadejte celé číslo ≥ 0","Zadajte celé číslo ≥ 0"),IF(OR(G10<0,MOD(G10,1)<>0),CHOOSE(DETAILS!$B$2,"Wpisz liczbę całkowitą ≥ 0","Enter a whole number ≥ 0","Ganze Zahl ≥ 0 eingeben","Saisir un entier ≥ 0","Introduzca un entero ≥ 0","Inserire un numero intero ≥ 0","Zadejte celé číslo ≥ 0","Zadajte celé číslo ≥ 0"),IF(G10=0,"",IF(G10<BASE_PRICES!D9,CHOOSE(DETAILS!$B$2,"Minimum: ","Minimum: ","Mindestmenge: ","Minimum : ","Mínimo: ","Minimo: ","Minimum: ","Minimum: ")&BASE_PRICES!D9,IF(MOD(G10,BASE_PRICES!E9)<>0,CHOOSE(DETAILS!$B$2,"Wielokrotność: ","Order in multiples of: ","Bestellen in Vielfachen von: ","Commander par multiples de : ","Pedir en múltiplos de: ","Ordinare in multipli di: ","Objednávejte násobky: ","Objednávajte násobky: ")&BASE_PRICES!E9,IF(ISNUMBER(H10),CHOOSE(DETAILS!$B$2,"Wyceniono","Priced","Bepreist","Chiffré","Calculado","Prezzo calcolato","Cena vypočtena","Cena vypočítaná"),CHOOSE(DETAILS!$B$2,"Cena na zapytanie","Price on request","Preis auf Anfrage","Prix sur demande","Precio a consultar","Prezzo su richiesta","Cena na dotaz","Cena na vyžiadanie")))))))
A11: #VALUE! | B11: =CHOOSE(DETAILS!$B$2,"Kolorowa świeca z wosku pszczelego","Coloured beeswax candle","Farbige Bienenwachskerze","Bougie colorée en cire d’abeille","Vela de cera de abeja de color","Candela colorata in cera d’api","Barevná svíčka ze včelího vosku","Farebná sviečka zo včelieho vosku") -> Coloured beeswax candle | C11: =CHOOSE(DETAILS!$B$2,"Brązowa","Brown","Braun","Marron","Marrón","Marrone","Hnědá","Hnedá") -> Brown | D11: 130 × 10 mm | E11: =CHOOSE(DETAILS!$B$2,"szt.","piece","Stück","pièce","unidad","pz.","ks","ks") -> piece | F11: =ROUND(BASE_PRICES!B10*(1+DETAILS!$B$30)/DETAILS!$B$26,2) -> 5.2 | G11: 0 | H11: =IF(ISNUMBER(PRICES!V10),ROUND(PRICES!V10*(1+DETAILS!$B$30)/DETAILS!$B$26,4),"") -> 0 | I11: =IF(AND(ISNUMBER(PRICES!V10),BASE_PRICES!B10>0),1-PRICES!V10/BASE_PRICES!B10,"") | J11: =IF(ISNUMBER(H11),ROUND(G11*H11,2),"") | K11: Allegro | L11: =IF(NOT(ISNUMBER(G11)),CHOOSE(DETAILS!$B$2,"Wpisz liczbę całkowitą ≥ 0","Enter a whole number ≥ 0","Ganze Zahl ≥ 0 eingeben","Saisir un entier ≥ 0","Introduzca un entero ≥ 0","Inserire un numero intero ≥ 0","Zadejte celé číslo ≥ 0","Zadajte celé číslo ≥ 0"),IF(OR(G11<0,MOD(G11,1)<>0),CHOOSE(DETAILS!$B$2,"Wpisz liczbę całkowitą ≥ 0","Enter a whole number ≥ 0","Ganze Zahl ≥ 0 eingeben","Saisir un entier ≥ 0","Introduzca un entero ≥ 0","Inserire un numero intero ≥ 0","Zadejte celé číslo ≥ 0","Zadajte celé číslo ≥ 0"),IF(G11=0,"",IF(G11<BASE_PRICES!D10,CHOOSE(DETAILS!$B$2,"Minimum: ","Minimum: ","Mindestmenge: ","Minimum : ","Mínimo: ","Minimo: ","Minimum: ","Minimum: ")&BASE_PRICES!D10,IF(MOD(G11,BASE_PRICES!E10)<>0,CHOOSE(DETAILS!$B$2,"Wielokrotność: ","Order in multiples of: ","Bestellen in Vielfachen von: ","Commander par multiples de : ","Pedir en múltiplos de: ","Ordinare in multipli di: ","Objednávejte násobky: ","Objednávajte násobky: ")&BASE_PRICES!E10,IF(ISNUMBER(H11),CHOOSE(DETAILS!$B$2,"Wyceniono","Priced","Bepreist","Chiffré","Calculado","Prezzo calcolato","Cena vypočtena","Cena vypočítaná"),CHOOSE(DETAILS!$B$2,"Cena na zapytanie","Price on request","Preis auf Anfrage","Prix sur demande","Precio a consultar","Prezzo su richiesta","Cena na dotaz","Cena na vyžiadanie")))))))
A12: #VALUE! | B12: =CHOOSE(DETAILS!$B$2,"Kolorowa świeca z wosku pszczelego","Coloured beeswax candle","Farbige Bienenwachskerze","Bougie colorée en cire d’abeille","Vela de cera de abeja de color","Candela colorata in cera d’api","Barevná svíčka ze včelího vosku","Farebná sviečka zo včelieho vosku") -> Coloured beeswax candle | C12: =CHOOSE(DETAILS!$B$2,"Pomarańczowa","Orange","Orange","Orange","Naranja","Arancione","Oranžová","Oranžová") -> Orange | D12: 130 × 10 mm | E12: =CHOOSE(DETAILS!$B$2,"szt.","piece","Stück","pièce","unidad","pz.","ks","ks") -> piece | F12: =ROUND(BASE_PRICES!B11*(1+DETAILS!$B$30)/DETAILS!$B$26,2) -> 5.4 | G12: 0 | H12: =IF(ISNUMBER(PRICES!V11),ROUND(PRICES!V11*(1+DETAILS!$B$30)/DETAILS!$B$26,4),"") -> 0 | I12: =IF(AND(ISNUMBER(PRICES!V11),BASE_PRICES!B11>0),1-PRICES!V11/BASE_PRICES!B11,"") | J12: =IF(ISNUMBER(H12),ROUND(G12*H12,2),"") | K12: Allegro | L12: =IF(NOT(ISNUMBER(G12)),CHOOSE(DETAILS!$B$2,"Wpisz liczbę całkowitą ≥ 0","Enter a whole number ≥ 0","Ganze Zahl ≥ 0 eingeben","Saisir un entier ≥ 0","Introduzca un entero ≥ 0","Inserire un numero intero ≥ 0","Zadejte celé číslo ≥ 0","Zadajte celé číslo ≥ 0"),IF(OR(G12<0,MOD(G12,1)<>0),CHOOSE(DETAILS!$B$2,"Wpisz liczbę całkowitą ≥ 0","Enter a whole number ≥ 0","Ganze Zahl ≥ 0 eingeben","Saisir un entier ≥ 0","Introduzca un entero ≥ 0","Inserire un numero intero ≥ 0","Zadejte celé číslo ≥ 0","Zadajte celé číslo ≥ 0"),IF(G12=0,"",IF(G12<BASE_PRICES!D11,CHOOSE(DETAILS!$B$2,"Minimum: ","Minimum: ","Mindestmenge: ","Minimum : ","Mínimo: ","Minimo: ","Minimum: ","Minimum: ")&BASE_PRICES!D11,IF(MOD(G12,BASE_PRICES!E11)<>0,CHOOSE(DETAILS!$B$2,"Wielokrotność: ","Order in multiples of: ","Bestellen in Vielfachen von: ","Commander par multiples de : ","Pedir en múltiplos de: ","Ordinare in multipli di: ","Objednávejte násobky: ","Objednávajte násobky: ")&BASE_PRICES!E11,IF(ISNUMBER(H12),CHOOSE(DETAILS!$B$2,"Wyceniono","Priced","Bepreist","Chiffré","Calculado","Prezzo calcolato","Cena vypočtena","Cena vypočítaná"),CHOOSE(DETAILS!$B$2,"Cena na zapytanie","Price on request","Preis auf Anfrage","Prix sur demande","Precio a consultar","Prezzo su richiesta","Cena na dotaz","Cena na vyžiadanie")))))))
A13: #VALUE! | B13: =CHOOSE(DETAILS!$B$2,"Kolorowa świeca z wosku pszczelego","Coloured beeswax candle","Farbige Bienenwachskerze","Bougie colorée en cire d’abeille","Vela de cera de abeja de color","Candela colorata in cera d’api","Barevná svíčka ze včelího vosku","Farebná sviečka zo včelieho vosku") -> Coloured beeswax candle | C13: =CHOOSE(DETAILS!$B$2,"Różowa","Pink","Rosa","Rose","Rosa","Rosa","Růžová","Ružová") -> Pink | D13: 130 × 10 mm | E13: =CHOOSE(DETAILS!$B$2,"szt.","piece","Stück","pièce","unidad","pz.","ks","ks") -> piece | F13: =ROUND(BASE_PRICES!B12*(1+DETAILS!$B$30)/DETAILS!$B$26,2) -> 6.1 | G13: 0 | H13: =IF(ISNUMBER(PRICES!V12),ROUND(PRICES!V12*(1+DETAILS!$B$30)/DETAILS!$B$26,4),"") -> 0 | I13: =IF(AND(ISNUMBER(PRICES!V12),BASE_PRICES!B12>0),1-PRICES!V12/BASE_PRICES!B12,"") | J13: =IF(ISNUMBER(H13),ROUND(G13*H13,2),"") | K13: Allegro | L13: =IF(NOT(ISNUMBER(G13)),CHOOSE(DETAILS!$B$2,"Wpisz liczbę całkowitą ≥ 0","Enter a whole number ≥ 0","Ganze Zahl ≥ 0 eingeben","Saisir un entier ≥ 0","Introduzca un entero ≥ 0","Inserire un numero intero ≥ 0","Zadejte celé číslo ≥ 0","Zadajte celé číslo ≥ 0"),IF(OR(G13<0,MOD(G13,1)<>0),CHOOSE(DETAILS!$B$2,"Wpisz liczbę całkowitą ≥ 0","Enter a whole number ≥ 0","Ganze Zahl ≥ 0 eingeben","Saisir un entier ≥ 0","Introduzca un entero ≥ 0","Inserire un numero intero ≥ 0","Zadejte celé číslo ≥ 0","Zadajte celé číslo ≥ 0"),IF(G13=0,"",IF(G13<BASE_PRICES!D12,CHOOSE(DETAILS!$B$2,"Minimum: ","Minimum: ","Mindestmenge: ","Minimum : ","Mínimo: ","Minimo: ","Minimum: ","Minimum: ")&BASE_PRICES!D12,IF(MOD(G13,BASE_PRICES!E12)<>0,CHOOSE(DETAILS!$B$2,"Wielokrotność: ","Order in multiples of: ","Bestellen in Vielfachen von: ","Commander par multiples de : ","Pedir en múltiplos de: ","Ordinare in multipli di: ","Objednávejte násobky: ","Objednávajte násobky: ")&BASE_PRICES!E12,IF(ISNUMBER(H13),CHOOSE(DETAILS!$B$2,"Wyceniono","Priced","Bepreist","Chiffré","Calculado","Prezzo calcolato","Cena vypočtena","Cena vypočítaná"),CHOOSE(DETAILS!$B$2,"Cena na zapytanie","Price on request","Preis auf Anfrage","Prix sur demande","Precio a consultar","Prezzo su richiesta","Cena na dotaz","Cena na vyžiadanie")))))))
A14: #VALUE! | B14: =CHOOSE(DETAILS!$B$2,"Kolorowa świeca z wosku pszczelego","Coloured beeswax candle","Farbige Bienenwachskerze","Bougie colorée en cire d’abeille","Vela de cera de abeja de color","Candela colorata in cera d’api","Barevná svíčka ze včelího vosku","Farebná sviečka zo včelieho vosku") -> Coloured beeswax candle | C14: =CHOOSE(DETAILS!$B$2,"Niebieska","Blue","Blau","Bleue","Azul","Blu","Modrá","Modrá") -> Blue | D14: 130 × 10 mm | E14: =CHOOSE(DETAILS!$B$2,"szt.","piece","Stück","pièce","unidad","pz.","ks","ks") -> piece | F14: =ROUND(BASE_PRICES!B13*(1+DETAILS!$B$30)/DETAILS!$B$26,2) -> 6.1 | G14: 0 | H14: =IF(ISNUMBER(PRICES!V13),ROUND(PRICES!V13*(1+DETAILS!$B$30)/DETAILS!$B$26,4),"") -> 0 | I14: =IF(AND(ISNUMBER(PRICES!V13),BASE_PRICES!B13>0),1-PRICES!V13/BASE_PRICES!B13,"") | J14: =IF(ISNUMBER(H14),ROUND(G14*H14,2),"") | K14: Allegro | L14: =IF(NOT(ISNUMBER(G14)),CHOOSE(DETAILS!$B$2,"Wpisz liczbę całkowitą ≥ 0","Enter a whole number ≥ 0","Ganze Zahl ≥ 0 eingeben","Saisir un entier ≥ 0","Introduzca un entero ≥ 0","Inserire un numero intero ≥ 0","Zadejte celé číslo ≥ 0","Zadajte celé číslo ≥ 0"),IF(OR(G14<0,MOD(G14,1)<>0),CHOOSE(DETAILS!$B$2,"Wpisz liczbę całkowitą ≥ 0","Enter a whole number ≥ 0","Ganze Zahl ≥ 0 eingeben","Saisir un entier ≥ 0","Introduzca un entero ≥ 0","Inserire un numero intero ≥ 0","Zadejte celé číslo ≥ 0","Zadajte celé číslo ≥ 0"),IF(G14=0,"",IF(G14<BASE_PRICES!D13,CHOOSE(DETAILS!$B$2,"Minimum: ","Minimum: ","Mindestmenge: ","Minimum : ","Mínimo: ","Minimo: ","Minimum: ","Minimum: ")&BASE_PRICES!D13,IF(MOD(G14,BASE_PRICES!E13)<>0,CHOOSE(DETAILS!$B$2,"Wielokrotność: ","Order in multiples of: ","Bestellen in Vielfachen von: ","Commander par multiples de : ","Pedir en múltiplos de: ","Ordinare in multipli di: ","Objednávejte násobky: ","Objednávajte násobky: ")&BASE_PRICES!E13,IF(ISNUMBER(H14),CHOOSE(DETAILS!$B$2,"Wyceniono","Priced","Bepreist","Chiffré","Calculado","Prezzo calcolato","Cena vypočtena","Cena vypočítaná"),CHOOSE(DETAILS!$B$2,"Cena na zapytanie","Price on request","Preis auf Anfrage","Prix sur demande","Precio a consultar","Prezzo su richiesta","Cena na dotaz","Cena na vyžiadanie")))))))
A15: #VALUE! | B15: =CHOOSE(DETAILS!$B$2,"Kolorowa świeca z wosku pszczelego","Coloured beeswax candle","Farbige Bienenwachskerze","Bougie colorée en cire d’abeille","Vela de cera de abeja de color","Candela colorata in cera d’api","Barevná svíčka ze včelího vosku","Farebná sviečka zo včelieho vosku") -> Coloured beeswax candle | C15: =CHOOSE(DETAILS!$B$2,"Srebrna","Silver","Silber","Argentée","Plateada","Argento","Stříbrná","Strieborná") -> Silver | D15: 130 × 10 mm | E15: =CHOOSE(DETAILS!$B$2,"szt.","piece","Stück","pièce","unidad","pz.","ks","ks") -> piece | F15: =ROUND(BASE_PRICES!B14*(1+DETAILS!$B$30)/DETAILS!$B$26,2) -> 6.4 | G15: 0 | H15: =IF(ISNUMBER(PRICES!V14),ROUND(PRICES!V14*(1+DETAILS!$B$30)/DETAILS!$B$26,4),"") -> 0 | I15: =IF(AND(ISNUMBER(PRICES!V14),BASE_PRICES!B14>0),1-PRICES!V14/BASE_PRICES!B14,"") | J15: =IF(ISNUMBER(H15),ROUND(G15*H15,2),"") | K15: Allegro | L15: =IF(NOT(ISNUMBER(G15)),CHOOSE(DETAILS!$B$2,"Wpisz liczbę całkowitą ≥ 0","Enter a whole number ≥ 0","Ganze Zahl ≥ 0 eingeben","Saisir un entier ≥ 0","Introduzca un entero ≥ 0","Inserire un numero intero ≥ 0","Zadejte celé číslo ≥ 0","Zadajte celé číslo ≥ 0"),IF(OR(G15<0,MOD(G15,1)<>0),CHOOSE(DETAILS!$B$2,"Wpisz liczbę całkowitą ≥ 0","Enter a whole number ≥ 0","Ganze Zahl ≥ 0 eingeben","Saisir un entier ≥ 0","Introduzca un entero ≥ 0","Inserire un numero intero ≥ 0","Zadejte celé číslo ≥ 0","Zadajte celé číslo ≥ 0"),IF(G15=0,"",IF(G15<BASE_PRICES!D14,CHOOSE(DETAILS!$B$2,"Minimum: ","Minimum: ","Mindestmenge: ","Minimum : ","Mínimo: ","Minimo: ","Minimum: ","Minimum: ")&BASE_PRICES!D14,IF(MOD(G15,BASE_PRICES!E14)<>0,CHOOSE(DETAILS!$B$2,"Wielokrotność: ","Order in multiples of: ","Bestellen in Vielfachen von: ","Commander par multiples de : ","Pedir en múltiplos de: ","Ordinare in multipli di: ","Objednávejte násobky: ","Objednávajte násobky: ")&BASE_PRICES!E14,IF(ISNUMBER(H15),CHOOSE(DETAILS!$B$2,"Wyceniono","Priced","Bepreist","Chiffré","Calculado","Prezzo calcolato","Cena vypočtena","Cena vypočítaná"),CHOOSE(DETAILS!$B$2,"Cena na zapytanie","Price on request","Preis auf Anfrage","Prix sur demande","Precio a consultar","Prezzo su richiesta","Cena na dotaz","Cena na vyžiadanie")))))))
A16: #VALUE! | B16: =CHOOSE(DETAILS!$B$2,"Kolorowa świeca z wosku pszczelego","Coloured beeswax candle","Farbige Bienenwachskerze","Bougie colorée en cire d’abeille","Vela de cera de abeja de color","Candela colorata in cera d’api","Barevná svíčka ze včelího vosku","Farebná sviečka zo včelieho vosku") -> Coloured beeswax candle | C16: =CHOOSE(DETAILS!$B$2,"Fioletowa","Purple","Violett","Violette","Violeta","Viola","Fialová","Fialová") -> Purple | D16: 130 × 10 mm | E16: =CHOOSE(DETAILS!$B$2,"szt.","piece","Stück","pièce","unidad","pz.","ks","ks") -> piece | F16: =ROUND(BASE_PRICES!B15*(1+DETAILS!$B$30)/DETAILS!$B$26,2) -> 5.9 | G16: 0 | H16: =IF(ISNUMBER(PRICES!V15),ROUND(PRICES!V15*(1+DETAILS!$B$30)/DETAILS!$B$26,4),"") -> 0 | I16: =IF(AND(ISNUMBER(PRICES!V15),BASE_PRICES!B15>0),1-PRICES!V15/BASE_PRICES!B15,"") | J16: =IF(ISNUMBER(H16),ROUND(G16*H16,2),"") | K16: Allegro | L16: =IF(NOT(ISNUMBER(G16)),CHOOSE(DETAILS!$B$2,"Wpisz liczbę całkowitą ≥ 0","Enter a whole number ≥ 0","Ganze Zahl ≥ 0 eingeben","Saisir un entier ≥ 0","Introduzca un entero ≥ 0","Inserire un numero intero ≥ 0","Zadejte celé číslo ≥ 0","Zadajte celé číslo ≥ 0"),IF(OR(G16<0,MOD(G16,1)<>0),CHOOSE(DETAILS!$B$2,"Wpisz liczbę całkowitą ≥ 0","Enter a whole number ≥ 0","Ganze Zahl ≥ 0 eingeben","Saisir un entier ≥ 0","Introduzca un entero ≥ 0","Inserire un numero intero ≥ 0","Zadejte celé číslo ≥ 0","Zadajte celé číslo ≥ 0"),IF(G16=0,"",IF(G16<BASE_PRICES!D15,CHOOSE(DETAILS!$B$2,"Minimum: ","Minimum: ","Mindestmenge: ","Minimum : ","Mínimo: ","Minimo: ","Minimum: ","Minimum: ")&BASE_PRICES!D15,IF(MOD(G16,BASE_PRICES!E15)<>0,CHOOSE(DETAILS!$B$2,"Wielokrotność: ","Order in multiples of: ","Bestellen in Vielfachen von: ","Commander par multiples de : ","Pedir en múltiplos de: ","Ordinare in multipli di: ","Objednávejte násobky: ","Objednávajte násobky: ")&BASE_PRICES!E15,IF(ISNUMBER(H16),CHOOSE(DETAILS!$B$2,"Wyceniono","Priced","Bepreist","Chiffré","Calculado","Prezzo calcolato","Cena vypočtena","Cena vypočítaná"),CHOOSE(DETAILS!$B$2,"Cena na zapytanie","Price on request","Preis auf Anfrage","Prix sur demande","Precio a consultar","Prezzo su richiesta","Cena na dotaz","Cena na vyžiadanie")))))))
A17: #VALUE! | B17: =CHOOSE(DETAILS!$B$2,"Kolorowa świeca z wosku pszczelego","Coloured beeswax candle","Farbige Bienenwachskerze","Bougie colorée en cire d’abeille","Vela de cera de abeja de color","Candela colorata in cera d’api","Barevná svíčka ze včelího vosku","Farebná sviečka zo včelieho vosku") -> Coloured beeswax candle | C17: =CHOOSE(DETAILS!$B$2,"Czerwona","Red","Rot","Rouge","Roja","Rosso","Červená","Červená") -> Red | D17: 130 × 10 mm | E17: =CHOOSE(DETAILS!$B$2,"szt.","piece","Stück","pièce","unidad","pz.","ks","ks") -> piece | F17: =ROUND(BASE_PRICES!B16*(1+DETAILS!$B$30)/DETAILS!$B$26,2) -> 5.4 | G17: 0 | H17: =IF(ISNUMBER(PRICES!V16),ROUND(PRICES!V16*(1+DETAILS!$B$30)/DETAILS!$B$26,4),"") -> 0 | I17: =IF(AND(ISNUMBER(PRICES!V16),BASE_PRICES!B16>0),1-PRICES!V16/BASE_PRICES!B16,"") | J17: =IF(ISNUMBER(H17),ROUND(G17*H17,2),"") | K17: Allegro | L17: =IF(NOT(ISNUMBER(G17)),CHOOSE(DETAILS!$B$2,"Wpisz liczbę całkowitą ≥ 0","Enter a whole number ≥ 0","Ganze Zahl ≥ 0 eingeben","Saisir un entier ≥ 0","Introduzca un entero ≥ 0","Inserire un numero intero ≥ 0","Zadejte celé číslo ≥ 0","Zadajte celé číslo ≥ 0"),IF(OR(G17<0,MOD(G17,1)<>0),CHOOSE(DETAILS!$B$2,"Wpisz liczbę całkowitą ≥ 0","Enter a whole number ≥ 0","Ganze Zahl ≥ 0 eingeben","Saisir un entier ≥ 0","Introduzca un entero ≥ 0","Inserire un numero intero ≥ 0","Zadejte celé číslo ≥ 0","Zadajte celé číslo ≥ 0"),IF(G17=0,"",IF(G17<BASE_PRICES!D16,CHOOSE(DETAILS!$B$2,"Minimum: ","Minimum: ","Mindestmenge: ","Minimum : ","Mínimo: ","Minimo: ","Minimum: ","Minimum: ")&BASE_PRICES!D16,IF(MOD(G17,BASE_PRICES!E16)<>0,CHOOSE(DETAILS!$B$2,"Wielokrotność: ","Order in multiples of: ","Bestellen in Vielfachen von: ","Commander par multiples de : ","Pedir en múltiplos de: ","Ordinare in multipli di: ","Objednávejte násobky: ","Objednávajte násobky: ")&BASE_PRICES!E16,IF(ISNUMBER(H17),CHOOSE(DETAILS!$B$2,"Wyceniono","Priced","Bepreist","Chiffré","Calculado","Prezzo calcolato","Cena vypočtena","Cena vypočítaná"),CHOOSE(DETAILS!$B$2,"Cena na zapytanie","Price on request","Preis auf Anfrage","Prix sur demande","Precio a consultar","Prezzo su richiesta","Cena na dotaz","Cena na vyžiadanie")))))))
A18: #VALUE! | B18: =CHOOSE(DETAILS!$B$2,"Kolorowa świeca z wosku pszczelego","Coloured beeswax candle","Farbige Bienenwachskerze","Bougie colorée en cire d’abeille","Vela de cera de abeja de color","Candela colorata in cera d’api","Barevná svíčka ze včelího vosku","Farebná sviečka zo včelieho vosku") -> Coloured beeswax candle | C18: =CHOOSE(DETAILS!$B$2,"Czarna","Black","Schwarz","Noire","Negra","Nero","Černá","Čierna") -> Black | D18: 130 × 10 mm | E18: =CHOOSE(DETAILS!$B$2,"szt.","piece","Stück","pièce","unidad","pz.","ks","ks") -> piece | F18: =ROUND(BASE_PRICES!B17*(1+DETAILS!$B$30)/DETAILS!$B$26,2) -> 5.9 | G18: 0 | H18: =IF(ISNUMBER(PRICES!V17),ROUND(PRICES!V17*(1+DETAILS!$B$30)/DETAILS!$B$26,4),"") -> 0 | I18: =IF(AND(ISNUMBER(PRICES!V17),BASE_PRICES!B17>0),1-PRICES!V17/BASE_PRICES!B17,"") | J18: =IF(ISNUMBER(H18),ROUND(G18*H18,2),"") | K18: Allegro | L18: =IF(NOT(ISNUMBER(G18)),CHOOSE(DETAILS!$B$2,"Wpisz liczbę całkowitą ≥ 0","Enter a whole number ≥ 0","Ganze Zahl ≥ 0 eingeben","Saisir un entier ≥ 0","Introduzca un entero ≥ 0","Inserire un numero intero ≥ 0","Zadejte celé číslo ≥ 0","Zadajte celé číslo ≥ 0"),IF(OR(G18<0,MOD(G18,1)<>0),CHOOSE(DETAILS!$B$2,"Wpisz liczbę całkowitą ≥ 0","Enter a whole number ≥ 0","Ganze Zahl ≥ 0 eingeben","Saisir un entier ≥ 0","Introduzca un entero ≥ 0","Inserire un numero intero ≥ 0","Zadejte celé číslo ≥ 0","Zadajte celé číslo ≥ 0"),IF(G18=0,"",IF(G18<BASE_PRICES!D17,CHOOSE(DETAILS!$B$2,"Minimum: ","Minimum: ","Mindestmenge: ","Minimum : ","Mínimo: ","Minimo: ","Minimum: ","Minimum: ")&BASE_PRICES!D17,IF(MOD(G18,BASE_PRICES!E17)<>0,CHOOSE(DETAILS!$B$2,"Wielokrotność: ","Order in multiples of: ","Bestellen in Vielfachen von: ","Commander par multiples de : ","Pedir en múltiplos de: ","Ordinare in multipli di: ","Objednávejte násobky: ","Objednávajte násobky: ")&BASE_PRICES!E17,IF(ISNUMBER(H18),CHOOSE(DETAILS!$B$2,"Wyceniono","Priced","Bepreist","Chiffré","Calculado","Prezzo calcolato","Cena vypočtena","Cena vypočítaná"),CHOOSE(DETAILS!$B$2,"Cena na zapytanie","Price on request","Preis auf Anfrage","Prix sur demande","Precio a consultar","Prezzo su richiesta","Cena na dotaz","Cena na vyžiadanie")))))))
A19: #VALUE! | B19: =CHOOSE(DETAILS!$B$2,"Cienka świeca z wosku pszczelego","Thin beeswax candle","Dünne Bienenwachskerze","Bougie fine en cire d’abeille","Vela fina de cera de abeja","Candela sottile in cera d’api","Tenká svíčka ze včelího vosku","Tenká sviečka zo včelieho vosku") -> Thin beeswax candle | C19: =CHOOSE(DETAILS!$B$2,"Biała","White","Weiß","Blanche","Blanca","Bianco","Bílá","Biela") -> White | D19: 260 × 6 mm | E19: =CHOOSE(DETAILS!$B$2,"szt.","piece","Stück","pièce","unidad","pz.","ks","ks") -> piece | F19: =ROUND(BASE_PRICES!B18*(1+DETAILS!$B$30)/DETAILS!$B$26,2) -> 1.75 | G19: 0 | H19: =IF(ISNUMBER(PRICES!V18),ROUND(PRICES!V18*(1+DETAILS!$B$30)/DETAILS!$B$26,4),"") -> 0 | I19: =IF(AND(ISNUMBER(PRICES!V18),BASE_PRICES!B18>0),1-PRICES!V18/BASE_PRICES!B18,"") | J19: =IF(ISNUMBER(H19),ROUND(G19*H19,2),"") | K19: Allegro | L19: =IF(NOT(ISNUMBER(G19)),CHOOSE(DETAILS!$B$2,"Wpisz liczbę całkowitą ≥ 0","Enter a whole number ≥ 0","Ganze Zahl ≥ 0 eingeben","Saisir un entier ≥ 0","Introduzca un entero ≥ 0","Inserire un numero intero ≥ 0","Zadejte celé číslo ≥ 0","Zadajte celé číslo ≥ 0"),IF(OR(G19<0,MOD(G19,1)<>0),CHOOSE(DETAILS!$B$2,"Wpisz liczbę całkowitą ≥ 0","Enter a whole number ≥ 0","Ganze Zahl ≥ 0 eingeben","Saisir un entier ≥ 0","Introduzca un entero ≥ 0","Inserire un numero intero ≥ 0","Zadejte celé číslo ≥ 0","Zadajte celé číslo ≥ 0"),IF(G19=0,"",IF(G19<BASE_PRICES!D18,CHOOSE(DETAILS!$B$2,"Minimum: ","Minimum: ","Mindestmenge: ","Minimum : ","Mínimo: ","Minimo: ","Minimum: ","Minimum: ")&BASE_PRICES!D18,IF(MOD(G19,BASE_PRICES!E18)<>0,CHOOSE(DETAILS!$B$2,"Wielokrotność: ","Order in multiples of: ","Bestellen in Vielfachen von: ","Commander par multiples de : ","Pedir en múltiplos de: ","Ordinare in multipli di: ","Objednávejte násobky: ","Objednávajte násobky: ")&BASE_PRICES!E18,IF(ISNUMBER(H19),CHOOSE(DETAILS!$B$2,"Wyceniono","Priced","Bepreist","Chiffré","Calculado","Prezzo calcolato","Cena vypočtena","Cena vypočítaná"),CHOOSE(DETAILS!$B$2,"Cena na zapytanie","Price on request","Preis auf Anfrage","Prix sur demande","Precio a consultar","Prezzo su richiesta","Cena na dotaz","Cena na vyžiadanie")))))))
A20: #VALUE! | B20: =CHOOSE(DETAILS!$B$2,"Cienka świeca z wosku pszczelego","Thin beeswax candle","Dünne Bienenwachskerze","Bougie fine en cire d’abeille","Vela fina de cera de abeja","Candela sottile in cera d’api","Tenká svíčka ze včelího vosku","Tenká sviečka zo včelieho vosku") -> Thin beeswax candle | C20: =CHOOSE(DETAILS!$B$2,"Błękitna","Light blue","Hellblau","Bleu clair","Azul claro","Azzurro","Světle modrá","Svetlomodrá") -> Light blue | D20: 260 × 6 mm | E20: =CHOOSE(DETAILS!$B$2,"szt.","piece","Stück","pièce","unidad","pz.","ks","ks") -> piece | F20: =ROUND(BASE_PRICES!B19*(1+DETAILS!$B$30)/DETAILS!$B$26,2) -> 1.75 | G20: 0 | H20: =IF(ISNUMBER(PRICES!V19),ROUND(PRICES!V19*(1+DETAILS!$B$30)/DETAILS!$B$26,4),"") -> 0 | I20: =IF(AND(ISNUMBER(PRICES!V19),BASE_PRICES!B19>0),1-PRICES!V19/BASE_PRICES!B19,"") | J20: =IF(ISNUMBER(H20),ROUND(G20*H20,2),"") | K20: Allegro | L20: =IF(NOT(ISNUMBER(G20)),CHOOSE(DETAILS!$B$2,"Wpisz liczbę całkowitą ≥ 0","Enter a whole number ≥ 0","Ganze Zahl ≥ 0 eingeben","Saisir un entier ≥ 0","Introduzca un entero ≥ 0","Inserire un numero intero ≥ 0","Zadejte celé číslo ≥ 0","Zadajte celé číslo ≥ 0"),IF(OR(G20<0,MOD(G20,1)<>0),CHOOSE(DETAILS!$B$2,"Wpisz liczbę całkowitą ≥ 0","Enter a whole number ≥ 0","Ganze Zahl ≥ 0 eingeben","Saisir un entier ≥ 0","Introduzca un entero ≥ 0","Inserire un numero intero ≥ 0","Zadejte celé číslo ≥ 0","Zadajte celé číslo ≥ 0"),IF(G20=0,"",IF(G20<BASE_PRICES!D19,CHOOSE(DETAILS!$B$2,"Minimum: ","Minimum: ","Mindestmenge: ","Minimum : ","Mínimo: ","Minimo: ","Minimum: ","Minimum: ")&BASE_PRICES!D19,IF(MOD(G20,BASE_PRICES!E19)<>0,CHOOSE(DETAILS!$B$2,"Wielokrotność: ","Order in multiples of: ","Bestellen in Vielfachen von: ","Commander par multiples de : ","Pedir en múltiplos de: ","Ordinare in multipli di: ","Objednávejte násobky: ","Objednávajte násobky: ")&BASE_PRICES!E19,IF(ISNUMBER(H20),CHOOSE(DETAILS!$B$2,"Wyceniono","Priced","Bepreist","Chiffré","Calculado","Prezzo calcolato","Cena vypočtena","Cena vypočítaná"),CHOOSE(DETAILS!$B$2,"Cena na zapytanie","Price on request","Preis auf Anfrage","Prix sur demande","Precio a consultar","Prezzo su richiesta","Cena na dotaz","Cena na vyžiadanie")))))))
A21: #VALUE! | B21: =CHOOSE(DETAILS!$B$2,"Cienka świeca z wosku pszczelego","Thin beeswax candle","Dünne Bienenwachskerze","Bougie fine en cire d’abeille","Vela fina de cera de abeja","Candela sottile in cera d’api","Tenká svíčka ze včelího vosku","Tenká sviečka zo včelieho vosku") -> Thin beeswax candle | C21: =CHOOSE(DETAILS!$B$2,"Zielona","Green","Grün","Verte","Verde","Verde","Zelená","Zelená") -> Green | D21: 260 × 6 mm | E21: =CHOOSE(DETAILS!$B$2,"szt.","piece","Stück","pièce","unidad","pz.","ks","ks") -> piece | F21: =ROUND(BASE_PRICES!B20*(1+DETAILS!$B$30)/DETAILS!$B$26,2) -> 1.75 | G21: 0 | H21: =IF(ISNUMBER(PRICES!V20),ROUND(PRICES!V20*(1+DETAILS!$B$30)/DETAILS!$B$26,4),"") -> 0 | I21: =IF(AND(ISNUMBER(PRICES!V20),BASE_PRICES!B20>0),1-PRICES!V20/BASE_PRICES!B20,"") | J21: =IF(ISNUMBER(H21),ROUND(G21*H21,2),"") | K21: Allegro | L21: =IF(NOT(ISNUMBER(G21)),CHOOSE(DETAILS!$B$2,"Wpisz liczbę całkowitą ≥ 0","Enter a whole number ≥ 0","Ganze Zahl ≥ 0 eingeben","Saisir un entier ≥ 0","Introduzca un entero ≥ 0","Inserire un numero intero ≥ 0","Zadejte celé číslo ≥ 0","Zadajte celé číslo ≥ 0"),IF(OR(G21<0,MOD(G21,1)<>0),CHOOSE(DETAILS!$B$2,"Wpisz liczbę całkowitą ≥ 0","Enter a whole number ≥ 0","Ganze Zahl ≥ 0 eingeben","Saisir un entier ≥ 0","Introduzca un entero ≥ 0","Inserire un numero intero ≥ 0","Zadejte celé číslo ≥ 0","Zadajte celé číslo ≥ 0"),IF(G21=0,"",IF(G21<BASE_PRICES!D20,CHOOSE(DETAILS!$B$2,"Minimum: ","Minimum: ","Mindestmenge: ","Minimum : ","Mínimo: ","Minimo: ","Minimum: ","Minimum: ")&BASE_PRICES!D20,IF(MOD(G21,BASE_PRICES!E20)<>0,CHOOSE(DETAILS!$B$2,"Wielokrotność: ","Order in multiples of: ","Bestellen in Vielfachen von: ","Commander par multiples de : ","Pedir en múltiplos de: ","Ordinare in multipli di: ","Objednávejte násobky: ","Objednávajte násobky: ")&BASE_PRICES!E20,IF(ISNUMBER(H21),CHOOSE(DETAILS!$B$2,"Wyceniono","Priced","Bepreist","Chiffré","Calculado","Prezzo calcolato","Cena vypočtena","Cena vypočítaná"),CHOOSE(DETAILS!$B$2,"Cena na zapytanie","Price on request","Preis auf Anfrage","Prix sur demande","Precio a consultar","Prezzo su richiesta","Cena na dotaz","Cena na vyžiadanie")))))))
A22: #VALUE! | B22: =CHOOSE(DETAILS!$B$2,"Cienka świeca z wosku pszczelego","Thin beeswax candle","Dünne Bienenwachskerze","Bougie fine en cire d’abeille","Vela fina de cera de abeja","Candela sottile in cera d’api","Tenká svíčka ze včelího vosku","Tenká sviečka zo včelieho vosku") -> Thin beeswax candle | C22: =CHOOSE(DETAILS!$B$2,"Brązowa","Brown","Braun","Marron","Marrón","Marrone","Hnědá","Hnedá") -> Brown | D22: 260 × 6 mm | E22: =CHOOSE(DETAILS!$B$2,"szt.","piece","Stück","pièce","unidad","pz.","ks","ks") -> piece | F22: =ROUND(BASE_PRICES!B21*(1+DETAILS!$B$30)/DETAILS!$B$26,2) -> 1.75 | G22: 0 | H22: =IF(ISNUMBER(PRICES!V21),ROUND(PRICES!V21*(1+DETAILS!$B$30)/DETAILS!$B$26,4),"") -> 0 | I22: =IF(AND(ISNUMBER(PRICES!V21),BASE_PRICES!B21>0),1-PRICES!V21/BASE_PRICES!B21,"") | J22: =IF(ISNUMBER(H22),ROUND(G22*H22,2),"") | K22: Allegro | L22: =IF(NOT(ISNUMBER(G22)),CHOOSE(DETAILS!$B$2,"Wpisz liczbę całkowitą ≥ 0","Enter a whole number ≥ 0","Ganze Zahl ≥ 0 eingeben","Saisir un entier ≥ 0","Introduzca un entero ≥ 0","Inserire un numero intero ≥ 0","Zadejte celé číslo ≥ 0","Zadajte celé číslo ≥ 0"),IF(OR(G22<0,MOD(G22,1)<>0),CHOOSE(DETAILS!$B$2,"Wpisz liczbę całkowitą ≥ 0","Enter a whole number ≥ 0","Ganze Zahl ≥ 0 eingeben","Saisir un entier ≥ 0","Introduzca un entero ≥ 0","Inserire un numero intero ≥ 0","Zadejte celé číslo ≥ 0","Zadajte celé číslo ≥ 0"),IF(G22=0,"",IF(G22<BASE_PRICES!D21,CHOOSE(DETAILS!$B$2,"Minimum: ","Minimum: ","Mindestmenge: ","Minimum : ","Mínimo: ","Minimo: ","Minimum: ","Minimum: ")&BASE_PRICES!D21,IF(MOD(G22,BASE_PRICES!E21)<>0,CHOOSE(DETAILS!$B$2,"Wielokrotność: ","Order in multiples of: ","Bestellen in Vielfachen von: ","Commander par multiples de : ","Pedir en múltiplos de: ","Ordinare in multipli di: ","Objednávejte násobky: ","Objednávajte násobky: ")&BASE_PRICES!E21,IF(ISNUMBER(H22),CHOOSE(DETAILS!$B$2,"Wyceniono","Priced","Bepreist","Chiffré","Calculado","Prezzo calcolato","Cena vypočtena","Cena vypočítaná"),CHOOSE(DETAILS!$B$2,"Cena na zapytanie","Price on request","Preis auf Anfrage","Prix sur demande","Precio a consultar","Prezzo su richiesta","Cena na dotaz","Cena na vyžiadanie")))))))
A23: #VALUE! | B23: =CHOOSE(DETAILS!$B$2,"Cienka świeca z wosku pszczelego","Thin beeswax candle","Dünne Bienenwachskerze","Bougie fine en cire d’abeille","Vela fina de cera de abeja","Candela sottile in cera d’api","Tenká svíčka ze včelího vosku","Tenká sviečka zo včelieho vosku") -> Thin beeswax candle | C23: =CHOOSE(DETAILS!$B$2,"Naturalna","Natural","Natur","Naturelle","Natural","Naturale","Přírodní","Prírodná") -> Natural | D23: 260 × 6 mm | E23: =CHOOSE(DETAILS!$B$2,"szt.","piece","Stück","pièce","unidad","pz.","ks","ks") -> piece | F23: =ROUND(BASE_PRICES!B22*(1+DETAILS!$B$30)/DETAILS!$B$26,2) -> 1.75 | G23: 0 | H23: =IF(ISNUMBER(PRICES!V22),ROUND(PRICES!V22*(1+DETAILS!$B$30)/DETAILS!$B$26,4),"") -> 0 | I23: =IF(AND(ISNUMBER(PRICES!V22),BASE_PRICES!B22>0),1-PRICES!V22/BASE_PRICES!B22,"") | J23: =IF(ISNUMBER(H23),ROUND(G23*H23,2),"") | K23: Allegro | L23: =IF(NOT(ISNUMBER(G23)),CHOOSE(DETAILS!$B$2,"Wpisz liczbę całkowitą ≥ 0","Enter a whole number ≥ 0","Ganze Zahl ≥ 0 eingeben","Saisir un entier ≥ 0","Introduzca un entero ≥ 0","Inserire un numero intero ≥ 0","Zadejte celé číslo ≥ 0","Zadajte celé číslo ≥ 0"),IF(OR(G23<0,MOD(G23,1)<>0),CHOOSE(DETAILS!$B$2,"Wpisz liczbę całkowitą ≥ 0","Enter a whole number ≥ 0","Ganze Zahl ≥ 0 eingeben","Saisir un entier ≥ 0","Introduzca un entero ≥ 0","Inserire un numero intero ≥ 0","Zadejte celé číslo ≥ 0","Zadajte celé číslo ≥ 0"),IF(G23=0,"",IF(G23<BASE_PRICES!D22,CHOOSE(DETAILS!$B$2,"Minimum: ","Minimum: ","Mindestmenge: ","Minimum : ","Mínimo: ","Minimo: ","Minimum: ","Minimum: ")&BASE_PRICES!D22,IF(MOD(G23,BASE_PRICES!E22)<>0,CHOOSE(DETAILS!$B$2,"Wielokrotność: ","Order in multiples of: ","Bestellen in Vielfachen von: ","Commander par multiples de : ","Pedir en múltiplos de: ","Ordinare in multipli di: ","Objednávejte násobky: ","Objednávajte násobky: ")&BASE_PRICES!E22,IF(ISNUMBER(H23),CHOOSE(DETAILS!$B$2,"Wyceniono","Priced","Bepreist","Chiffré","Calculado","Prezzo calcolato","Cena vypočtena","Cena vypočítaná"),CHOOSE(DETAILS!$B$2,"Cena na zapytanie","Price on request","Preis auf Anfrage","Prix sur demande","Precio a consultar","Prezzo su richiesta","Cena na dotaz","Cena na vyžiadanie")))))))
A24: #VALUE! | B24: =CHOOSE(DETAILS!$B$2,"Cienka świeca z wosku pszczelego","Thin beeswax candle","Dünne Bienenwachskerze","Bougie fine en cire d’abeille","Vela fina de cera de abeja","Candela sottile in cera d’api","Tenká svíčka ze včelího vosku","Tenká sviečka zo včelieho vosku") -> Thin beeswax candle | C24: =CHOOSE(DETAILS!$B$2,"Pomarańczowa","Orange","Orange","Orange","Naranja","Arancione","Oranžová","Oranžová") -> Orange | D24: 260 × 6 mm | E24: =CHOOSE(DETAILS!$B$2,"szt.","piece","Stück","pièce","unidad","pz.","ks","ks") -> piece | F24: =ROUND(BASE_PRICES!B23*(1+DETAILS!$B$30)/DETAILS!$B$26,2) -> 1.75 | G24: 0 | H24: =IF(ISNUMBER(PRICES!V23),ROUND(PRICES!V23*(1+DETAILS!$B$30)/DETAILS!$B$26,4),"") -> 0 | I24: =IF(AND(ISNUMBER(PRICES!V23),BASE_PRICES!B23>0),1-PRICES!V23/BASE_PRICES!B23,"") | J24: =IF(ISNUMBER(H24),ROUND(G24*H24,2),"") | K24: Allegro | L24: =IF(NOT(ISNUMBER(G24)),CHOOSE(DETAILS!$B$2,"Wpisz liczbę całkowitą ≥ 0","Enter a whole number ≥ 0","Ganze Zahl ≥ 0 eingeben","Saisir un entier ≥ 0","Introduzca un entero ≥ 0","Inserire un numero intero ≥ 0","Zadejte celé číslo ≥ 0","Zadajte celé číslo ≥ 0"),IF(OR(G24<0,MOD(G24,1)<>0),CHOOSE(DETAILS!$B$2,"Wpisz liczbę całkowitą ≥ 0","Enter a whole number ≥ 0","Ganze Zahl ≥ 0 eingeben","Saisir un entier ≥ 0","Introduzca un entero ≥ 0","Inserire un numero intero ≥ 0","Zadejte celé číslo ≥ 0","Zadajte celé číslo ≥ 0"),IF(G24=0,"",IF(G24<BASE_PRICES!D23,CHOOSE(DETAILS!$B$2,"Minimum: ","Minimum: ","Mindestmenge: ","Minimum : ","Mínimo: ","Minimo: ","Minimum: ","Minimum: ")&BASE_PRICES!D23,IF(MOD(G24,BASE_PRICES!E23)<>0,CHOOSE(DETAILS!$B$2,"Wielokrotność: ","Order in multiples of: ","Bestellen in Vielfachen von: ","Commander par multiples de : ","Pedir en múltiplos de: ","Ordinare in multipli di: ","Objednávejte násobky: ","Objednávajte násobky: ")&BASE_PRICES!E23,IF(ISNUMBER(H24),CHOOSE(DETAILS!$B$2,"Wyceniono","Priced","Bepreist","Chiffré","Calculado","Prezzo calcolato","Cena vypočtena","Cena vypočítaná"),CHOOSE(DETAILS!$B$2,"Cena na zapytanie","Price on request","Preis auf Anfrage","Prix sur demande","Precio a consultar","Prezzo su richiesta","Cena na dotaz","Cena na vyžiadanie")))))))
A25: #VALUE! | B25: =CHOOSE(DETAILS!$B$2,"Cienka świeca z wosku pszczelego","Thin beeswax candle","Dünne Bienenwachskerze","Bougie fine en cire d’abeille","Vela fina de cera de abeja","Candela sottile in cera d’api","Tenká svíčka ze včelího vosku","Tenká sviečka zo včelieho vosku") -> Thin beeswax candle | C25: =CHOOSE(DETAILS!$B$2,"Różowa","Pink","Rosa","Rose","Rosa","Rosa","Růžová","Ružová") -> Pink | D25: 260 × 6 mm | E25: =CHOOSE(DETAILS!$B$2,"szt.","piece","Stück","pièce","unidad","pz.","ks","ks") -> piece | F25: =ROUND(BASE_PRICES!B24*(1+DETAILS!$B$30)/DETAILS!$B$26,2) -> 1.75 | G25: 0 | H25: =IF(ISNUMBER(PRICES!V24),ROUND(PRICES!V24*(1+DETAILS!$B$30)/DETAILS!$B$26,4),"") -> 0 | I25: =IF(AND(ISNUMBER(PRICES!V24),BASE_PRICES!B24>0),1-PRICES!V24/BASE_PRICES!B24,"") | J25: =IF(ISNUMBER(H25),ROUND(G25*H25,2),"") | K25: Allegro | L25: =IF(NOT(ISNUMBER(G25)),CHOOSE(DETAILS!$B$2,"Wpisz liczbę całkowitą ≥ 0","Enter a whole number ≥ 0","Ganze Zahl ≥ 0 eingeben","Saisir un entier ≥ 0","Introduzca un entero ≥ 0","Inserire un numero intero ≥ 0","Zadejte celé číslo ≥ 0","Zadajte celé číslo ≥ 0"),IF(OR(G25<0,MOD(G25,1)<>0),CHOOSE(DETAILS!$B$2,"Wpisz liczbę całkowitą ≥ 0","Enter a whole number ≥ 0","Ganze Zahl ≥ 0 eingeben","Saisir un entier ≥ 0","Introduzca un entero ≥ 0","Inserire un numero intero ≥ 0","Zadejte celé číslo ≥ 0","Zadajte celé číslo ≥ 0"),IF(G25=0,"",IF(G25<BASE_PRICES!D24,CHOOSE(DETAILS!$B$2,"Minimum: ","Minimum: ","Mindestmenge: ","Minimum : ","Mínimo: ","Minimo: ","Minimum: ","Minimum: ")&BASE_PRICES!D24,IF(MOD(G25,BASE_PRICES!E24)<>0,CHOOSE(DETAILS!$B$2,"Wielokrotność: ","Order in multiples of: ","Bestellen in Vielfachen von: ","Commander par multiples de : ","Pedir en múltiplos de: ","Ordinare in multipli di: ","Objednávejte násobky: ","Objednávajte násobky: ")&BASE_PRICES!E24,IF(ISNUMBER(H25),CHOOSE(DETAILS!$B$2,"Wyceniono","Priced","Bepreist","Chiffré","Calculado","Prezzo calcolato","Cena vypočtena","Cena vypočítaná"),CHOOSE(DETAILS!$B$2,"Cena na zapytanie","Price on request","Preis auf Anfrage","Prix sur demande","Precio a consultar","Prezzo su richiesta","Cena na dotaz","Cena na vyžiadanie")))))))
A26: #VALUE! | B26: =CHOOSE(DETAILS!$B$2,"Cienka świeca z wosku pszczelego","Thin beeswax candle","Dünne Bienenwachskerze","Bougie fine en cire d’abeille","Vela fina de cera de abeja","Candela sottile in cera d’api","Tenká svíčka ze včelího vosku","Tenká sviečka zo včelieho vosku") -> Thin beeswax candle | C26: =CHOOSE(DETAILS!$B$2,"Niebieska","Blue","Blau","Bleue","Azul","Blu","Modrá","Modrá") -> Blue | D26: 260 × 6 mm | E26: =CHOOSE(DETAILS!$B$2,"szt.","piece","Stück","pièce","unidad","pz.","ks","ks") -> piece | F26: =ROUND(BASE_PRICES!B25*(1+DETAILS!$B$30)/DETAILS!$B$26,2) -> 1.75 | G26: 0 | H26: =IF(ISNUMBER(PRICES!V25),ROUND(PRICES!V25*(1+DETAILS!$B$30)/DETAILS!$B$26,4),"") -> 0 | I26: =IF(AND(ISNUMBER(PRICES!V25),BASE_PRICES!B25>0),1-PRICES!V25/BASE_PRICES!B25,"") | J26: =IF(ISNUMBER(H26),ROUND(G26*H26,2),"") | K26: Allegro | L26: =IF(NOT(ISNUMBER(G26)),CHOOSE(DETAILS!$B$2,"Wpisz liczbę całkowitą ≥ 0","Enter a whole number ≥ 0","Ganze Zahl ≥ 0 eingeben","Saisir un entier ≥ 0","Introduzca un entero ≥ 0","Inserire un numero intero ≥ 0","Zadejte celé číslo ≥ 0","Zadajte celé číslo ≥ 0"),IF(OR(G26<0,MOD(G26,1)<>0),CHOOSE(DETAILS!$B$2,"Wpisz liczbę całkowitą ≥ 0","Enter a whole number ≥ 0","Ganze Zahl ≥ 0 eingeben","Saisir un entier ≥ 0","Introduzca un entero ≥ 0","Inserire un numero intero ≥ 0","Zadejte celé číslo ≥ 0","Zadajte celé číslo ≥ 0"),IF(G26=0,"",IF(G26<BASE_PRICES!D25,CHOOSE(DETAILS!$B$2,"Minimum: ","Minimum: ","Mindestmenge: ","Minimum : ","Mínimo: ","Minimo: ","Minimum: ","Minimum: ")&BASE_PRICES!D25,IF(MOD(G26,BASE_PRICES!E25)<>0,CHOOSE(DETAILS!$B$2,"Wielokrotność: ","Order in multiples of: ","Bestellen in Vielfachen von: ","Commander par multiples de : ","Pedir en múltiplos de: ","Ordinare in multipli di: ","Objednávejte násobky: ","Objednávajte násobky: ")&BASE_PRICES!E25,IF(ISNUMBER(H26),CHOOSE(DETAILS!$B$2,"Wyceniono","Priced","Bepreist","Chiffré","Calculado","Prezzo calcolato","Cena vypočtena","Cena vypočítaná"),CHOOSE(DETAILS!$B$2,"Cena na zapytanie","Price on request","Preis auf Anfrage","Prix sur demande","Precio a consultar","Prezzo su richiesta","Cena na dotaz","Cena na vyžiadanie")))))))
A27: #VALUE! | B27: =CHOOSE(DETAILS!$B$2,"Cienka świeca z wosku pszczelego","Thin beeswax candle","Dünne Bienenwachskerze","Bougie fine en cire d’abeille","Vela fina de cera de abeja","Candela sottile in cera d’api","Tenká svíčka ze včelího vosku","Tenká sviečka zo včelieho vosku") -> Thin beeswax candle | C27: =CHOOSE(DETAILS!$B$2,"Fioletowa","Purple","Violett","Violette","Violeta","Viola","Fialová","Fialová") -> Purple | D27: 260 × 6 mm | E27: =CHOOSE(DETAILS!$B$2,"szt.","piece","Stück","pièce","unidad","pz.","ks","ks") -> piece | F27: =ROUND(BASE_PRICES!B26*(1+DETAILS!$B$30)/DETAILS!$B$26,2) -> 1.75 | G27: 0 | H27: =IF(ISNUMBER(PRICES!V26),ROUND(PRICES!V26*(1+DETAILS!$B$30)/DETAILS!$B$26,4),"") -> 0 | I27: =IF(AND(ISNUMBER(PRICES!V26),BASE_PRICES!B26>0),1-PRICES!V26/BASE_PRICES!B26,"") | J27: =IF(ISNUMBER(H27),ROUND(G27*H27,2),"") | K27: Allegro | L27: =IF(NOT(ISNUMBER(G27)),CHOOSE(DETAILS!$B$2,"Wpisz liczbę całkowitą ≥ 0","Enter a whole number ≥ 0","Ganze Zahl ≥ 0 eingeben","Saisir un entier ≥ 0","Introduzca un entero ≥ 0","Inserire un numero intero ≥ 0","Zadejte celé číslo ≥ 0","Zadajte celé číslo ≥ 0"),IF(OR(G27<0,MOD(G27,1)<>0),CHOOSE(DETAILS!$B$2,"Wpisz liczbę całkowitą ≥ 0","Enter a whole number ≥ 0","Ganze Zahl ≥ 0 eingeben","Saisir un entier ≥ 0","Introduzca un entero ≥ 0","Inserire un numero intero ≥ 0","Zadejte celé číslo ≥ 0","Zadajte celé číslo ≥ 0"),IF(G27=0,"",IF(G27<BASE_PRICES!D26,CHOOSE(DETAILS!$B$2,"Minimum: ","Minimum: ","Mindestmenge: ","Minimum : ","Mínimo: ","Minimo: ","Minimum: ","Minimum: ")&BASE_PRICES!D26,IF(MOD(G27,BASE_PRICES!E26)<>0,CHOOSE(DETAILS!$B$2,"Wielokrotność: ","Order in multiples of: ","Bestellen in Vielfachen von: ","Commander par multiples de : ","Pedir en múltiplos de: ","Ordinare in multipli di: ","Objednávejte násobky: ","Objednávajte násobky: ")&BASE_PRICES!E26,IF(ISNUMBER(H27),CHOOSE(DETAILS!$B$2,"Wyceniono","Priced","Bepreist","Chiffré","Calculado","Prezzo calcolato","Cena vypočtena","Cena vypočítaná"),CHOOSE(DETAILS!$B$2,"Cena na zapytanie","Price on request","Preis auf Anfrage","Prix sur demande","Precio a consultar","Prezzo su richiesta","Cena na dotaz","Cena na vyžiadanie")))))))
A28: #VALUE! | B28: =CHOOSE(DETAILS!$B$2,"Cienka świeca z wosku pszczelego","Thin beeswax candle","Dünne Bienenwachskerze","Bougie fine en cire d’abeille","Vela fina de cera de abeja","Candela sottile in cera d’api","Tenká svíčka ze včelího vosku","Tenká sviečka zo včelieho vosku") -> Thin beeswax candle | C28: =CHOOSE(DETAILS!$B$2,"Czerwona","Red","Rot","Rouge","Roja","Rosso","Červená","Červená") -> Red | D28: 260 × 6 mm | E28: =CHOOSE(DETAILS!$B$2,"szt.","piece","Stück","pièce","unidad","pz.","ks","ks") -> piece | F28: =ROUND(BASE_PRICES!B27*(1+DETAILS!$B$30)/DETAILS!$B$26,2) -> 1.75 | G28: 0 | H28: =IF(ISNUMBER(PRICES!V27),ROUND(PRICES!V27*(1+DETAILS!$B$30)/DETAILS!$B$26,4),"") -> 0 | I28: =IF(AND(ISNUMBER(PRICES!V27),BASE_PRICES!B27>0),1-PRICES!V27/BASE_PRICES!B27,"") | J28: =IF(ISNUMBER(H28),ROUND(G28*H28,2),"") | K28: Allegro | L28: =IF(NOT(ISNUMBER(G28)),CHOOSE(DETAILS!$B$2,"Wpisz liczbę całkowitą ≥ 0","Enter a whole number ≥ 0","Ganze Zahl ≥ 0 eingeben","Saisir un entier ≥ 0","Introduzca un entero ≥ 0","Inserire un numero intero ≥ 0","Zadejte celé číslo ≥ 0","Zadajte celé číslo ≥ 0"),IF(OR(G28<0,MOD(G28,1)<>0),CHOOSE(DETAILS!$B$2,"Wpisz liczbę całkowitą ≥ 0","Enter a whole number ≥ 0","Ganze Zahl ≥ 0 eingeben","Saisir un entier ≥ 0","Introduzca un entero ≥ 0","Inserire un numero intero ≥ 0","Zadejte celé číslo ≥ 0","Zadajte celé číslo ≥ 0"),IF(G28=0,"",IF(G28<BASE_PRICES!D27,CHOOSE(DETAILS!$B$2,"Minimum: ","Minimum: ","Mindestmenge: ","Minimum : ","Mínimo: ","Minimo: ","Minimum: ","Minimum: ")&BASE_PRICES!D27,IF(MOD(G28,BASE_PRICES!E27)<>0,CHOOSE(DETAILS!$B$2,"Wielokrotność: ","Order in multiples of: ","Bestellen in Vielfachen von: ","Commander par multiples de : ","Pedir en múltiplos de: ","Ordinare in multipli di: ","Objednávejte násobky: ","Objednávajte násobky: ")&BASE_PRICES!E27,IF(ISNUMBER(H28),CHOOSE(DETAILS!$B$2,"Wyceniono","Priced","Bepreist","Chiffré","Calculado","Prezzo calcolato","Cena vypočtena","Cena vypočítaná"),CHOOSE(DETAILS!$B$2,"Cena na zapytanie","Price on request","Preis auf Anfrage","Prix sur demande","Precio a consultar","Prezzo su richiesta","Cena na dotaz","Cena na vyžiadanie")))))))
A29: #VALUE! | B29: =CHOOSE(DETAILS!$B$2,"Cienka świeca z wosku pszczelego","Thin beeswax candle","Dünne Bienenwachskerze","Bougie fine en cire d’abeille","Vela fina de cera de abeja","Candela sottile in cera d’api","Tenká svíčka ze včelího vosku","Tenká sviečka zo včelieho vosku") -> Thin beeswax candle | C29: =CHOOSE(DETAILS!$B$2,"Czarna","Black","Schwarz","Noire","Negra","Nero","Černá","Čierna") -> Black | D29: 260 × 6 mm | E29: =CHOOSE(DETAILS!$B$2,"szt.","piece","Stück","pièce","unidad","pz.","ks","ks") -> piece | F29: =ROUND(BASE_PRICES!B28*(1+DETAILS!$B$30)/DETAILS!$B$26,2) -> 1.75 | G29: 0 | H29: =IF(ISNUMBER(PRICES!V28),ROUND(PRICES!V28*(1+DETAILS!$B$30)/DETAILS!$B$26,4),"") -> 0 | I29: =IF(AND(ISNUMBER(PRICES!V28),BASE_PRICES!B28>0),1-PRICES!V28/BASE_PRICES!B28,"") | J29: =IF(ISNUMBER(H29),ROUND(G29*H29,2),"") | K29: Allegro | L29: =IF(NOT(ISNUMBER(G29)),CHOOSE(DETAILS!$B$2,"Wpisz liczbę całkowitą ≥ 0","Enter a whole number ≥ 0","Ganze Zahl ≥ 0 eingeben","Saisir un entier ≥ 0","Introduzca un entero ≥ 0","Inserire un numero intero ≥ 0","Zadejte celé číslo ≥ 0","Zadajte celé číslo ≥ 0"),IF(OR(G29<0,MOD(G29,1)<>0),CHOOSE(DETAILS!$B$2,"Wpisz liczbę całkowitą ≥ 0","Enter a whole number ≥ 0","Ganze Zahl ≥ 0 eingeben","Saisir un entier ≥ 0","Introduzca un entero ≥ 0","Inserire un numero intero ≥ 0","Zadejte celé číslo ≥ 0","Zadajte celé číslo ≥ 0"),IF(G29=0,"",IF(G29<BASE_PRICES!D28,CHOOSE(DETAILS!$B$2,"Minimum: ","Minimum: ","Mindestmenge: ","Minimum : ","Mínimo: ","Minimo: ","Minimum: ","Minimum: ")&BASE_PRICES!D28,IF(MOD(G29,BASE_PRICES!E28)<>0,CHOOSE(DETAILS!$B$2,"Wielokrotność: ","Order in multiples of: ","Bestellen in Vielfachen von: ","Commander par multiples de : ","Pedir en múltiplos de: ","Ordinare in multipli di: ","Objednávejte násobky: ","Objednávajte násobky: ")&BASE_PRICES!E28,IF(ISNUMBER(H29),CHOOSE(DETAILS!$B$2,"Wyceniono","Priced","Bepreist","Chiffré","Calculado","Prezzo calcolato","Cena vypočtena","Cena vypočítaná"),CHOOSE(DETAILS!$B$2,"Cena na zapytanie","Price on request","Preis auf Anfrage","Prix sur demande","Precio a consultar","Prezzo su richiesta","Cena na dotaz","Cena na vyžiadanie")))))))
A30: #VALUE! | B30: =CHOOSE(DETAILS!$B$2,"Świeca — sprawy urzędowe i prawne","Candle — administrative and legal matters","Kerze — Behörden- und Rechtsangelegenheiten","Bougie — démarches administratives et juridiques","Vela — asuntos administrativos y legales","Candela — questioni amministrative e legali","Svíčka — úřední a právní záležitosti","Sviečka — úradné a právne záležitosti") -> Candle — administrative and legal matters | C30: =CHOOSE(DETAILS!$B$2,"Błękitna","Light blue","Hellblau","Bleu clair ","Celeste","Azzurro","Světle modrá","Svetlomodrá") -> Light blue | D30: 150х20 | E30: =CHOOSE(DETAILS!$B$2,"szt.","piece","Stück","pièce","unidad","pz.","ks","ks") -> piece | F30: =ROUND(BASE_PRICES!B29*(1+DETAILS!$B$30)/DETAILS!$B$26,2) -> 36.16 | G30: 0 | H30: =IF(ISNUMBER(PRICES!V29),ROUND(PRICES!V29*(1+DETAILS!$B$30)/DETAILS!$B$26,4),"") -> 0 | I30: =IF(AND(ISNUMBER(PRICES!V29),BASE_PRICES!B29>0),1-PRICES!V29/BASE_PRICES!B29,"") | J30: =IF(ISNUMBER(H30),ROUND(G30*H30,2),"") | K30: Allegro | L30: =IF(NOT(ISNUMBER(G30)),CHOOSE(DETAILS!$B$2,"Wpisz liczbę całkowitą ≥ 0","Enter a whole number ≥ 0","Ganze Zahl ≥ 0 eingeben","Saisir un entier ≥ 0","Introduzca un entero ≥ 0","Inserire un numero intero ≥ 0","Zadejte celé číslo ≥ 0","Zadajte celé číslo ≥ 0"),IF(OR(G30<0,MOD(G30,1)<>0),CHOOSE(DETAILS!$B$2,"Wpisz liczbę całkowitą ≥ 0","Enter a whole number ≥ 0","Ganze Zahl ≥ 0 eingeben","Saisir un entier ≥ 0","Introduzca un entero ≥ 0","Inserire un numero intero ≥ 0","Zadejte celé číslo ≥ 0","Zadajte celé číslo ≥ 0"),IF(G30=0,"",IF(G30<BASE_PRICES!D29,CHOOSE(DETAILS!$B$2,"Minimum: ","Minimum: ","Mindestmenge: ","Minimum : ","Mínimo: ","Minimo: ","Minimum: ","Minimum: ")&BASE_PRICES!D29,IF(MOD(G30,BASE_PRICES!E29)<>0,CHOOSE(DETAILS!$B$2,"Wielokrotność: ","Order in multiples of: ","Bestellen in Vielfachen von: ","Commander par multiples de : ","Pedir en múltiplos de: ","Ordinare in multipli di: ","Objednávejte násobky: ","Objednávajte násobky: ")&BASE_PRICES!E29,IF(ISNUMBER(H30),CHOOSE(DETAILS!$B$2,"Wyceniono","Priced","Bepreist","Chiffré","Calculado","Prezzo calcolato","Cena vypočtena","Cena vypočítaná"),CHOOSE(DETAILS!$B$2,"Cena na zapytanie","Price on request","Preis auf Anfrage","Prix sur demande","Precio a consultar","Prezzo su richiesta","Cena na dotaz","Cena na vyžiadanie")))))))
