Workbook

Sheet ORDER
A1: DIVINE ALCHEMY BY IREN | F1: =CHOOSE(DETAILS!$B$2,"Oferta B2B i formularz zamówienia","B2B offer and order form","B2B-Angebot und Bestellformular","Offre B2B et bon de commande","Oferta B2B y formulario de pedido","Offerta B2B e modulo d’ordine","B2B nabídka a objednávkový formulář","B2B ponuka a objednávkový formulár") -> B2B offer and order form
A2: =CHOOSE(DETAILS!$B$2,"Język","Language","Sprache","Langue","Idioma","Lingua","Jazyk","Jazyk") -> Language | B2: English | C2: =CHOOSE(DETAILS!$B$2,"Kraj dostawy","Delivery country","Lieferland","Pays de livraison","País de entrega","Paese di consegna","Země doručení","Krajina doručenia") -> Delivery country | D2: PL | E2: =CHOOSE(DETAILS!$B$2,"Waluta","Currency","Währung","Devise","Moneda","Valuta","Měna","Mena") -> Currency | F2: AUTO | G2: =DETAILS!$B$27 -> PLN | H2: =CHOOSE(DETAILS!$B$2,"Suma","Total","Summe","Total","Total","Totale","Celkem","Spolu") -> Total | J2: =IF(L3>0,CHOOSE(DETAILS!$B$2,"Cena na zapytanie","Price on request","Preis auf Anfrage","Prix sur demande","Precio a consultar","Prezzo su richiesta","Cena na dotaz","Cena na vyžiadanie"),SUM(J6:J58)) -> 0
A3: =CHOOSE(DETAILS!$B$2,"AUTO: waluta kraju dostawy. Język nie zmienia cen. Ilości wpisz w żółtej kolumnie G.","AUTO: destination currency. Language does not change prices. Enter quantities in yellow column G.","AUTO: Währung des Lieferlandes. Die Sprache ändert keine Preise. Mengen in gelbe Spalte G eintragen.","AUTO : devise du pays de livraison. La langue ne modifie pas les prix. Quantités en colonne jaune G.","AUTO: moneda del país de entrega. El idioma no cambia los precios. Cantidades en la columna amarilla G.","AUTO: valuta del paese di consegna. La lingua non modifica i prezzi. Quantità nella colonna gialla G.","AUTO: měna země doručení. Jazyk nemění ceny. Množství zadejte do žlutého sloupce G.","AUTO: mena krajiny doručenia. Jazyk nemení ceny. Množstvá zadajte do žltého stĺpca G.") -> AUTO: destination currency. Language does not change prices. Enter quantities in yellow column G. | H3: =CHOOSE(DETAILS!$B$2,"Pozycje do potwierdzenia","Items to confirm","Zu bestätigende Positionen","Lignes à confirmer","Líneas por confirmar","Voci da confermare","Položky k potvrzení","Položky na potvrdenie") -> Items to confirm | L3: =SUM(PRICES!W5:W57) -> 0
A4: =CHOOSE(DETAILS!$B$2,"Kwoty w wybranej walucie. Dostawa i VAT zostaną potwierdzone przed przyjęciem zamówienia.","Amounts in the selected currency. Delivery and VAT will be confirmed before order acceptance.","Beträge in der gewählten Währung. Versand und Umsatzsteuer werden vor Auftragsannahme bestätigt.","Montants dans la devise choisie. Livraison et TVA à confirmer avant acceptation.","Importes en la moneda seleccionada. Envío e IVA se confirmarán antes de aceptar el pedido.","Importi nella valuta selezionata. Spedizione e trattamento IVA saranno confermati prima dell’accettazione dell’ordine.","Částky ve zvolené měně. Doprava a režim DPH budou potvrzeny před přijetím objednávky.","Sumy vo zvolenej mene. Doprava a režim DPH budú potvrdené pred prijatím objednávky.") -> Amounts in the selected currency. Delivery and VAT will be confirmed before order acceptance.
A5: =CHOOSE(DETAILS!$B$2,"Zdjęcie","Photo","Foto","Photo"," Foto","Foto","Fotografie","Fotografia") -> Photo | B5: =CHOOSE(DETAILS!$B$2,"Produkt","Product","Produkt","Produit","Producto","Prodotto","Produkt","Produkt") -> Product | C5: =CHOOSE(DETAILS!$B$2,"Kolor","Colour","Farbe","Couleur","Color","Colore","Barva","Farba") -> Colour | D5: =CHOOSE(DETAILS!$B$2,"Rozmiar","Size","Größe","Dimensions","Tamaño","Dimensioni","Rozměry","Rozmery") -> Size | E5: =CHOOSE(DETAILS!$B$2,"Jednostka","Unit","Einheit","Unité","Unidad","Unità","Jednotka","Jednotka") -> Unit | F5: =CHOOSE(DETAILS!$B$2,"Cena bazowa","Reference price","Basispreis","Prix de référence","Precio base","Prezzo di riferimento","Základní cena","Základná cena") -> Reference price | G5: =CHOOSE(DETAILS!$B$2,"Ilość","Quantity","Menge","Quantité","Cantidad","Quantità","Množství","Množstvo") -> Quantity | H5: =CHOOSE(DETAILS!$B$2,"Cena / jedn.","Price / unit","Preis / Einheit","Prix / unité","Precio / unidad","Prezzo / unità","Cena / jednotku","Cena / jednotku") -> Price / unit | I5: =CHOOSE(DETAILS!$B$2,"Rabat","Discount","Rabatt","Remise","Descuento","Sconto","Sleva","Zľava") -> Discount | J5: =CHOOSE(DETAILS!$B$2,"Suma","Total","Summe","Total","Total","Totale","Celkem","Spolu") -> Total | K5: =CHOOSE(DETAILS!$B$2,"Zdjęcia / opinie","Photos / reviews","Fotos / Bewertungen","Photos / avis","Fotos / reseñas","Foto / recensioni","Fotografie / recenze","Fotografie / recenzie") -> Photos / reviews | L5: =CHOOSE(DETAILS!$B$2,"Status","Status","Status","Statut","Estado","Stato","Stav","Stav") -> Status
A6: #VALUE! | B6: =CHOOSE(DETAILS!$B$2,"Kolorowa świeca z wosku pszczelego","Coloured beeswax candle","Farbige Bienenwachskerze","Bougie colorée en cire d’abeille","Vela de cera de abeja de color","Candela colorata in cera d’api","Barevná svíčka ze včelího vosku","Farebná sviečka zo včelieho vosku") -> Coloured beeswax candle | C6: =CHOOSE(DETAILS!$B$2,"Biała","White","Weiß","Blanche","Blanca","Bianco","Bílá","Biela") -> White | D6: 130 × 10 mm | E6: =CHOOSE(DETAILS!$B$2,"szt.","piece","Stück","pièce","unidad","pz.","ks","ks") -> piece | F6: =ROUND(BASE_PRICES!B5*(1+DETAILS!$B$30)/DETAILS!$B$26,2) -> 6.1 | G6: 0 | H6: =IF(ISNUMBER(PRICES!V5),ROUND(PRICES!V5*(1+DETAILS!$B$30)/DETAILS!$B$26,4),"") -> 0 | I6: =IF(AND(ISNUMBER(PRICES!V5),BASE_PRICES!B5>0),1-PRICES!V5/BASE_PRICES!B5,"") | J6: =IF(ISNUMBER(H6),ROUND(G6*H6,2),"") | K6: Allegro | L6: =IF(NOT(ISNUMBER(G6)),CHOOSE(DETAILS!$B$2,"Wpisz liczbę całkowitą ≥ 0","Enter a whole number ≥ 0","Ganze Zahl ≥ 0 eingeben","Saisir un entier ≥ 0","Introduzca un entero ≥ 0","Inserire un numero intero ≥ 0","Zadejte celé číslo ≥ 0","Zadajte celé číslo ≥ 0"),IF(OR(G6<0,MOD(G6,1)<>0),CHOOSE(DETAILS!$B$2,"Wpisz liczbę całkowitą ≥ 0","Enter a whole number ≥ 0","Ganze Zahl ≥ 0 eingeben","Saisir un entier ≥ 0","Introduzca un entero ≥ 0","Inserire un numero intero ≥ 0","Zadejte celé číslo ≥ 0","Zadajte celé číslo ≥ 0"),IF(G6=0,"",IF(G6<BASE_PRICES!D5,CHOOSE(DETAILS!$B$2,"Minimum: ","Minimum: ","Mindestmenge: ","Minimum : ","Mínimo: ","Minimo: ","Minimum: ","Minimum: ")&BASE_PRICES!D5,IF(MOD(G6,BASE_PRICES!E5)<>0,CHOOSE(DETAILS!$B$2,"Wielokrotność: ","Order in multiples of: ","Bestellen in Vielfachen von: ","Commander par multiples de : ","Pedir en múltiplos de: ","Ordinare in multipli di: ","Objednávejte násobky: ","Objednávajte násobky: ")&BASE_PRICES!E5,IF(ISNUMBER(H6),CHOOSE(DETAILS!$B$2,"Wyceniono","Priced","Bepreist","Chiffré","Calculado","Prezzo calcolato","Cena vypočtena","Cena vypočítaná"),CHOOSE(DETAILS!$B$2,"Cena na zapytanie","Price on request","Preis auf Anfrage","Prix sur demande","Precio a consultar","Prezzo su richiesta","Cena na dotaz","Cena na vyžiadanie")))))))
A7: #VALUE! | B7: =CHOOSE(DETAILS!$B$2,"Kolorowa świeca z wosku pszczelego","Coloured beeswax candle","Farbige Bienenwachskerze","Bougie colorée en cire d’abeille","Vela de cera de abeja de color","Candela colorata in cera d’api","Barevná svíčka ze včelího vosku","Farebná sviečka zo včelieho vosku") -> Coloured beeswax candle | C7: =CHOOSE(DETAILS!$B$2,"Błękitna","Light blue","Hellblau","Bleu clair","Azul claro","Azzurro","Světle modrá","Svetlomodrá") -> Light blue | D7: 130 × 10 mm | E7: =CHOOSE(DETAILS!$B$2,"szt.","piece","Stück","pièce","unidad","pz.","ks","ks") -> piece | F7: =ROUND(BASE_PRICES!B6*(1+DETAILS!$B$30)/DETAILS!$B$26,2) -> 6.1 | G7: 0 | H7: =IF(ISNUMBER(PRICES!V6),ROUND(PRICES!V6*(1+DETAILS!$B$30)/DETAILS!$B$26,4),"") -> 0 | I7: =IF(AND(ISNUMBER(PRICES!V6),BASE_PRICES!B6>0),1-PRICES!V6/BASE_PRICES!B6,"") | J7: =IF(ISNUMBER(H7),ROUND(G7*H7,2),"") | K7: Allegro | L7: =IF(NOT(ISNUMBER(G7)),CHOOSE(DETAILS!$B$2,"Wpisz liczbę całkowitą ≥ 0","Enter a whole number ≥ 0","Ganze Zahl ≥ 0 eingeben","Saisir un entier ≥ 0","Introduzca un entero ≥ 0","Inserire un numero intero ≥ 0","Zadejte celé číslo ≥ 0","Zadajte celé číslo ≥ 0"),IF(OR(G7<0,MOD(G7,1)<>0),CHOOSE(DETAILS!$B$2,"Wpisz liczbę całkowitą ≥ 0","Enter a whole number ≥ 0","Ganze Zahl ≥ 0 eingeben","Saisir un entier ≥ 0","Introduzca un entero ≥ 0","Inserire un numero intero ≥ 0","Zadejte celé číslo ≥ 0","Zadajte celé číslo ≥ 0"),IF(G7=0,"",IF(G7<BASE_PRICES!D6,CHOOSE(DETAILS!$B$2,"Minimum: ","Minimum: ","Mindestmenge: ","Minimum : ","Mínimo: ","Minimo: ","Minimum: ","Minimum: ")&BASE_PRICES!D6,IF(MOD(G7,BASE_PRICES!E6)<>0,CHOOSE(DETAILS!$B$2,"Wielokrotność: ","Order in multiples of: ","Bestellen in Vielfachen von: ","Commander par multiples de : ","Pedir en múltiplos de: ","Ordinare in multipli di: ","Objednávejte násobky: ","Objednávajte násobky: ")&BASE_PRICES!E6,IF(ISNUMBER(H7),CHOOSE(DETAILS!$B$2,"Wyceniono","Priced","Bepreist","Chiffré","Calculado","Prezzo calcolato","Cena vypočtena","Cena vypočítaná"),CHOOSE(DETAILS!$B$2,"Cena na zapytanie","Price on request","Preis auf Anfrage","Prix sur demande","Precio a consultar","Prezzo su richiesta","Cena na dotaz","Cena na vyžiadanie")))))))
A8: #VALUE! | B8: =CHOOSE(DETAILS!$B$2,"Kolorowa świeca z wosku pszczelego","Coloured beeswax candle","Farbige Bienenwachskerze","Bougie colorée en cire d’abeille","Vela de cera de abeja de color","Candela colorata in cera d’api","Barevná svíčka ze včelího vosku","Farebná sviečka zo včelieho vosku") -> Coloured beeswax candle | C8: =CHOOSE(DETAILS!$B$2,"Naturalna żółta","Natural yellow","Naturgelb","Jaune naturel","Amarillo natural","Giallo naturale","Přírodní žlutá","Prírodná žltá") -> Natural yellow | D8: 130 × 10 mm | E8: =CHOOSE(DETAILS!$B$2,"szt.","piece","Stück","pièce","unidad","pz.","ks","ks") -> piece | F8: =ROUND(BASE_PRICES!B7*(1+DETAILS!$B$30)/DETAILS!$B$26,2) -> 5.4 | G8: 0 | H8: =IF(ISNUMBER(PRICES!V7),ROUND(PRICES!V7*(1+DETAILS!$B$30)/DETAILS!$B$26,4),"") -> 0 | I8: =IF(AND(ISNUMBER(PRICES!V7),BASE_PRICES!B7>0),1-PRICES!V7/BASE_PRICES!B7,"") | J8: =IF(ISNUMBER(H8),ROUND(G8*H8,2),"") | K8: Allegro | L8: =IF(NOT(ISNUMBER(G8)),CHOOSE(DETAILS!$B$2,"Wpisz liczbę całkowitą ≥ 0","Enter a whole number ≥ 0","Ganze Zahl ≥ 0 eingeben","Saisir un entier ≥ 0","Introduzca un entero ≥ 0","Inserire un numero intero ≥ 0","Zadejte celé číslo ≥ 0","Zadajte celé číslo ≥ 0"),IF(OR(G8<0,MOD(G8,1)<>0),CHOOSE(DETAILS!$B$2,"Wpisz liczbę całkowitą ≥ 0","Enter a whole number ≥ 0","Ganze Zahl ≥ 0 eingeben","Saisir un entier ≥ 0","Introduzca un entero ≥ 0","Inserire un numero intero ≥ 0","Zadejte celé číslo ≥ 0","Zadajte celé číslo ≥ 0"),IF(G8=0,"",IF(G8<BASE_PRICES!D7,CHOOSE(DETAILS!$B$2,"Minimum: ","Minimum: ","Mindestmenge: ","Minimum : ","Mínimo: ","Minimo: ","Minimum: ","Minimum: ")&BASE_PRICES!D7,IF(MOD(G8,BASE_PRICES!E7)<>0,CHOOSE(DETAILS!$B$2,"Wielokrotność: ","Order in multiples of: ","Bestellen in Vielfachen von: ","Commander par multiples de : ","Pedir en múltiplos de: ","Ordinare in multipli di: ","Objednávejte násobky: ","Objednávajte násobky: ")&BASE_PRICES!E7,IF(ISNUMBER(H8),CHOOSE(DETAILS!$B$2,"Wyceniono","Priced","Bepreist","Chiffré","Calculado","Prezzo calcolato","Cena vypočtena","Cena vypočítaná"),CHOOSE(DETAILS!$B$2,"Cena na zapytanie","Price on request","Preis auf Anfrage","Prix sur demande","Precio a consultar","Prezzo su richiesta","Cena na dotaz","Cena na vyžiadanie")))))))
A9: #VALUE! | B9: =CHOOSE(DETAILS!$B$2,"Kolorowa świeca z wosku pszczelego","Coloured beeswax candle","Farbige Bienenwachskerze","Bougie colorée en cire d’abeille","Vela de cera de abeja de color","Candela colorata in cera d’api","Barevná svíčka ze včelího vosku","Farebná sviečka zo včelieho vosku") -> Coloured beeswax candle | C9: =CHOOSE(DETAILS!$B$2,"Zielona","Green","Grün","Verte","Verde","Verde","Zelená","Zelená") -> Green | D9: 130 × 10 mm | E9: =CHOOSE(DETAILS!$B$2,"szt.","piece","Stück","pièce","unidad","pz.","ks","ks") -> piece | F9: =ROUND(BASE_PRICES!B8*(1+DETAILS!$B$30)/DETAILS!$B$26,2) -> 5.4 | G9: 0 | H9: =IF(ISNUMBER(PRICES!V8),ROUND(PRICES!V8*(1+DETAILS!$B$30)/DETAILS!$B$26,4),"") -> 0 | I9: =IF(AND(ISNUMBER(PRICES!V8),BASE_PRICES!B8>0),1-PRICES!V8/BASE_PRICES!B8,"") | J9: =IF(ISNUMBER(H9),ROUND(G9*H9,2),"") | K9: Allegro | L9: =IF(NOT(ISNUMBER(G9)),CHOOSE(DETAILS!$B$2,"Wpisz liczbę całkowitą ≥ 0","Enter a whole number ≥ 0","Ganze Zahl ≥ 0 eingeben","Saisir un entier ≥ 0","Introduzca un entero ≥ 0","Inserire un numero intero ≥ 0","Zadejte celé číslo ≥ 0","Zadajte celé číslo ≥ 0"),IF(OR(G9<0,MOD(G9,1)<>0),CHOOSE(DETAILS!$B$2,"Wpisz liczbę całkowitą ≥ 0","Enter a whole number ≥ 0","Ganze Zahl ≥ 0 eingeben","Saisir un entier ≥ 0","Introduzca un entero ≥ 0","Inserire un numero intero ≥ 0","Zadejte celé číslo ≥ 0","Zadajte celé číslo ≥ 0"),IF(G9=0,"",IF(G9<BASE_PRICES!D8,CHOOSE(DETAILS!$B$2,"Minimum: ","Minimum: ","Mindestmenge: ","Minimum : ","Mínimo: ","Minimo: ","Minimum: ","Minimum: ")&BASE_PRICES!D8,IF(MOD(G9,BASE_PRICES!E8)<>0,CHOOSE(DETAILS!$B$2,"Wielokrotność: ","Order in multiples of: ","Bestellen in Vielfachen von: ","Commander par multiples de : ","Pedir en múltiplos de: ","Ordinare in multipli di: ","Objednávejte násobky: ","Objednávajte násobky: ")&BASE_PRICES!E8,IF(ISNUMBER(H9),CHOOSE(DETAILS!$B$2,"Wyceniono","Priced","Bepreist","Chiffré","Calculado","Prezzo calcolato","Cena vypočtena","Cena vypočítaná"),CHOOSE(DETAILS!$B$2,"Cena na zapytanie","Price on request","Preis auf Anfrage","Prix sur demande","Precio a consultar","Prezzo su richiesta","Cena na dotaz","Cena na vyžiadanie")))))))
A10: #VALUE! | B10: =CHOOSE(DETAILS!$B$2,"Kolorowa świeca z wosku pszczelego","Coloured beeswax candle","Farbige Bienenwachskerze","Bougie colorée en cire d’abeille","Vela de cera de abeja de color","Candela colorata in cera d’api","Barevná svíčka ze včelího vosku","Farebná sviečka zo včelieho vosku") -> Coloured beeswax candle | C10: =CHOOSE(DETAILS!$B$2,"Złota","Gold","Gold","Dorée","Dorada","Oro","Zlatá","Zlatá") -> Gold | D10: 130 × 10 mm | E10: =CHOOSE(DETAILS!$B$2,"szt.","piece","Stück","pièce","unidad","pz.","ks","ks") -> piece | F10: =ROUND(BASE_PRICES!B9*(1+DETAILS!$B$30)/DETAILS!$B$26,2) -> 6.4 | G10: 0 | H10: =IF(ISNUMBER(PRICES!V9),ROUND(PRICES!V9*(1+DETAILS!$B$30)/DETAILS!$B$26,4),"") -> 0 | I10: =IF(AND(ISNUMBER(PRICES!V9),BASE_PRICES!B9>0),1-PRICES!V9/BASE_PRICES!B9,"") | J10: =IF(ISNUMBER(H10),ROUND(G10*H10,2),"") | K10: Allegro | L10: =IF(NOT(ISNUMBER(G10)),CHOOSE(DETAILS!$B$2,"Wpisz liczbę całkowitą ≥ 0","Enter a whole number ≥ 0","Ganze Zahl ≥ 0 eingeben","Saisir un entier ≥ 0","Introduzca un entero ≥ 0","Inserire un numero intero ≥ 0","Zadejte celé číslo ≥ 0","Zadajte celé číslo ≥ 0"),IF(OR(G10<0,MOD(G10,1)<>0),CHOOSE(DETAILS!$B$2,"Wpisz liczbę całkowitą ≥ 0","Enter a whole number ≥ 0","Ganze Zahl ≥ 0 eingeben","Saisir un entier ≥ 0","Introduzca un entero ≥ 0","Inserire un numero intero ≥ 0","Zadejte celé číslo ≥ 0","Zadajte celé číslo ≥ 0"),IF(G10=0,"",IF(G10<BASE_PRICES!D9,CHOOSE(DETAILS!$B$2,"Minimum: ","Minimum: ","Mindestmenge: ","Minimum : ","Mínimo: ","Minimo: ","Minimum: ","Minimum: ")&BASE_PRICES!D9,IF(MOD(G10,BASE_PRICES!E9)<>0,CHOOSE(DETAILS!$B$2,"Wielokrotność: ","Order in multiples of: ","Bestellen in Vielfachen von: ","Commander par multiples de : ","Pedir en múltiplos de: ","Ordinare in multipli di: ","Objednávejte násobky: ","Objednávajte násobky: ")&BASE_PRICES!E9,IF(ISNUMBER(H10),CHOOSE(DETAILS!$B$2,"Wyceniono","Priced","Bepreist","Chiffré","Calculado","Prezzo calcolato","Cena vypočtena","Cena vypočítaná"),CHOOSE(DETAILS!$B$2,"Cena na zapytanie","Price on request","Preis auf Anfrage","Prix sur demande","Precio a consultar","Prezzo su richiesta","Cena na dotaz","Cena na vyžiadanie")))))))
A11: #VALUE! | B11: =CHOOSE(DETAILS!$B$2,"Kolorowa świeca z wosku pszczelego","Coloured beeswax candle","Farbige Bienenwachskerze","Bougie colorée en cire d’abeille","Vela de cera de abeja de color","Candela colorata in cera d’api","Barevná svíčka ze včelího vosku","Farebná sviečka zo včelieho vosku") -> Coloured beeswax candle | C11: =CHOOSE(DETAILS!$B$2,"Brązowa","Brown","Braun","Marron","Marrón","Marrone","Hnědá","Hnedá") -> Brown | D11: 130 × 10 mm | E11: =CHOOSE(DETAILS!$B$2,"szt.","piece","Stück","pièce","unidad","pz.","ks","ks") -> piece | F11: =ROUND(BASE_PRICES!B10*(1+DETAILS!$B$30)/DETAILS!$B$26,2) -> 5.2 | G11: 0 | H11: =IF(ISNUMBER(PRICES!V10),ROUND(PRICES!V10*(1+DETAILS!$B$30)/DETAILS!$B$26,4),"") -> 0 | I11: =IF(AND(ISNUMBER(PRICES!V10),BASE_PRICES!B10>0),1-PRICES!V10/BASE_PRICES!B10,"") | J11: =IF(ISNUMBER(H11),ROUND(G11*H11,2),"") | K11: Allegro | L11: =IF(NOT(ISNUMBER(G11)),CHOOSE(DETAILS!$B$2,"Wpisz liczbę całkowitą ≥ 0","Enter a whole number ≥ 0","Ganze Zahl ≥ 0 eingeben","Saisir un entier ≥ 0","Introduzca un entero ≥ 0","Inserire un numero intero ≥ 0","Zadejte celé číslo ≥ 0","Zadajte celé číslo ≥ 0"),IF(OR(G11<0,MOD(G11,1)<>0),CHOOSE(DETAILS!$B$2,"Wpisz liczbę całkowitą ≥ 0","Enter a whole number ≥ 0","Ganze Zahl ≥ 0 eingeben","Saisir un entier ≥ 0","Introduzca un entero ≥ 0","Inserire un numero intero ≥ 0","Zadejte celé číslo ≥ 0","Zadajte celé číslo ≥ 0"),IF(G11=0,"",IF(G11<BASE_PRICES!D10,CHOOSE(DETAILS!$B$2,"Minimum: ","Minimum: ","Mindestmenge: ","Minimum : ","Mínimo: ","Minimo: ","Minimum: ","Minimum: ")&BASE_PRICES!D10,IF(MOD(G11,BASE_PRICES!E10)<>0,CHOOSE(DETAILS!$B$2,"Wielokrotność: ","Order in multiples of: ","Bestellen in Vielfachen von: ","Commander par multiples de : ","Pedir en múltiplos de: ","Ordinare in multipli di: ","Objednávejte násobky: ","Objednávajte násobky: ")&BASE_PRICES!E10,IF(ISNUMBER(H11),CHOOSE(DETAILS!$B$2,"Wyceniono","Priced","Bepreist","Chiffré","Calculado","Prezzo calcolato","Cena vypočtena","Cena vypočítaná"),CHOOSE(DETAILS!$B$2,"Cena na zapytanie","Price on request","Preis auf Anfrage","Prix sur demande","Precio a consultar","Prezzo su richiesta","Cena na dotaz","Cena na vyžiadanie")))))))
A12: #VALUE! | B12: =CHOOSE(DETAILS!$B$2,"Kolorowa świeca z wosku pszczelego","Coloured beeswax candle","Farbige Bienenwachskerze","Bougie colorée en cire d’abeille","Vela de cera de abeja de color","Candela colorata in cera d’api","Barevná svíčka ze včelího vosku","Farebná sviečka zo včelieho vosku") -> Coloured beeswax candle | C12: =CHOOSE(DETAILS!$B$2,"Pomarańczowa","Orange","Orange","Orange","Naranja","Arancione","Oranžová","Oranžová") -> Orange | D12: 130 × 10 mm | E12: =CHOOSE(DETAILS!$B$2,"szt.","piece","Stück","pièce","unidad","pz.","ks","ks") -> piece | F12: =ROUND(BASE_PRICES!B11*(1+DETAILS!$B$30)/DETAILS!$B$26,2) -> 5.4 | G12: 0 | H12: =IF(ISNUMBER(PRICES!V11),ROUND(PRICES!V11*(1+DETAILS!$B$30)/DETAILS!$B$26,4),"") -> 0 | I12: =IF(AND(ISNUMBER(PRICES!V11),BASE_PRICES!B11>0),1-PRICES!V11/BASE_PRICES!B11,"") | J12: =IF(ISNUMBER(H12),ROUND(G12*H12,2),"") | K12: Allegro | L12: =IF(NOT(ISNUMBER(G12)),CHOOSE(DETAILS!$B$2,"Wpisz liczbę całkowitą ≥ 0","Enter a whole number ≥ 0","Ganze Zahl ≥ 0 eingeben","Saisir un entier ≥ 0","Introduzca un entero ≥ 0","Inserire un numero intero ≥ 0","Zadejte celé číslo ≥ 0","Zadajte celé číslo ≥ 0"),IF(OR(G12<0,MOD(G12,1)<>0),CHOOSE(DETAILS!$B$2,"Wpisz liczbę całkowitą ≥ 0","Enter a whole number ≥ 0","Ganze Zahl ≥ 0 eingeben","Saisir un entier ≥ 0","Introduzca un entero ≥ 0","Inserire un numero intero ≥ 0","Zadejte celé číslo ≥ 0","Zadajte celé číslo ≥ 0"),IF(G12=0,"",IF(G12<BASE_PRICES!D11,CHOOSE(DETAILS!$B$2,"Minimum: ","Minimum: ","Mindestmenge: ","Minimum : ","Mínimo: ","Minimo: ","Minimum: ","Minimum: ")&BASE_PRICES!D11,IF(MOD(G12,BASE_PRICES!E11)<>0,CHOOSE(DETAILS!$B$2,"Wielokrotność: ","Order in multiples of: ","Bestellen in Vielfachen von: ","Commander par multiples de : ","Pedir en múltiplos de: ","Ordinare in multipli di: ","Objednávejte násobky: ","Objednávajte násobky: ")&BASE_PRICES!E11,IF(ISNUMBER(H12),CHOOSE(DETAILS!$B$2,"Wyceniono","Priced","Bepreist","Chiffré","Calculado","Prezzo calcolato","Cena vypočtena","Cena vypočítaná"),CHOOSE(DETAILS!$B$2,"Cena na zapytanie","Price on request","Preis auf Anfrage","Prix sur demande","Precio a consultar","Prezzo su richiesta","Cena na dotaz","Cena na vyžiadanie")))))))
A13: #VALUE! | B13: =CHOOSE(DETAILS!$B$2,"Kolorowa świeca z wosku pszczelego","Coloured beeswax candle","Farbige Bienenwachskerze","Bougie colorée en cire d’abeille","Vela de cera de abeja de color","Candela colorata in cera d’api","Barevná svíčka ze včelího vosku","Farebná sviečka zo včelieho vosku") -> Coloured beeswax candle | C13: =CHOOSE(DETAILS!$B$2,"Różowa","Pink","Rosa","Rose","Rosa","Rosa","Růžová","Ružová") -> Pink | D13: 130 × 10 mm | E13: =CHOOSE(DETAILS!$B$2,"szt.","piece","Stück","pièce","unidad","pz.","ks","ks") -> piece | F13: =ROUND(BASE_PRICES!B12*(1+DETAILS!$B$30)/DETAILS!$B$26,2) -> 6.1 | G13: 0 | H13: =IF(ISNUMBER(PRICES!V12),ROUND(PRICES!V12*(1+DETAILS!$B$30)/DETAILS!$B$26,4),"") -> 0 | I13: =IF(AND(ISNUMBER(PRICES!V12),BASE_PRICES!B12>0),1-PRICES!V12/BASE_PRICES!B12,"") | J13: =IF(ISNUMBER(H13),ROUND(G13*H13,2),"") | K13: Allegro | L13: =IF(NOT(ISNUMBER(G13)),CHOOSE(DETAILS!$B$2,"Wpisz liczbę całkowitą ≥ 0","Enter a whole number ≥ 0","Ganze Zahl ≥ 0 eingeben","Saisir un entier ≥ 0","Introduzca un entero ≥ 0","Inserire un numero intero ≥ 0","Zadejte celé číslo ≥ 0","Zadajte celé číslo ≥ 0"),IF(OR(G13<0,MOD(G13,1)<>0),CHOOSE(DETAILS!$B$2,"Wpisz liczbę całkowitą ≥ 0","Enter a whole number ≥ 0","Ganze Zahl ≥ 0 eingeben","Saisir un entier ≥ 0","Introduzca un entero ≥ 0","Inserire un numero intero ≥ 0","Zadejte celé číslo ≥ 0","Zadajte celé číslo ≥ 0"),IF(G13=0,"",IF(G13<BASE_PRICES!D12,CHOOSE(DETAILS!$B$2,"Minimum: ","Minimum: ","Mindestmenge: ","Minimum : ","Mínimo: ","Minimo: ","Minimum: ","Minimum: ")&BASE_PRICES!D12,IF(MOD(G13,BASE_PRICES!E12)<>0,CHOOSE(DETAILS!$B$2,"Wielokrotność: ","Order in multiples of: ","Bestellen in Vielfachen von: ","Commander par multiples de : ","Pedir en múltiplos de: ","Ordinare in multipli di: ","Objednávejte násobky: ","Objednávajte násobky: ")&BASE_PRICES!E12,IF(ISNUMBER(H13),CHOOSE(DETAILS!$B$2,"Wyceniono","Priced","Bepreist","Chiffré","Calculado","Prezzo calcolato","Cena vypočtena","Cena vypočítaná"),CHOOSE(DETAILS!$B$2,"Cena na zapytanie","Price on request","Preis auf Anfrage","Prix sur demande","Precio a consultar","Prezzo su richiesta","Cena na dotaz","Cena na vyžiadanie")))))))
A14: #VALUE! | B14: =CHOOSE(DETAILS!$B$2,"Kolorowa świeca z wosku pszczelego","Coloured beeswax candle","Farbige Bienenwachskerze","Bougie colorée en cire d’abeille","Vela de cera de abeja de color","Candela colorata in cera d’api","Barevná svíčka ze včelího vosku","Farebná sviečka zo včelieho vosku") -> Coloured beeswax candle | C14: =CHOOSE(DETAILS!$B$2,"Niebieska","Blue","Blau","Bleue","Azul","Blu","Modrá","Modrá") -> Blue | D14: 130 × 10 mm | E14: =CHOOSE(DETAILS!$B$2,"szt.","piece","Stück","pièce","unidad","pz.","ks","ks") -> piece | F14: =ROUND(BASE_PRICES!B13*(1+DETAILS!$B$30)/DETAILS!$B$26,2) -> 6.1 | G14: 0 | H14: =IF(ISNUMBER(PRICES!V13),ROUND(PRICES!V13*(1+DETAILS!$B$30)/DETAILS!$B$26,4),"") -> 0 | I14: =IF(AND(ISNUMBER(PRICES!V13),BASE_PRICES!B13>0),1-PRICES!V13/BASE_PRICES!B13,"") | J14: =IF(ISNUMBER(H14),ROUND(G14*H14,2),"") | K14: Allegro | L14: =IF(NOT(ISNUMBER(G14)),CHOOSE(DETAILS!$B$2,"Wpisz liczbę całkowitą ≥ 0","Enter a whole number ≥ 0","Ganze Zahl ≥ 0 eingeben","Saisir un entier ≥ 0","Introduzca un entero ≥ 0","Inserire un numero intero ≥ 0","Zadejte celé číslo ≥ 0","Zadajte celé číslo ≥ 0"),IF(OR(G14<0,MOD(G14,1)<>0),CHOOSE(DETAILS!$B$2,"Wpisz liczbę całkowitą ≥ 0","Enter a whole number ≥ 0","Ganze Zahl ≥ 0 eingeben","Saisir un entier ≥ 0","Introduzca un entero ≥ 0","Inserire un numero intero ≥ 0","Zadejte celé číslo ≥ 0","Zadajte celé číslo ≥ 0"),IF(G14=0,"",IF(G14<BASE_PRICES!D13,CHOOSE(DETAILS!$B$2,"Minimum: ","Minimum: ","Mindestmenge: ","Minimum : ","Mínimo: ","Minimo: ","Minimum: ","Minimum: ")&BASE_PRICES!D13,IF(MOD(G14,BASE_PRICES!E13)<>0,CHOOSE(DETAILS!$B$2,"Wielokrotność: ","Order in multiples of: ","Bestellen in Vielfachen von: ","Commander par multiples de : ","Pedir en múltiplos de: ","Ordinare in multipli di: ","Objednávejte násobky: ","Objednávajte násobky: ")&BASE_PRICES!E13,IF(ISNUMBER(H14),CHOOSE(DETAILS!$B$2,"Wyceniono","Priced","Bepreist","Chiffré","Calculado","Prezzo calcolato","Cena vypočtena","Cena vypočítaná"),CHOOSE(DETAILS!$B$2,"Cena na zapytanie","Price on request","Preis auf Anfrage","Prix sur demande","Precio a consultar","Prezzo su richiesta","Cena na dotaz","Cena na vyžiadanie")))))))
A15: #VALUE! | B15: =CHOOSE(DETAILS!$B$2,"Kolorowa świeca z wosku pszczelego","Coloured beeswax candle","Farbige Bienenwachskerze","Bougie colorée en cire d’abeille","Vela de cera de abeja de color","Candela colorata in cera d’api","Barevná svíčka ze včelího vosku","Farebná sviečka zo včelieho vosku") -> Coloured beeswax candle | C15: =CHOOSE(DETAILS!$B$2,"Srebrna","Silver","Silber","Argentée","Plateada","Argento","Stříbrná","Strieborná") -> Silver | D15: 130 × 10 mm | E15: =CHOOSE(DETAILS!$B$2,"szt.","piece","Stück","pièce","unidad","pz.","ks","ks") -> piece | F15: =ROUND(BASE_PRICES!B14*(1+DETAILS!$B$30)/DETAILS!$B$26,2) -> 6.4 | G15: 0 | H15: =IF(ISNUMBER(PRICES!V14),ROUND(PRICES!V14*(1+DETAILS!$B$30)/DETAILS!$B$26,4),"") -> 0 | I15: =IF(AND(ISNUMBER(PRICES!V14),BASE_PRICES!B14>0),1-PRICES!V14/BASE_PRICES!B14,"") | J15: =IF(ISNUMBER(H15),ROUND(G15*H15,2),"") | K15: Allegro | L15: =IF(NOT(ISNUMBER(G15)),CHOOSE(DETAILS!$B$2,"Wpisz liczbę całkowitą ≥ 0","Enter a whole number ≥ 0","Ganze Zahl ≥ 0 eingeben","Saisir un entier ≥ 0","Introduzca un entero ≥ 0","Inserire un numero intero ≥ 0","Zadejte celé číslo ≥ 0","Zadajte celé číslo ≥ 0"),IF(OR(G15<0,MOD(G15,1)<>0),CHOOSE(DETAILS!$B$2,"Wpisz liczbę całkowitą ≥ 0","Enter a whole number ≥ 0","Ganze Zahl ≥ 0 eingeben","Saisir un entier ≥ 0","Introduzca un entero ≥ 0","Inserire un numero intero ≥ 0","Zadejte celé číslo ≥ 0","Zadajte celé číslo ≥ 0"),IF(G15=0,"",IF(G15<BASE_PRICES!D14,CHOOSE(DETAILS!$B$2,"Minimum: ","Minimum: ","Mindestmenge: ","Minimum : ","Mínimo: ","Minimo: ","Minimum: ","Minimum: ")&BASE_PRICES!D14,IF(MOD(G15,BASE_PRICES!E14)<>0,CHOOSE(DETAILS!$B$2,"Wielokrotność: ","Order in multiples of: ","Bestellen in Vielfachen von: ","Commander par multiples de : ","Pedir en múltiplos de: ","Ordinare in multipli di: ","Objednávejte násobky: ","Objednávajte násobky: ")&BASE_PRICES!E14,IF(ISNUMBER(H15),CHOOSE(DETAILS!$B$2,"Wyceniono","Priced","Bepreist","Chiffré","Calculado","Prezzo calcolato","Cena vypočtena","Cena vypočítaná"),CHOOSE(DETAILS!$B$2,"Cena na zapytanie","Price on request","Preis auf Anfrage","Prix sur demande","Precio a consultar","Prezzo su richiesta","Cena na dotaz","Cena na vyžiadanie")))))))
A16: #VALUE! | B16: =CHOOSE(DETAILS!$B$2,"Kolorowa świeca z wosku pszczelego","Coloured beeswax candle","Farbige Bienenwachskerze","Bougie colorée en cire d’abeille","Vela de cera de abeja de color","Candela colorata in cera d’api","Barevná svíčka ze včelího vosku","Farebná sviečka zo včelieho vosku") -> Coloured beeswax candle | C16: =CHOOSE(DETAILS!$B$2,"Fioletowa","Purple","Violett","Violette","Violeta","Viola","Fialová","Fialová") -> Purple | D16: 130 × 10 mm | E16: =CHOOSE(DETAILS!$B$2,"szt.","piece","Stück","pièce","unidad","pz.","ks","ks") -> piece | F16: =ROUND(BASE_PRICES!B15*(1+DETAILS!$B$30)/DETAILS!$B$26,2) -> 5.9 | G16: 0 | H16: =IF(ISNUMBER(PRICES!V15),ROUND(PRICES!V15*(1+DETAILS!$B$30)/DETAILS!$B$26,4),"") -> 0 | I16: =IF(AND(ISNUMBER(PRICES!V15),BASE_PRICES!B15>0),1-PRICES!V15/BASE_PRICES!B15,"") | J16: =IF(ISNUMBER(H16),ROUND(G16*H16,2),"") | K16: Allegro | L16: =IF(NOT(ISNUMBER(G16)),CHOOSE(DETAILS!$B$2,"Wpisz liczbę całkowitą ≥ 0","Enter a whole number ≥ 0","Ganze Zahl ≥ 0 eingeben","Saisir un entier ≥ 0","Introduzca un entero ≥ 0","Inserire un numero intero ≥ 0","Zadejte celé číslo ≥ 0","Zadajte celé číslo ≥ 0"),IF(OR(G16<0,MOD(G16,1)<>0),CHOOSE(DETAILS!$B$2,"Wpisz liczbę całkowitą ≥ 0","Enter a whole number ≥ 0","Ganze Zahl ≥ 0 eingeben","Saisir un entier ≥ 0","Introduzca un entero ≥ 0","Inserire un numero intero ≥ 0","Zadejte celé číslo ≥ 0","Zadajte celé číslo ≥ 0"),IF(G16=0,"",IF(G16<BASE_PRICES!D15,CHOOSE(DETAILS!$B$2,"Minimum: ","Minimum: ","Mindestmenge: ","Minimum : ","Mínimo: ","Minimo: ","Minimum: ","Minimum: ")&BASE_PRICES!D15,IF(MOD(G16,BASE_PRICES!E15)<>0,CHOOSE(DETAILS!$B$2,"Wielokrotność: ","Order in multiples of: ","Bestellen in Vielfachen von: ","Commander par multiples de : ","Pedir en múltiplos de: ","Ordinare in multipli di: ","Objednávejte násobky: ","Objednávajte násobky: ")&BASE_PRICES!E15,IF(ISNUMBER(H16),CHOOSE(DETAILS!$B$2,"Wyceniono","Priced","Bepreist","Chiffré","Calculado","Prezzo calcolato","Cena vypočtena","Cena vypočítaná"),CHOOSE(DETAILS!$B$2,"Cena na zapytanie","Price on request","Preis auf Anfrage","Prix sur demande","Precio a consultar","Prezzo su richiesta","Cena na dotaz","Cena na vyžiadanie")))))))
A17: #VALUE! | B17: =CHOOSE(DETAILS!$B$2,"Kolorowa świeca z wosku pszczelego","Coloured beeswax candle","Farbige Bienenwachskerze","Bougie colorée en cire d’abeille","Vela de cera de abeja de color","Candela colorata in cera d’api","Barevná svíčka ze včelího vosku","Farebná sviečka zo včelieho vosku") -> Coloured beeswax candle | C17: =CHOOSE(DETAILS!$B$2,"Czerwona","Red","Rot","Rouge","Roja","Rosso","Červená","Červená") -> Red | D17: 130 × 10 mm | E17: =CHOOSE(DETAILS!$B$2,"szt.","piece","Stück","pièce","unidad","pz.","ks","ks") -> piece | F17: =ROUND(BASE_PRICES!B16*(1+DETAILS!$B$30)/DETAILS!$B$26,2) -> 5.4 | G17: 0 | H17: =IF(ISNUMBER(PRICES!V16),ROUND(PRICES!V16*(1+DETAILS!$B$30)/DETAILS!$B$26,4),"") -> 0 | I17: =IF(AND(ISNUMBER(PRICES!V16),BASE_PRICES!B16>0),1-PRICES!V16/BASE_PRICES!B16,"") | J17: =IF(ISNUMBER(H17),ROUND(G17*H17,2),"") | K17: Allegro | L17: =IF(NOT(ISNUMBER(G17)),CHOOSE(DETAILS!$B$2,"Wpisz liczbę całkowitą ≥ 0","Enter a whole number ≥ 0","Ganze Zahl ≥ 0 eingeben","Saisir un entier ≥ 0","Introduzca un entero ≥ 0","Inserire un numero intero ≥ 0","Zadejte celé číslo ≥ 0","Zadajte celé číslo ≥ 0"),IF(OR(G17<0,MOD(G17,1)<>0),CHOOSE(DETAILS!$B$2,"Wpisz liczbę całkowitą ≥ 0","Enter a whole number ≥ 0","Ganze Zahl ≥ 0 eingeben","Saisir un entier ≥ 0","Introduzca un entero ≥ 0","Inserire un numero intero ≥ 0","Zadejte celé číslo ≥ 0","Zadajte celé číslo ≥ 0"),IF(G17=0,"",IF(G17<BASE_PRICES!D16,CHOOSE(DETAILS!$B$2,"Minimum: ","Minimum: ","Mindestmenge: ","Minimum : ","Mínimo: ","Minimo: ","Minimum: ","Minimum: ")&BASE_PRICES!D16,IF(MOD(G17,BASE_PRICES!E16)<>0,CHOOSE(DETAILS!$B$2,"Wielokrotność: ","Order in multiples of: ","Bestellen in Vielfachen von: ","Commander par multiples de : ","Pedir en múltiplos de: ","Ordinare in multipli di: ","Objednávejte násobky: ","Objednávajte násobky: ")&BASE_PRICES!E16,IF(ISNUMBER(H17),CHOOSE(DETAILS!$B$2,"Wyceniono","Priced","Bepreist","Chiffré","Calculado","Prezzo calcolato","Cena vypočtena","Cena vypočítaná"),CHOOSE(DETAILS!$B$2,"Cena na zapytanie","Price on request","Preis auf Anfrage","Prix sur demande","Precio a consultar","Prezzo su richiesta","Cena na dotaz","Cena na vyžiadanie")))))))
A18: #VALUE! | B18: =CHOOSE(DETAILS!$B$2,"Kolorowa świeca z wosku pszczelego","Coloured beeswax candle","Farbige Bienenwachskerze","Bougie colorée en cire d’abeille","Vela de cera de abeja de color","Candela colorata in cera d’api","Barevná svíčka ze včelího vosku","Farebná sviečka zo včelieho vosku") -> Coloured beeswax candle | C18: =CHOOSE(DETAILS!$B$2,"Czarna","Black","Schwarz","Noire","Negra","Nero","Černá","Čierna") -> Black | D18: 130 × 10 mm | E18: =CHOOSE(DETAILS!$B$2,"szt.","piece","Stück","pièce","unidad","pz.","ks","ks") -> piece | F18: =ROUND(BASE_PRICES!B17*(1+DETAILS!$B$30)/DETAILS!$B$26,2) -> 5.9 | G18: 0 | H18: =IF(ISNUMBER(PRICES!V17),ROUND(PRICES!V17*(1+DETAILS!$B$30)/DETAILS!$B$26,4),"") -> 0 | I18: =IF(AND(ISNUMBER(PRICES!V17),BASE_PRICES!B17>0),1-PRICES!V17/BASE_PRICES!B17,"") | J18: =IF(ISNUMBER(H18),ROUND(G18*H18,2),"") | K18: Allegro | L18: =IF(NOT(ISNUMBER(G18)),CHOOSE(DETAILS!$B$2,"Wpisz liczbę całkowitą ≥ 0","Enter a whole number ≥ 0","Ganze Zahl ≥ 0 eingeben","Saisir un entier ≥ 0","Introduzca un entero ≥ 0","Inserire un numero intero ≥ 0","Zadejte celé číslo ≥ 0","Zadajte celé číslo ≥ 0"),IF(OR(G18<0,MOD(G18,1)<>0),CHOOSE(DETAILS!$B$2,"Wpisz liczbę całkowitą ≥ 0","Enter a whole number ≥ 0","Ganze Zahl ≥ 0 eingeben","Saisir un entier ≥ 0","Introduzca un entero ≥ 0","Inserire un numero intero ≥ 0","Zadejte celé číslo ≥ 0","Zadajte celé číslo ≥ 0"),IF(G18=0,"",IF(G18<BASE_PRICES!D17,CHOOSE(DETAILS!$B$2,"Minimum: ","Minimum: ","Mindestmenge: ","Minimum : ","Mínimo: ","Minimo: ","Minimum: ","Minimum: ")&BASE_PRICES!D17,IF(MOD(G18,BASE_PRICES!E17)<>0,CHOOSE(DETAILS!$B$2,"Wielokrotność: ","Order in multiples of: ","Bestellen in Vielfachen von: ","Commander par multiples de : ","Pedir en múltiplos de: ","Ordinare in multipli di: ","Objednávejte násobky: ","Objednávajte násobky: ")&BASE_PRICES!E17,IF(ISNUMBER(H18),CHOOSE(DETAILS!$B$2,"Wyceniono","Priced","Bepreist","Chiffré","Calculado","Prezzo calcolato","Cena vypočtena","Cena vypočítaná"),CHOOSE(DETAILS!$B$2,"Cena na zapytanie","Price on request","Preis auf Anfrage","Prix sur demande","Precio a consultar","Prezzo su richiesta","Cena na dotaz","Cena na vyžiadanie")))))))
A19: #VALUE! | B19: =CHOOSE(DETAILS!$B$2,"Cienka świeca z wosku pszczelego","Thin beeswax candle","Dünne Bienenwachskerze","Bougie fine en cire d’abeille","Vela fina de cera de abeja","Candela sottile in cera d’api","Tenká svíčka ze včelího vosku","Tenká sviečka zo včelieho vosku") -> Thin beeswax candle | C19: =CHOOSE(DETAILS!$B$2,"Biała","White","Weiß","Blanche","Blanca","Bianco","Bílá","Biela") -> White | D19: 260 × 6 mm | E19: =CHOOSE(DETAILS!$B$2,"szt.","piece","Stück","pièce","unidad","pz.","ks","ks") -> piece | F19: =ROUND(BASE_PRICES!B18*(1+DETAILS!$B$30)/DETAILS!$B$26,2) -> 1.75 | G19: 0 | H19: =IF(ISNUMBER(PRICES!V18),ROUND(PRICES!V18*(1+DETAILS!$B$30)/DETAILS!$B$26,4),"") -> 0 | I19: =IF(AND(ISNUMBER(PRICES!V18),BASE_PRICES!B18>0),1-PRICES!V18/BASE_PRICES!B18,"") | J19: =IF(ISNUMBER(H19),ROUND(G19*H19,2),"") | K19: Allegro | L19: =IF(NOT(ISNUMBER(G19)),CHOOSE(DETAILS!$B$2,"Wpisz liczbę całkowitą ≥ 0","Enter a whole number ≥ 0","Ganze Zahl ≥ 0 eingeben","Saisir un entier ≥ 0","Introduzca un entero ≥ 0","Inserire un numero intero ≥ 0","Zadejte celé číslo ≥ 0","Zadajte celé číslo ≥ 0"),IF(OR(G19<0,MOD(G19,1)<>0),CHOOSE(DETAILS!$B$2,"Wpisz liczbę całkowitą ≥ 0","Enter a whole number ≥ 0","Ganze Zahl ≥ 0 eingeben","Saisir un entier ≥ 0","Introduzca un entero ≥ 0","Inserire un numero intero ≥ 0","Zadejte celé číslo ≥ 0","Zadajte celé číslo ≥ 0"),IF(G19=0,"",IF(G19<BASE_PRICES!D18,CHOOSE(DETAILS!$B$2,"Minimum: ","Minimum: ","Mindestmenge: ","Minimum : ","Mínimo: ","Minimo: ","Minimum: ","Minimum: ")&BASE_PRICES!D18,IF(MOD(G19,BASE_PRICES!E18)<>0,CHOOSE(DETAILS!$B$2,"Wielokrotność: ","Order in multiples of: ","Bestellen in Vielfachen von: ","Commander par multiples de : ","Pedir en múltiplos de: ","Ordinare in multipli di: ","Objednávejte násobky: ","Objednávajte násobky: ")&BASE_PRICES!E18,IF(ISNUMBER(H19),CHOOSE(DETAILS!$B$2,"Wyceniono","Priced","Bepreist","Chiffré","Calculado","Prezzo calcolato","Cena vypočtena","Cena vypočítaná"),CHOOSE(DETAILS!$B$2,"Cena na zapytanie","Price on request","Preis auf Anfrage","Prix sur demande","Precio a consultar","Prezzo su richiesta","Cena na dotaz","Cena na vyžiadanie")))))))
A20: #VALUE! | B20: =CHOOSE(DETAILS!$B$2,"Cienka świeca z wosku pszczelego","Thin beeswax candle","Dünne Bienenwachskerze","Bougie fine en cire d’abeille","Vela fina de cera de abeja","Candela sottile in cera d’api","Tenká svíčka ze včelího vosku","Tenká sviečka zo včelieho vosku") -> Thin beeswax candle | C20: =CHOOSE(DETAILS!$B$2,"Błękitna","Light blue","Hellblau","Bleu clair","Azul claro","Azzurro","Světle modrá","Svetlomodrá") -> Light blue | D20: 260 × 6 mm | E20: =CHOOSE(DETAILS!$B$2,"szt.","piece","Stück","pièce","unidad","pz.","ks","ks") -> piece | F20: =ROUND(BASE_PRICES!B19*(1+DETAILS!$B$30)/DETAILS!$B$26,2) -> 1.75 | G20: 0 | H20: =IF(ISNUMBER(PRICES!V19),ROUND(PRICES!V19*(1+DETAILS!$B$30)/DETAILS!$B$26,4),"") -> 0 | I20: =IF(AND(ISNUMBER(PRICES!V19),BASE_PRICES!B19>0),1-PRICES!V19/BASE_PRICES!B19,"") | J20: =IF(ISNUMBER(H20),ROUND(G20*H20,2),"") | K20: Allegro | L20: =IF(NOT(ISNUMBER(G20)),CHOOSE(DETAILS!$B$2,"Wpisz liczbę całkowitą ≥ 0","Enter a whole number ≥ 0","Ganze Zahl ≥ 0 eingeben","Saisir un entier ≥ 0","Introduzca un entero ≥ 0","Inserire un numero intero ≥ 0","Zadejte celé číslo ≥ 0","Zadajte celé číslo ≥ 0"),IF(OR(G20<0,MOD(G20,1)<>0),CHOOSE(DETAILS!$B$2,"Wpisz liczbę całkowitą ≥ 0","Enter a whole number ≥ 0","Ganze Zahl ≥ 0 eingeben","Saisir un entier ≥ 0","Introduzca un entero ≥ 0","Inserire un numero intero ≥ 0","Zadejte celé číslo ≥ 0","Zadajte celé číslo ≥ 0"),IF(G20=0,"",IF(G20<BASE_PRICES!D19,CHOOSE(DETAILS!$B$2,"Minimum: ","Minimum: ","Mindestmenge: ","Minimum : ","Mínimo: ","Minimo: ","Minimum: ","Minimum: ")&BASE_PRICES!D19,IF(MOD(G20,BASE_PRICES!E19)<>0,CHOOSE(DETAILS!$B$2,"Wielokrotność: ","Order in multiples of: ","Bestellen in Vielfachen von: ","Commander par multiples de : ","Pedir en múltiplos de: ","Ordinare in multipli di: ","Objednávejte násobky: ","Objednávajte násobky: ")&BASE_PRICES!E19,IF(ISNUMBER(H20),CHOOSE(DETAILS!$B$2,"Wyceniono","Priced","Bepreist","Chiffré","Calculado","Prezzo calcolato","Cena vypočtena","Cena vypočítaná"),CHOOSE(DETAILS!$B$2,"Cena na zapytanie","Price on request","Preis auf Anfrage","Prix sur demande","Precio a consultar","Prezzo su richiesta","Cena na dotaz","Cena na vyžiadanie")))))))
A21: #VALUE! | B21: =CHOOSE(DETAILS!$B$2,"Cienka świeca z wosku pszczelego","Thin beeswax candle","Dünne Bienenwachskerze","Bougie fine en cire d’abeille","Vela fina de cera de abeja","Candela sottile in cera d’api","Tenká svíčka ze včelího vosku","Tenká sviečka zo včelieho vosku") -> Thin beeswax candle | C21: =CHOOSE(DETAILS!$B$2,"Zielona","Green","Grün","Verte","Verde","Verde","Zelená","Zelená") -> Green | D21: 260 × 6 mm | E21: =CHOOSE(DETAILS!$B$2,"szt.","piece","Stück","pièce","unidad","pz.","ks","ks") -> piece | F21: =ROUND(BASE_PRICES!B20*(1+DETAILS!$B$30)/DETAILS!$B$26,2) -> 1.75 | G21: 0 | H21: =IF(ISNUMBER(PRICES!V20),ROUND(PRICES!V20*(1+DETAILS!$B$30)/DETAILS!$B$26,4),"") -> 0 | I21: =IF(AND(ISNUMBER(PRICES!V20),BASE_PRICES!B20>0),1-PRICES!V20/BASE_PRICES!B20,"") | J21: =IF(ISNUMBER(H21),ROUND(G21*H21,2),"") | K21: Allegro | L21: =IF(NOT(ISNUMBER(G21)),CHOOSE(DETAILS!$B$2,"Wpisz liczbę całkowitą ≥ 0","Enter a whole number ≥ 0","Ganze Zahl ≥ 0 eingeben","Saisir un entier ≥ 0","Introduzca un entero ≥ 0","Inserire un numero intero ≥ 0","Zadejte celé číslo ≥ 0","Zadajte celé číslo ≥ 0"),IF(OR(G21<0,MOD(G21,1)<>0),CHOOSE(DETAILS!$B$2,"Wpisz liczbę całkowitą ≥ 0","Enter a whole number ≥ 0","Ganze Zahl ≥ 0 eingeben","Saisir un entier ≥ 0","Introduzca un entero ≥ 0","Inserire un numero intero ≥ 0","Zadejte celé číslo ≥ 0","Zadajte celé číslo ≥ 0"),IF(G21=0,"",IF(G21<BASE_PRICES!D20,CHOOSE(DETAILS!$B$2,"Minimum: ","Minimum: ","Mindestmenge: ","Minimum : ","Mínimo: ","Minimo: ","Minimum: ","Minimum: ")&BASE_PRICES!D20,IF(MOD(G21,BASE_PRICES!E20)<>0,CHOOSE(DETAILS!$B$2,"Wielokrotność: ","Order in multiples of: ","Bestellen in Vielfachen von: ","Commander par multiples de : ","Pedir en múltiplos de: ","Ordinare in multipli di: ","Objednávejte násobky: ","Objednávajte násobky: ")&BASE_PRICES!E20,IF(ISNUMBER(H21),CHOOSE(DETAILS!$B$2,"Wyceniono","Priced","Bepreist","Chiffré","Calculado","Prezzo calcolato","Cena vypočtena","Cena vypočítaná"),CHOOSE(DETAILS!$B$2,"Cena na zapytanie","Price on request","Preis auf Anfrage","Prix sur demande","Precio a consultar","Prezzo su richiesta","Cena na dotaz","Cena na vyžiadanie")))))))
A22: #VALUE! | B22: =CHOOSE(DETAILS!$B$2,"Cienka świeca z wosku pszczelego","Thin beeswax candle","Dünne Bienenwachskerze","Bougie fine en cire d’abeille","Vela fina de cera de abeja","Candela sottile in cera d’api","Tenká svíčka ze včelího vosku","Tenká sviečka zo včelieho vosku") -> Thin beeswax candle | C22: =CHOOSE(DETAILS!$B$2,"Brązowa","Brown","Braun","Marron","Marrón","Marrone","Hnědá","Hnedá") -> Brown | D22: 260 × 6 mm | E22: =CHOOSE(DETAILS!$B$2,"szt.","piece","Stück","pièce","unidad","pz.","ks","ks") -> piece | F22: =ROUND(BASE_PRICES!B21*(1+DETAILS!$B$30)/DETAILS!$B$26,2) -> 1.75 | G22: 0 | H22: =IF(ISNUMBER(PRICES!V21),ROUND(PRICES!V21*(1+DETAILS!$B$30)/DETAILS!$B$26,4),"") -> 0 | I22: =IF(AND(ISNUMBER(PRICES!V21),BASE_PRICES!B21>0),1-PRICES!V21/BASE_PRICES!B21,"") | J22: =IF(ISNUMBER(H22),ROUND(G22*H22,2),"") | K22: Allegro | L22: =IF(NOT(ISNUMBER(G22)),CHOOSE(DETAILS!$B$2,"Wpisz liczbę całkowitą ≥ 0","Enter a whole number ≥ 0","Ganze Zahl ≥ 0 eingeben","Saisir un entier ≥ 0","Introduzca un entero ≥ 0","Inserire un numero intero ≥ 0","Zadejte celé číslo ≥ 0","Zadajte celé číslo ≥ 0"),IF(OR(G22<0,MOD(G22,1)<>0),CHOOSE(DETAILS!$B$2,"Wpisz liczbę całkowitą ≥ 0","Enter a whole number ≥ 0","Ganze Zahl ≥ 0 eingeben","Saisir un entier ≥ 0","Introduzca un entero ≥ 0","Inserire un numero intero ≥ 0","Zadejte celé číslo ≥ 0","Zadajte celé číslo ≥ 0"),IF(G22=0,"",IF(G22<BASE_PRICES!D21,CHOOSE(DETAILS!$B$2,"Minimum: ","Minimum: ","Mindestmenge: ","Minimum : ","Mínimo: ","Minimo: ","Minimum: ","Minimum: ")&BASE_PRICES!D21,IF(MOD(G22,BASE_PRICES!E21)<>0,CHOOSE(DETAILS!$B$2,"Wielokrotność: ","Order in multiples of: ","Bestellen in Vielfachen von: ","Commander par multiples de : ","Pedir en múltiplos de: ","Ordinare in multipli di: ","Objednávejte násobky: ","Objednávajte násobky: ")&BASE_PRICES!E21,IF(ISNUMBER(H22),CHOOSE(DETAILS!$B$2,"Wyceniono","Priced","Bepreist","Chiffré","Calculado","Prezzo calcolato","Cena vypočtena","Cena vypočítaná"),CHOOSE(DETAILS!$B$2,"Cena na zapytanie","Price on request","Preis auf Anfrage","Prix sur demande","Precio a consultar","Prezzo su richiesta","Cena na dotaz","Cena na vyžiadanie")))))))
A23: #VALUE! | B23: =CHOOSE(DETAILS!$B$2,"Cienka świeca z wosku pszczelego","Thin beeswax candle","Dünne Bienenwachskerze","Bougie fine en cire d’abeille","Vela fina de cera de abeja","Candela sottile in cera d’api","Tenká svíčka ze včelího vosku","Tenká sviečka zo včelieho vosku") -> Thin beeswax candle | C23: =CHOOSE(DETAILS!$B$2,"Naturalna","Natural","Natur","Naturelle","Natural","Naturale","Přírodní","Prírodná") -> Natural | D23: 260 × 6 mm | E23: =CHOOSE(DETAILS!$B$2,"szt.","piece","Stück","pièce","unidad","pz.","ks","ks") -> piece | F23: =ROUND(BASE_PRICES!B22*(1+DETAILS!$B$30)/DETAILS!$B$26,2) -> 1.75 | G23: 0 | H23: =IF(ISNUMBER(PRICES!V22),ROUND(PRICES!V22*(1+DETAILS!$B$30)/DETAILS!$B$26,4),"") -> 0 | I23: =IF(AND(ISNUMBER(PRICES!V22),BASE_PRICES!B22>0),1-PRICES!V22/BASE_PRICES!B22,"") | J23: =IF(ISNUMBER(H23),ROUND(G23*H23,2),"") | K23: Allegro | L23: =IF(NOT(ISNUMBER(G23)),CHOOSE(DETAILS!$B$2,"Wpisz liczbę całkowitą ≥ 0","Enter a whole number ≥ 0","Ganze Zahl ≥ 0 eingeben","Saisir un entier ≥ 0","Introduzca un entero ≥ 0","Inserire un numero intero ≥ 0","Zadejte celé číslo ≥ 0","Zadajte celé číslo ≥ 0"),IF(OR(G23<0,MOD(G23,1)<>0),CHOOSE(DETAILS!$B$2,"Wpisz liczbę całkowitą ≥ 0","Enter a whole number ≥ 0","Ganze Zahl ≥ 0 eingeben","Saisir un entier ≥ 0","Introduzca un entero ≥ 0","Inserire un numero intero ≥ 0","Zadejte celé číslo ≥ 0","Zadajte celé číslo ≥ 0"),IF(G23=0,"",IF(G23<BASE_PRICES!D22,CHOOSE(DETAILS!$B$2,"Minimum: ","Minimum: ","Mindestmenge: ","Minimum : ","Mínimo: ","Minimo: ","Minimum: ","Minimum: ")&BASE_PRICES!D22,IF(MOD(G23,BASE_PRICES!E22)<>0,CHOOSE(DETAILS!$B$2,"Wielokrotność: ","Order in multiples of: ","Bestellen in Vielfachen von: ","Commander par multiples de : ","Pedir en múltiplos de: ","Ordinare in multipli di: ","Objednávejte násobky: ","Objednávajte násobky: ")&BASE_PRICES!E22,IF(ISNUMBER(H23),CHOOSE(DETAILS!$B$2,"Wyceniono","Priced","Bepreist","Chiffré","Calculado","Prezzo calcolato","Cena vypočtena","Cena vypočítaná"),CHOOSE(DETAILS!$B$2,"Cena na zapytanie","Price on request","Preis auf Anfrage","Prix sur demande","Precio a consultar","Prezzo su richiesta","Cena na dotaz","Cena na vyžiadanie")))))))
A24: #VALUE! | B24: =CHOOSE(DETAILS!$B$2,"Cienka świeca z wosku pszczelego","Thin beeswax candle","Dünne Bienenwachskerze","Bougie fine en cire d’abeille","Vela fina de cera de abeja","Candela sottile in cera d’api","Tenká svíčka ze včelího vosku","Tenká sviečka zo včelieho vosku") -> Thin beeswax candle | C24: =CHOOSE(DETAILS!$B$2,"Pomarańczowa","Orange","Orange","Orange","Naranja","Arancione","Oranžová","Oranžová") -> Orange | D24: 260 × 6 mm | E24: =CHOOSE(DETAILS!$B$2,"szt.","piece","Stück","pièce","unidad","pz.","ks","ks") -> piece | F24: =ROUND(BASE_PRICES!B23*(1+DETAILS!$B$30)/DETAILS!$B$26,2) -> 1.75 | G24: 0 | H24: =IF(ISNUMBER(PRICES!V23),ROUND(PRICES!V23*(1+DETAILS!$B$30)/DETAILS!$B$26,4),"") -> 0 | I24: =IF(AND(ISNUMBER(PRICES!V23),BASE_PRICES!B23>0),1-PRICES!V23/BASE_PRICES!B23,"") | J24: =IF(ISNUMBER(H24),ROUND(G24*H24,2),"") | K24: Allegro | L24: =IF(NOT(ISNUMBER(G24)),CHOOSE(DETAILS!$B$2,"Wpisz liczbę całkowitą ≥ 0","Enter a whole number ≥ 0","Ganze Zahl ≥ 0 eingeben","Saisir un entier ≥ 0","Introduzca un entero ≥ 0","Inserire un numero intero ≥ 0","Zadejte celé číslo ≥ 0","Zadajte celé číslo ≥ 0"),IF(OR(G24<0,MOD(G24,1)<>0),CHOOSE(DETAILS!$B$2,"Wpisz liczbę całkowitą ≥ 0","Enter a whole number ≥ 0","Ganze Zahl ≥ 0 eingeben","Saisir un entier ≥ 0","Introduzca un entero ≥ 0","Inserire un numero intero ≥ 0","Zadejte celé číslo ≥ 0","Zadajte celé číslo ≥ 0"),IF(G24=0,"",IF(G24<BASE_PRICES!D23,CHOOSE(DETAILS!$B$2,"Minimum: ","Minimum: ","Mindestmenge: ","Minimum : ","Mínimo: ","Minimo: ","Minimum: ","Minimum: ")&BASE_PRICES!D23,IF(MOD(G24,BASE_PRICES!E23)<>0,CHOOSE(DETAILS!$B$2,"Wielokrotność: ","Order in multiples of: ","Bestellen in Vielfachen von: ","Commander par multiples de : ","Pedir en múltiplos de: ","Ordinare in multipli di: ","Objednávejte násobky: ","Objednávajte násobky: ")&BASE_PRICES!E23,IF(ISNUMBER(H24),CHOOSE(DETAILS!$B$2,"Wyceniono","Priced","Bepreist","Chiffré","Calculado","Prezzo calcolato","Cena vypočtena","Cena vypočítaná"),CHOOSE(DETAILS!$B$2,"Cena na zapytanie","Price on request","Preis auf Anfrage","Prix sur demande","Precio a consultar","Prezzo su richiesta","Cena na dotaz","Cena na vyžiadanie")))))))
A25: #VALUE! | B25: =CHOOSE(DETAILS!$B$2,"Cienka świeca z wosku pszczelego","Thin beeswax candle","Dünne Bienenwachskerze","Bougie fine en cire d’abeille","Vela fina de cera de abeja","Candela sottile in cera d’api","Tenká svíčka ze včelího vosku","Tenká sviečka zo včelieho vosku") -> Thin beeswax candle | C25: =CHOOSE(DETAILS!$B$2,"Różowa","Pink","Rosa","Rose","Rosa","Rosa","Růžová","Ružová") -> Pink | D25: 260 × 6 mm | E25: =CHOOSE(DETAILS!$B$2,"szt.","piece","Stück","pièce","unidad","pz.","ks","ks") -> piece | F25: =ROUND(BASE_PRICES!B24*(1+DETAILS!$B$30)/DETAILS!$B$26,2) -> 1.75 | G25: 0 | H25: =IF(ISNUMBER(PRICES!V24),ROUND(PRICES!V24*(1+DETAILS!$B$30)/DETAILS!$B$26,4),"") -> 0 | I25: =IF(AND(ISNUMBER(PRICES!V24),BASE_PRICES!B24>0),1-PRICES!V24/BASE_PRICES!B24,"") | J25: =IF(ISNUMBER(H25),ROUND(G25*H25,2),"") | K25: Allegro | L25: =IF(NOT(ISNUMBER(G25)),CHOOSE(DETAILS!$B$2,"Wpisz liczbę całkowitą ≥ 0","Enter a whole number ≥ 0","Ganze Zahl ≥ 0 eingeben","Saisir un entier ≥ 0","Introduzca un entero ≥ 0","Inserire un numero intero ≥ 0","Zadejte celé číslo ≥ 0","Zadajte celé číslo ≥ 0"),IF(OR(G25<0,MOD(G25,1)<>0),CHOOSE(DETAILS!$B$2,"Wpisz liczbę całkowitą ≥ 0","Enter a whole number ≥ 0","Ganze Zahl ≥ 0 eingeben","Saisir un entier ≥ 0","Introduzca un entero ≥ 0","Inserire un numero intero ≥ 0","Zadejte celé číslo ≥ 0","Zadajte celé číslo ≥ 0"),IF(G25=0,"",IF(G25<BASE_PRICES!D24,CHOOSE(DETAILS!$B$2,"Minimum: ","Minimum: ","Mindestmenge: ","Minimum : ","Mínimo: ","Minimo: ","Minimum: ","Minimum: ")&BASE_PRICES!D24,IF(MOD(G25,BASE_PRICES!E24)<>0,CHOOSE(DETAILS!$B$2,"Wielokrotność: ","Order in multiples of: ","Bestellen in Vielfachen von: ","Commander par multiples de : ","Pedir en múltiplos de: ","Ordinare in multipli di: ","Objednávejte násobky: ","Objednávajte násobky: ")&BASE_PRICES!E24,IF(ISNUMBER(H25),CHOOSE(DETAILS!$B$2,"Wyceniono","Priced","Bepreist","Chiffré","Calculado","Prezzo calcolato","Cena vypočtena","Cena vypočítaná"),CHOOSE(DETAILS!$B$2,"Cena na zapytanie","Price on request","Preis auf Anfrage","Prix sur demande","Precio a consultar","Prezzo su richiesta","Cena na dotaz","Cena na vyžiadanie")))))))
A26: #VALUE! | B26: =CHOOSE(DETAILS!$B$2,"Cienka świeca z wosku pszczelego","Thin beeswax candle","Dünne Bienenwachskerze","Bougie fine en cire d’abeille","Vela fina de cera de abeja","Candela sottile in cera d’api","Tenká svíčka ze včelího vosku","Tenká sviečka zo včelieho vosku") -> Thin beeswax candle | C26: =CHOOSE(DETAILS!$B$2,"Niebieska","Blue","Blau","Bleue","Azul","Blu","Modrá","Modrá") -> Blue | D26: 260 × 6 mm | E26: =CHOOSE(DETAILS!$B$2,"szt.","piece","Stück","pièce","unidad","pz.","ks","ks") -> piece | F26: =ROUND(BASE_PRICES!B25*(1+DETAILS!$B$30)/DETAILS!$B$26,2) -> 1.75 | G26: 0 | H26: =IF(ISNUMBER(PRICES!V25),ROUND(PRICES!V25*(1+DETAILS!$B$30)/DETAILS!$B$26,4),"") -> 0 | I26: =IF(AND(ISNUMBER(PRICES!V25),BASE_PRICES!B25>0),1-PRICES!V25/BASE_PRICES!B25,"") | J26: =IF(ISNUMBER(H26),ROUND(G26*H26,2),"") | K26: Allegro | L26: =IF(NOT(ISNUMBER(G26)),CHOOSE(DETAILS!$B$2,"Wpisz liczbę całkowitą ≥ 0","Enter a whole number ≥ 0","Ganze Zahl ≥ 0 eingeben","Saisir un entier ≥ 0","Introduzca un entero ≥ 0","Inserire un numero intero ≥ 0","Zadejte celé číslo ≥ 0","Zadajte celé číslo ≥ 0"),IF(OR(G26<0,MOD(G26,1)<>0),CHOOSE(DETAILS!$B$2,"Wpisz liczbę całkowitą ≥ 0","Enter a whole number ≥ 0","Ganze Zahl ≥ 0 eingeben","Saisir un entier ≥ 0","Introduzca un entero ≥ 0","Inserire un numero intero ≥ 0","Zadejte celé číslo ≥ 0","Zadajte celé číslo ≥ 0"),IF(G26=0,"",IF(G26<BASE_PRICES!D25,CHOOSE(DETAILS!$B$2,"Minimum: ","Minimum: ","Mindestmenge: ","Minimum : ","Mínimo: ","Minimo: ","Minimum: ","Minimum: ")&BASE_PRICES!D25,IF(MOD(G26,BASE_PRICES!E25)<>0,CHOOSE(DETAILS!$B$2,"Wielokrotność: ","Order in multiples of: ","Bestellen in Vielfachen von: ","Commander par multiples de : ","Pedir en múltiplos de: ","Ordinare in multipli di: ","Objednávejte násobky: ","Objednávajte násobky: ")&BASE_PRICES!E25,IF(ISNUMBER(H26),CHOOSE(DETAILS!$B$2,"Wyceniono","Priced","Bepreist","Chiffré","Calculado","Prezzo calcolato","Cena vypočtena","Cena vypočítaná"),CHOOSE(DETAILS!$B$2,"Cena na zapytanie","Price on request","Preis auf Anfrage","Prix sur demande","Precio a consultar","Prezzo su richiesta","Cena na dotaz","Cena na vyžiadanie")))))))
A27: #VALUE! | B27: =CHOOSE(DETAILS!$B$2,"Cienka świeca z wosku pszczelego","Thin beeswax candle","Dünne Bienenwachskerze","Bougie fine en cire d’abeille","Vela fina de cera de abeja","Candela sottile in cera d’api","Tenká svíčka ze včelího vosku","Tenká sviečka zo včelieho vosku") -> Thin beeswax candle | C27: =CHOOSE(DETAILS!$B$2,"Fioletowa","Purple","Violett","Violette","Violeta","Viola","Fialová","Fialová") -> Purple | D27: 260 × 6 mm | E27: =CHOOSE(DETAILS!$B$2,"szt.","piece","Stück","pièce","unidad","pz.","ks","ks") -> piece | F27: =ROUND(BASE_PRICES!B26*(1+DETAILS!$B$30)/DETAILS!$B$26,2) -> 1.75 | G27: 0 | H27: =IF(ISNUMBER(PRICES!V26),ROUND(PRICES!V26*(1+DETAILS!$B$30)/DETAILS!$B$26,4),"") -> 0 | I27: =IF(AND(ISNUMBER(PRICES!V26),BASE_PRICES!B26>0),1-PRICES!V26/BASE_PRICES!B26,"") | J27: =IF(ISNUMBER(H27),ROUND(G27*H27,2),"") | K27: Allegro | L27: =IF(NOT(ISNUMBER(G27)),CHOOSE(DETAILS!$B$2,"Wpisz liczbę całkowitą ≥ 0","Enter a whole number ≥ 0","Ganze Zahl ≥ 0 eingeben","Saisir un entier ≥ 0","Introduzca un entero ≥ 0","Inserire un numero intero ≥ 0","Zadejte celé číslo ≥ 0","Zadajte celé číslo ≥ 0"),IF(OR(G27<0,MOD(G27,1)<>0),CHOOSE(DETAILS!$B$2,"Wpisz liczbę całkowitą ≥ 0","Enter a whole number ≥ 0","Ganze Zahl ≥ 0 eingeben","Saisir un entier ≥ 0","Introduzca un entero ≥ 0","Inserire un numero intero ≥ 0","Zadejte celé číslo ≥ 0","Zadajte celé číslo ≥ 0"),IF(G27=0,"",IF(G27<BASE_PRICES!D26,CHOOSE(DETAILS!$B$2,"Minimum: ","Minimum: ","Mindestmenge: ","Minimum : ","Mínimo: ","Minimo: ","Minimum: ","Minimum: ")&BASE_PRICES!D26,IF(MOD(G27,BASE_PRICES!E26)<>0,CHOOSE(DETAILS!$B$2,"Wielokrotność: ","Order in multiples of: ","Bestellen in Vielfachen von: ","Commander par multiples de : ","Pedir en múltiplos de: ","Ordinare in multipli di: ","Objednávejte násobky: ","Objednávajte násobky: ")&BASE_PRICES!E26,IF(ISNUMBER(H27),CHOOSE(DETAILS!$B$2,"Wyceniono","Priced","Bepreist","Chiffré","Calculado","Prezzo calcolato","Cena vypočtena","Cena vypočítaná"),CHOOSE(DETAILS!$B$2,"Cena na zapytanie","Price on request","Preis auf Anfrage","Prix sur demande","Precio a consultar","Prezzo su richiesta","Cena na dotaz","Cena na vyžiadanie")))))))
A28: #VALUE! | B28: =CHOOSE(DETAILS!$B$2,"Cienka świeca z wosku pszczelego","Thin beeswax candle","Dünne Bienenwachskerze","Bougie fine en cire d’abeille","Vela fina de cera de abeja","Candela sottile in cera d’api","Tenká svíčka ze včelího vosku","Tenká sviečka zo včelieho vosku") -> Thin beeswax candle | C28: =CHOOSE(DETAILS!$B$2,"Czerwona","Red","Rot","Rouge","Roja","Rosso","Červená","Červená") -> Red | D28: 260 × 6 mm | E28: =CHOOSE(DETAILS!$B$2,"szt.","piece","Stück","pièce","unidad","pz.","ks","ks") -> piece | F28: =ROUND(BASE_PRICES!B27*(1+DETAILS!$B$30)/DETAILS!$B$26,2) -> 1.75 | G28: 0 | H28: =IF(ISNUMBER(PRICES!V27),ROUND(PRICES!V27*(1+DETAILS!$B$30)/DETAILS!$B$26,4),"") -> 0 | I28: =IF(AND(ISNUMBER(PRICES!V27),BASE_PRICES!B27>0),1-PRICES!V27/BASE_PRICES!B27,"") | J28: =IF(ISNUMBER(H28),ROUND(G28*H28,2),"") | K28: Allegro | L28: =IF(NOT(ISNUMBER(G28)),CHOOSE(DETAILS!$B$2,"Wpisz liczbę całkowitą ≥ 0","Enter a whole number ≥ 0","Ganze Zahl ≥ 0 eingeben","Saisir un entier ≥ 0","Introduzca un entero ≥ 0","Inserire un numero intero ≥ 0","Zadejte celé číslo ≥ 0","Zadajte celé číslo ≥ 0"),IF(OR(G28<0,MOD(G28,1)<>0),CHOOSE(DETAILS!$B$2,"Wpisz liczbę całkowitą ≥ 0","Enter a whole number ≥ 0","Ganze Zahl ≥ 0 eingeben","Saisir un entier ≥ 0","Introduzca un entero ≥ 0","Inserire un numero intero ≥ 0","Zadejte celé číslo ≥ 0","Zadajte celé číslo ≥ 0"),IF(G28=0,"",IF(G28<BASE_PRICES!D27,CHOOSE(DETAILS!$B$2,"Minimum: ","Minimum: ","Mindestmenge: ","Minimum : ","Mínimo: ","Minimo: ","Minimum: ","Minimum: ")&BASE_PRICES!D27,IF(MOD(G28,BASE_PRICES!E27)<>0,CHOOSE(DETAILS!$B$2,"Wielokrotność: ","Order in multiples of: ","Bestellen in Vielfachen von: ","Commander par multiples de : ","Pedir en múltiplos de: ","Ordinare in multipli di: ","Objednávejte násobky: ","Objednávajte násobky: ")&BASE_PRICES!E27,IF(ISNUMBER(H28),CHOOSE(DETAILS!$B$2,"Wyceniono","Priced","Bepreist","Chiffré","Calculado","Prezzo calcolato","Cena vypočtena","Cena vypočítaná"),CHOOSE(DETAILS!$B$2,"Cena na zapytanie","Price on request","Preis auf Anfrage","Prix sur demande","Precio a consultar","Prezzo su richiesta","Cena na dotaz","Cena na vyžiadanie")))))))
A29: #VALUE! | B29: =CHOOSE(DETAILS!$B$2,"Cienka świeca z wosku pszczelego","Thin beeswax candle","Dünne Bienenwachskerze","Bougie fine en cire d’abeille","Vela fina de cera de abeja","Candela sottile in cera d’api","Tenká svíčka ze včelího vosku","Tenká sviečka zo včelieho vosku") -> Thin beeswax candle | C29: =CHOOSE(DETAILS!$B$2,"Czarna","Black","Schwarz","Noire","Negra","Nero","Černá","Čierna") -> Black | D29: 260 × 6 mm | E29: =CHOOSE(DETAILS!$B$2,"szt.","piece","Stück","pièce","unidad","pz.","ks","ks") -> piece | F29: =ROUND(BASE_PRICES!B28*(1+DETAILS!$B$30)/DETAILS!$B$26,2) -> 1.75 | G29: 0 | H29: =IF(ISNUMBER(PRICES!V28),ROUND(PRICES!V28*(1+DETAILS!$B$30)/DETAILS!$B$26,4),"") -> 0 | I29: =IF(AND(ISNUMBER(PRICES!V28),BASE_PRICES!B28>0),1-PRICES!V28/BASE_PRICES!B28,"") | J29: =IF(ISNUMBER(H29),ROUND(G29*H29,2),"") | K29: Allegro | L29: =IF(NOT(ISNUMBER(G29)),CHOOSE(DETAILS!$B$2,"Wpisz liczbę całkowitą ≥ 0","Enter a whole number ≥ 0","Ganze Zahl ≥ 0 eingeben","Saisir un entier ≥ 0","Introduzca un entero ≥ 0","Inserire un numero intero ≥ 0","Zadejte celé číslo ≥ 0","Zadajte celé číslo ≥ 0"),IF(OR(G29<0,MOD(G29,1)<>0),CHOOSE(DETAILS!$B$2,"Wpisz liczbę całkowitą ≥ 0","Enter a whole number ≥ 0","Ganze Zahl ≥ 0 eingeben","Saisir un entier ≥ 0","Introduzca un entero ≥ 0","Inserire un numero intero ≥ 0","Zadejte celé číslo ≥ 0","Zadajte celé číslo ≥ 0"),IF(G29=0,"",IF(G29<BASE_PRICES!D28,CHOOSE(DETAILS!$B$2,"Minimum: ","Minimum: ","Mindestmenge: ","Minimum : ","Mínimo: ","Minimo: ","Minimum: ","Minimum: ")&BASE_PRICES!D28,IF(MOD(G29,BASE_PRICES!E28)<>0,CHOOSE(DETAILS!$B$2,"Wielokrotność: ","Order in multiples of: ","Bestellen in Vielfachen von: ","Commander par multiples de : ","Pedir en múltiplos de: ","Ordinare in multipli di: ","Objednávejte násobky: ","Objednávajte násobky: ")&BASE_PRICES!E28,IF(ISNUMBER(H29),CHOOSE(DETAILS!$B$2,"Wyceniono","Priced","Bepreist","Chiffré","Calculado","Prezzo calcolato","Cena vypočtena","Cena vypočítaná"),CHOOSE(DETAILS!$B$2,"Cena na zapytanie","Price on request","Preis auf Anfrage","Prix sur demande","Precio a consultar","Prezzo su richiesta","Cena na dotaz","Cena na vyžiadanie")))))))
A30: #VALUE! | B30: =CHOOSE(DETAILS!$B$2,"Świeca — sprawy urzędowe i prawne","Candle — administrative and legal matters","Kerze — Behörden- und Rechtsangelegenheiten","Bougie — démarches administratives et juridiques","Vela — asuntos administrativos y legales","Candela — questioni amministrative e legali","Svíčka — úřední a právní záležitosti","Sviečka — úradné a právne záležitosti") -> Candle — administrative and legal matters | C30: =CHOOSE(DETAILS!$B$2,"Błękitna","Light blue","Hellblau","Bleu clair ","Celeste","Azzurro","Světle modrá","Svetlomodrá") -> Light blue | D30: 150х20 | E30: =CHOOSE(DETAILS!$B$2,"szt.","piece","Stück","pièce","unidad","pz.","ks","ks") -> piece | F30: =ROUND(BASE_PRICES!B29*(1+DETAILS!$B$30)/DETAILS!$B$26,2) -> 36.16 | G30: 0 | H30: =IF(ISNUMBER(PRICES!V29),ROUND(PRICES!V29*(1+DETAILS!$B$30)/DETAILS!$B$26,4),"") -> 0 | I30: =IF(AND(ISNUMBER(PRICES!V29),BASE_PRICES!B29>0),1-PRICES!V29/BASE_PRICES!B29,"") | J30: =IF(ISNUMBER(H30),ROUND(G30*H30,2),"") | K30: Allegro | L30: =IF(NOT(ISNUMBER(G30)),CHOOSE(DETAILS!$B$2,"Wpisz liczbę całkowitą ≥ 0","Enter a whole number ≥ 0","Ganze Zahl ≥ 0 eingeben","Saisir un entier ≥ 0","Introduzca un entero ≥ 0","Inserire un numero intero ≥ 0","Zadejte celé číslo ≥ 0","Zadajte celé číslo ≥ 0"),IF(OR(G30<0,MOD(G30,1)<>0),CHOOSE(DETAILS!$B$2,"Wpisz liczbę całkowitą ≥ 0","Enter a whole number ≥ 0","Ganze Zahl ≥ 0 eingeben","Saisir un entier ≥ 0","Introduzca un entero ≥ 0","Inserire un numero intero ≥ 0","Zadejte celé číslo ≥ 0","Zadajte celé číslo ≥ 0"),IF(G30=0,"",IF(G30<BASE_PRICES!D29,CHOOSE(DETAILS!$B$2,"Minimum: ","Minimum: ","Mindestmenge: ","Minimum : ","Mínimo: ","Minimo: ","Minimum: ","Minimum: ")&BASE_PRICES!D29,IF(MOD(G30,BASE_PRICES!E29)<>0,CHOOSE(DETAILS!$B$2,"Wielokrotność: ","Order in multiples of: ","Bestellen in Vielfachen von: ","Commander par multiples de : ","Pedir en múltiplos de: ","Ordinare in multipli di: ","Objednávejte násobky: ","Objednávajte násobky: ")&BASE_PRICES!E29,IF(ISNUMBER(H30),CHOOSE(DETAILS!$B$2,"Wyceniono","Priced","Bepreist","Chiffré","Calculado","Prezzo calcolato","Cena vypočtena","Cena vypočítaná"),CHOOSE(DETAILS!$B$2,"Cena na zapytanie","Price on request","Preis auf Anfrage","Prix sur demande","Precio a consultar","Prezzo su richiesta","Cena na dotaz","Cena na vyžiadanie")))))))
A31: #VALUE! | B31: =CHOOSE(DETAILS!$B$2,"Świeca — aktywacja amuletów","Candle — amulet activation","Kerze — Amulettaktivierung","Bougie — activation des amulettes","Vela — activación de amuletos","Candela — attivazione degli amuleti","Svíčka — aktivace amuletů","Sviečka — aktivácia amuletov") -> Candle — amulet activation | C31: =CHOOSE(DETAILS!$B$2,"Naturalny","Natural beeswax","Bienenwachsgelb","Cire naturelle","Cera natural","Colore naturale della cera d’api","Přírodní barva včelího vosku","Prírodná farba včelieho vosku") -> Natural beeswax | D31: 150х20 | E31: =CHOOSE(DETAILS!$B$2,"szt.","piece","Stück","pièce","unidad","pz.","ks","ks") -> piece | F31: =ROUND(BASE_PRICES!B30*(1+DETAILS!$B$30)/DETAILS!$B$26,2) -> 37.15 | G31: 0 | H31: =IF(ISNUMBER(PRICES!V30),ROUND(PRICES!V30*(1+DETAILS!$B$30)/DETAILS!$B$26,4),"") -> 0 | I31: =IF(AND(ISNUMBER(PRICES!V30),BASE_PRICES!B30>0),1-PRICES!V30/BASE_PRICES!B30,"") | J31: =IF(ISNUMBER(H31),ROUND(G31*H31,2),"") | K31: Allegro | L31: =IF(NOT(ISNUMBER(G31)),CHOOSE(DETAILS!$B$2,"Wpisz liczbę całkowitą ≥ 0","Enter a whole number ≥ 0","Ganze Zahl ≥ 0 eingeben","Saisir un entier ≥ 0","Introduzca un entero ≥ 0","Inserire un numero intero ≥ 0","Zadejte celé číslo ≥ 0","Zadajte celé číslo ≥ 0"),IF(OR(G31<0,MOD(G31,1)<>0),CHOOSE(DETAILS!$B$2,"Wpisz liczbę całkowitą ≥ 0","Enter a whole number ≥ 0","Ganze Zahl ≥ 0 eingeben","Saisir un entier ≥ 0","Introduzca un entero ≥ 0","Inserire un numero intero ≥ 0","Zadejte celé číslo ≥ 0","Zadajte celé číslo ≥ 0"),IF(G31=0,"",IF(G31<BASE_PRICES!D30,CHOOSE(DETAILS!$B$2,"Minimum: ","Minimum: ","Mindestmenge: ","Minimum : ","Mínimo: ","Minimo: ","Minimum: ","Minimum: ")&BASE_PRICES!D30,IF(MOD(G31,BASE_PRICES!E30)<>0,CHOOSE(DETAILS!$B$2,"Wielokrotność: ","Order in multiples of: ","Bestellen in Vielfachen von: ","Commander par multiples de : ","Pedir en múltiplos de: ","Ordinare in multipli di: ","Objednávejte násobky: ","Objednávajte násobky: ")&BASE_PRICES!E30,IF(ISNUMBER(H31),CHOOSE(DETAILS!$B$2,"Wyceniono","Priced","Bepreist","Chiffré","Calculado","Prezzo calcolato","Cena vypočtena","Cena vypočítaná"),CHOOSE(DETAILS!$B$2,"Cena na zapytanie","Price on request","Preis auf Anfrage","Prix sur demande","Precio a consultar","Prezzo su richiesta","Cena na dotaz","Cena na vyžiadanie")))))))
A32: #VALUE! | B32: =CHOOSE(DETAILS!$B$2,"Świeca — otwarcie dróg","Candle — opening paths","Kerze — Wege öffnen","Bougie — ouverture des chemins","Vela — apertura de caminos","Candela — apertura delle vie","Svíčka — otevírání cest","Sviečka — otváranie ciest") -> Candle — opening paths | C32: =CHOOSE(DETAILS!$B$2,"Pomarańczowa","Orange","Orange","Orange","Naranja","Arancione","Oranžová","Oranžová") -> Orange | D32: 150х20 | E32: =CHOOSE(DETAILS!$B$2,"szt.","piece","Stück","pièce","unidad","pz.","ks","ks") -> piece | F32: =ROUND(BASE_PRICES!B31*(1+DETAILS!$B$30)/DETAILS!$B$26,2) -> 36.18 | G32: 0 | H32: =IF(ISNUMBER(PRICES!V31),ROUND(PRICES!V31*(1+DETAILS!$B$30)/DETAILS!$B$26,4),"") -> 0 | I32: =IF(AND(ISNUMBER(PRICES!V31),BASE_PRICES!B31>0),1-PRICES!V31/BASE_PRICES!B31,"") | J32: =IF(ISNUMBER(H32),ROUND(G32*H32,2),"") | K32: Allegro | L32: =IF(NOT(ISNUMBER(G32)),CHOOSE(DETAILS!$B$2,"Wpisz liczbę całkowitą ≥ 0","Enter a whole number ≥ 0","Ganze Zahl ≥ 0 eingeben","Saisir un entier ≥ 0","Introduzca un entero ≥ 0","Inserire un numero intero ≥ 0","Zadejte celé číslo ≥ 0","Zadajte celé číslo ≥ 0"),IF(OR(G32<0,MOD(G32,1)<>0),CHOOSE(DETAILS!$B$2,"Wpisz liczbę całkowitą ≥ 0","Enter a whole number ≥ 0","Ganze Zahl ≥ 0 eingeben","Saisir un entier ≥ 0","Introduzca un entero ≥ 0","Inserire un numero intero ≥ 0","Zadejte celé číslo ≥ 0","Zadajte celé číslo ≥ 0"),IF(G32=0,"",IF(G32<BASE_PRICES!D31,CHOOSE(DETAILS!$B$2,"Minimum: ","Minimum: ","Mindestmenge: ","Minimum : ","Mínimo: ","Minimo: ","Minimum: ","Minimum: ")&BASE_PRICES!D31,IF(MOD(G32,BASE_PRICES!E31)<>0,CHOOSE(DETAILS!$B$2,"Wielokrotność: ","Order in multiples of: ","Bestellen in Vielfachen von: ","Commander par multiples de : ","Pedir en múltiplos de: ","Ordinare in multipli di: ","Objednávejte násobky: ","Objednávajte násobky: ")&BASE_PRICES!E31,IF(ISNUMBER(H32),CHOOSE(DETAILS!$B$2,"Wyceniono","Priced","Bepreist","Chiffré","Calculado","Prezzo calcolato","Cena vypočtena","Cena vypočítaná"),CHOOSE(DETAILS!$B$2,"Cena na zapytanie","Price on request","Preis auf Anfrage","Prix sur demande","Precio a consultar","Prezzo su richiesta","Cena na dotaz","Cena na vyžiadanie")))))))
A33: #VALUE! | B33: =CHOOSE(DETAILS!$B$2,"Świeca Odnowy","Renewal candle","Erneuerungskerze","Bougie du renouveau","Vela de renovación","Candela del rinnovamento","Svíčka obnovy","Sviečka obnovy") -> Renewal candle | C33: =CHOOSE(DETAILS!$B$2,"Naturalny","Natural beeswax","Bienenwachsgelb","Cire naturelle","Cera natural","Colore naturale della cera d’api","Přírodní barva včelího vosku","Prírodná farba včelieho vosku") -> Natural beeswax | E33: =CHOOSE(DETAILS!$B$2,"szt.","piece","Stück","pièce","unidad","pz.","ks","ks") -> piece | F33: =ROUND(BASE_PRICES!B32*(1+DETAILS!$B$30)/DETAILS!$B$26,2) -> 26.9 | G33: 0 | H33: =IF(ISNUMBER(PRICES!V32),ROUND(PRICES!V32*(1+DETAILS!$B$30)/DETAILS!$B$26,4),"") -> 0 | I33: =IF(AND(ISNUMBER(PRICES!V32),BASE_PRICES!B32>0),1-PRICES!V32/BASE_PRICES!B32,"") | J33: =IF(ISNUMBER(H33),ROUND(G33*H33,2),"") | K33: Allegro | L33: =IF(NOT(ISNUMBER(G33)),CHOOSE(DETAILS!$B$2,"Wpisz liczbę całkowitą ≥ 0","Enter a whole number ≥ 0","Ganze Zahl ≥ 0 eingeben","Saisir un entier ≥ 0","Introduzca un entero ≥ 0","Inserire un numero intero ≥ 0","Zadejte celé číslo ≥ 0","Zadajte celé číslo ≥ 0"),IF(OR(G33<0,MOD(G33,1)<>0),CHOOSE(DETAILS!$B$2,"Wpisz liczbę całkowitą ≥ 0","Enter a whole number ≥ 0","Ganze Zahl ≥ 0 eingeben","Saisir un entier ≥ 0","Introduzca un entero ≥ 0","Inserire un numero intero ≥ 0","Zadejte celé číslo ≥ 0","Zadajte celé číslo ≥ 0"),IF(G33=0,"",IF(G33<BASE_PRICES!D32,CHOOSE(DETAILS!$B$2,"Minimum: ","Minimum: ","Mindestmenge: ","Minimum : ","Mínimo: ","Minimo: ","Minimum: ","Minimum: ")&BASE_PRICES!D32,IF(MOD(G33,BASE_PRICES!E32)<>0,CHOOSE(DETAILS!$B$2,"Wielokrotność: ","Order in multiples of: ","Bestellen in Vielfachen von: ","Commander par multiples de : ","Pedir en múltiplos de: ","Ordinare in multipli di: ","Objednávejte násobky: ","Objednávajte násobky: ")&BASE_PRICES!E32,IF(ISNUMBER(H33),CHOOSE(DETAILS!$B$2,"Wyceniono","Priced","Bepreist","Chiffré","Calculado","Prezzo calcolato","Cena vypočtena","Cena vypočítaná"),CHOOSE(DETAILS!$B$2,"Cena na zapytanie","Price on request","Preis auf Anfrage","Prix sur demande","Precio a consultar","Prezzo su richiesta","Cena na dotaz","Cena na vyžiadanie")))))))
A34: #VALUE! | B34: =CHOOSE(DETAILS!$B$2,"Świeca — harmonia domu","Candle — home harmony","Kerze — Harmonie im Zuhause","Bougie — harmonie du foyer","Vela — armonía del hogar","Candela — armonia della casa","Svíčka — harmonie domova","Sviečka — harmónia domova") -> Candle — home harmony | C34: =CHOOSE(DETAILS!$B$2,"","","","","","","","") | D34: 150х20 | E34: =CHOOSE(DETAILS!$B$2,"szt.","piece","Stück","pièce","unidad","pz.","ks","ks") -> piece | F34: =ROUND(BASE_PRICES!B33*(1+DETAILS!$B$30)/DETAILS!$B$26,2) -> 38.54 | G34: 0 | H34: =IF(ISNUMBER(PRICES!V33),ROUND(PRICES!V33*(1+DETAILS!$B$30)/DETAILS!$B$26,4),"") -> 0 | I34: =IF(AND(ISNUMBER(PRICES!V33),BASE_PRICES!B33>0),1-PRICES!V33/BASE_PRICES!B33,"") | J34: =IF(ISNUMBER(H34),ROUND(G34*H34,2),"") | K34: Allegro | L34: =IF(NOT(ISNUMBER(G34)),CHOOSE(DETAILS!$B$2,"Wpisz liczbę całkowitą ≥ 0","Enter a whole number ≥ 0","Ganze Zahl ≥ 0 eingeben","Saisir un entier ≥ 0","Introduzca un entero ≥ 0","Inserire un numero intero ≥ 0","Zadejte celé číslo ≥ 0","Zadajte celé číslo ≥ 0"),IF(OR(G34<0,MOD(G34,1)<>0),CHOOSE(DETAILS!$B$2,"Wpisz liczbę całkowitą ≥ 0","Enter a whole number ≥ 0","Ganze Zahl ≥ 0 eingeben","Saisir un entier ≥ 0","Introduzca un entero ≥ 0","Inserire un numero intero ≥ 0","Zadejte celé číslo ≥ 0","Zadajte celé číslo ≥ 0"),IF(G34=0,"",IF(G34<BASE_PRICES!D33,CHOOSE(DETAILS!$B$2,"Minimum: ","Minimum: ","Mindestmenge: ","Minimum : ","Mínimo: ","Minimo: ","Minimum: ","Minimum: ")&BASE_PRICES!D33,IF(MOD(G34,BASE_PRICES!E33)<>0,CHOOSE(DETAILS!$B$2,"Wielokrotność: ","Order in multiples of: ","Bestellen in Vielfachen von: ","Commander par multiples de : ","Pedir en múltiplos de: ","Ordinare in multipli di: ","Objednávejte násobky: ","Objednávajte násobky: ")&BASE_PRICES!E33,IF(ISNUMBER(H34),CHOOSE(DETAILS!$B$2,"Wyceniono","Priced","Bepreist","Chiffré","Calculado","Prezzo calcolato","Cena vypočtena","Cena vypočítaná"),CHOOSE(DETAILS!$B$2,"Cena na zapytanie","Price on request","Preis auf Anfrage","Prix sur demande","Precio a consultar","Prezzo su richiesta","Cena na dotaz","Cena na vyžiadanie")))))))
A35: #VALUE! | B35: =CHOOSE(DETAILS!$B$2,"Świeca — harmonia relacji","Candle — relationship harmony","Kerze — Beziehungsharmonie","Bougie — harmonie des relations","Vela — armonía en las relaciones","Candela — armonia nelle relazioni","Svíčka — harmonie vztahů","Sviečka — harmónia vzťahov") -> Candle — relationship harmony | C35: =CHOOSE(DETAILS!$B$2,"Naturalny","Natural beeswax","Bienenwachsgelb","Cire naturelle","Cera natural","Colore naturale della cera d’api","Přírodní barva včelího vosku","Prírodná farba včelieho vosku") -> Natural beeswax | E35: =CHOOSE(DETAILS!$B$2,"szt.","piece","Stück","pièce","unidad","pz.","ks","ks") -> piece | F35: =ROUND(BASE_PRICES!B34*(1+DETAILS!$B$30)/DETAILS!$B$26,2) -> 24.92 | G35: 0 | H35: =IF(ISNUMBER(PRICES!V34),ROUND(PRICES!V34*(1+DETAILS!$B$30)/DETAILS!$B$26,4),"") -> 0 | I35: =IF(AND(ISNUMBER(PRICES!V34),BASE_PRICES!B34>0),1-PRICES!V34/BASE_PRICES!B34,"") | J35: =IF(ISNUMBER(H35),ROUND(G35*H35,2),"") | K35: Allegro | L35: =IF(NOT(ISNUMBER(G35)),CHOOSE(DETAILS!$B$2,"Wpisz liczbę całkowitą ≥ 0","Enter a whole number ≥ 0","Ganze Zahl ≥ 0 eingeben","Saisir un entier ≥ 0","Introduzca un entero ≥ 0","Inserire un numero intero ≥ 0","Zadejte celé číslo ≥ 0","Zadajte celé číslo ≥ 0"),IF(OR(G35<0,MOD(G35,1)<>0),CHOOSE(DETAILS!$B$2,"Wpisz liczbę całkowitą ≥ 0","Enter a whole number ≥ 0","Ganze Zahl ≥ 0 eingeben","Saisir un entier ≥ 0","Introduzca un entero ≥ 0","Inserire un numero intero ≥ 0","Zadejte celé číslo ≥ 0","Zadajte celé číslo ≥ 0"),IF(G35=0,"",IF(G35<BASE_PRICES!D34,CHOOSE(DETAILS!$B$2,"Minimum: ","Minimum: ","Mindestmenge: ","Minimum : ","Mínimo: ","Minimo: ","Minimum: ","Minimum: ")&BASE_PRICES!D34,IF(MOD(G35,BASE_PRICES!E34)<>0,CHOOSE(DETAILS!$B$2,"Wielokrotność: ","Order in multiples of: ","Bestellen in Vielfachen von: ","Commander par multiples de : ","Pedir en múltiplos de: ","Ordinare in multipli di: ","Objednávejte násobky: ","Objednávajte násobky: ")&BASE_PRICES!E34,IF(ISNUMBER(H35),CHOOSE(DETAILS!$B$2,"Wyceniono","Priced","Bepreist","Chiffré","Calculado","Prezzo calcolato","Cena vypočtena","Cena vypočítaná"),CHOOSE(DETAILS!$B$2,"Cena na zapytanie","Price on request","Preis auf Anfrage","Prix sur demande","Precio a consultar","Prezzo su richiesta","Cena na dotaz","Cena na vyžiadanie")))))))
A36: #VALUE! | B36: =CHOOSE(DETAILS!$B$2,"Świeca Hekate","Hecate candle","Hekate-Kerze","Bougie Hécate","Vela Hécate","Candela di Ecate","Svíčka Hekaté","Sviečka Hekaté") -> Hecate candle | C36: =CHOOSE(DETAILS!$B$2,"","","","","","","","") | D36: 60x55x2mm | E36: =CHOOSE(DETAILS!$B$2,"szt.","piece","Stück","pièce","unidad","pz.","ks","ks") -> piece | F36: =ROUND(BASE_PRICES!B35*(1+DETAILS!$B$30)/DETAILS!$B$26,2) -> 59.99 | G36: 0 | H36: =IF(ISNUMBER(PRICES!V35),ROUND(PRICES!V35*(1+DETAILS!$B$30)/DETAILS!$B$26,4),"") -> 0 | I36: =IF(AND(ISNUMBER(PRICES!V35),BASE_PRICES!B35>0),1-PRICES!V35/BASE_PRICES!B35,"") | J36: =IF(ISNUMBER(H36),ROUND(G36*H36,2),"") | K36: Allegro | L36: =IF(NOT(ISNUMBER(G36)),CHOOSE(DETAILS!$B$2,"Wpisz liczbę całkowitą ≥ 0","Enter a whole number ≥ 0","Ganze Zahl ≥ 0 eingeben","Saisir un entier ≥ 0","Introduzca un entero ≥ 0","Inserire un numero intero ≥ 0","Zadejte celé číslo ≥ 0","Zadajte celé číslo ≥ 0"),IF(OR(G36<0,MOD(G36,1)<>0),CHOOSE(DETAILS!$B$2,"Wpisz liczbę całkowitą ≥ 0","Enter a whole number ≥ 0","Ganze Zahl ≥ 0 eingeben","Saisir un entier ≥ 0","Introduzca un entero ≥ 0","Inserire un numero intero ≥ 0","Zadejte celé číslo ≥ 0","Zadajte celé číslo ≥ 0"),IF(G36=0,"",IF(G36<BASE_PRICES!D35,CHOOSE(DETAILS!$B$2,"Minimum: ","Minimum: ","Mindestmenge: ","Minimum : ","Mínimo: ","Minimo: ","Minimum: ","Minimum: ")&BASE_PRICES!D35,IF(MOD(G36,BASE_PRICES!E35)<>0,CHOOSE(DETAILS!$B$2,"Wielokrotność: ","Order in multiples of: ","Bestellen in Vielfachen von: ","Commander par multiples de : ","Pedir en múltiplos de: ","Ordinare in multipli di: ","Objednávejte násobky: ","Objednávajte násobky: ")&BASE_PRICES!E35,IF(ISNUMBER(H36),CHOOSE(DETAILS!$B$2,"Wyceniono","Priced","Bepreist","Chiffré","Calculado","Prezzo calcolato","Cena vypočtena","Cena vypočítaná"),CHOOSE(DETAILS!$B$2,"Cena na zapytanie","Price on request","Preis auf Anfrage","Prix sur demande","Precio a consultar","Prezzo su richiesta","Cena na dotaz","Cena na vyžiadanie")))))))
A37: #VALUE! | B37: =CHOOSE(DETAILS!$B$2,"Świeca — pieniądze i sukces finansowy","Candle — money and financial success","Kerze — Geld und finanzieller Erfolg","Bougie — argent et réussite financière","Vela — dinero y éxito financiero","Candela — denaro e successo finanziario","Svíčka — peníze a finanční úspěch","Sviečka — peniaze a finančný úspech") -> Candle — money and financial success | C37: =CHOOSE(DETAILS!$B$2,"Zielona","Green","Grün","Verte","Verde","Verde","Zelená","Zelená") -> Green | E37: =CHOOSE(DETAILS!$B$2,"szt.","piece","Stück","pièce","unidad","pz.","ks","ks") -> piece | F37: =ROUND(BASE_PRICES!B36*(1+DETAILS!$B$30)/DETAILS!$B$26,2) -> 35.79 | G37: 0 | H37: =IF(ISNUMBER(PRICES!V36),ROUND(PRICES!V36*(1+DETAILS!$B$30)/DETAILS!$B$26,4),"") -> 0 | I37: =IF(AND(ISNUMBER(PRICES!V36),BASE_PRICES!B36>0),1-PRICES!V36/BASE_PRICES!B36,"") | J37: =IF(ISNUMBER(H37),ROUND(G37*H37,2),"") | K37: Allegro | L37: =IF(NOT(ISNUMBER(G37)),CHOOSE(DETAILS!$B$2,"Wpisz liczbę całkowitą ≥ 0","Enter a whole number ≥ 0","Ganze Zahl ≥ 0 eingeben","Saisir un entier ≥ 0","Introduzca un entero ≥ 0","Inserire un numero intero ≥ 0","Zadejte celé číslo ≥ 0","Zadajte celé číslo ≥ 0"),IF(OR(G37<0,MOD(G37,1)<>0),CHOOSE(DETAILS!$B$2,"Wpisz liczbę całkowitą ≥ 0","Enter a whole number ≥ 0","Ganze Zahl ≥ 0 eingeben","Saisir un entier ≥ 0","Introduzca un entero ≥ 0","Inserire un numero intero ≥ 0","Zadejte celé číslo ≥ 0","Zadajte celé číslo ≥ 0"),IF(G37=0,"",IF(G37<BASE_PRICES!D36,CHOOSE(DETAILS!$B$2,"Minimum: ","Minimum: ","Mindestmenge: ","Minimum : ","Mínimo: ","Minimo: ","Minimum: ","Minimum: ")&BASE_PRICES!D36,IF(MOD(G37,BASE_PRICES!E36)<>0,CHOOSE(DETAILS!$B$2,"Wielokrotność: ","Order in multiples of: ","Bestellen in Vielfachen von: ","Commander par multiples de : ","Pedir en múltiplos de: ","Ordinare in multipli di: ","Objednávejte násobky: ","Objednávajte násobky: ")&BASE_PRICES!E36,IF(ISNUMBER(H37),CHOOSE(DETAILS!$B$2,"Wyceniono","Priced","Bepreist","Chiffré","Calculado","Prezzo calcolato","Cena vypočtena","Cena vypočítaná"),CHOOSE(DETAILS!$B$2,"Cena na zapytanie","Price on request","Preis auf Anfrage","Prix sur demande","Precio a consultar","Prezzo su richiesta","Cena na dotaz","Cena na vyžiadanie")))))))
A38: #VALUE! | B38: =CHOOSE(DETAILS!$B$2,"Świeca dla biznesu","Business candle","Geschäftskerze","Bougie pour les affaires","Vela para negocios","Candela per gli affari","Svíčka pro podnikání","Sviečka pre podnikanie") -> Business candle | C38: =CHOOSE(DETAILS!$B$2,"","","","","","","","") | E38: =CHOOSE(DETAILS!$B$2,"szt.","piece","Stück","pièce","unidad","pz.","ks","ks") -> piece | F38: =ROUND(BASE_PRICES!B37*(1+DETAILS!$B$30)/DETAILS!$B$26,2) -> 37.45 | G38: 0 | H38: =IF(ISNUMBER(PRICES!V37),ROUND(PRICES!V37*(1+DETAILS!$B$30)/DETAILS!$B$26,4),"") -> 0 | I38: =IF(AND(ISNUMBER(PRICES!V37),BASE_PRICES!B37>0),1-PRICES!V37/BASE_PRICES!B37,"") | J38: =IF(ISNUMBER(H38),ROUND(G38*H38,2),"") | K38: Allegro | L38: =IF(NOT(ISNUMBER(G38)),CHOOSE(DETAILS!$B$2,"Wpisz liczbę całkowitą ≥ 0","Enter a whole number ≥ 0","Ganze Zahl ≥ 0 eingeben","Saisir un entier ≥ 0","Introduzca un entero ≥ 0","Inserire un numero intero ≥ 0","Zadejte celé číslo ≥ 0","Zadajte celé číslo ≥ 0"),IF(OR(G38<0,MOD(G38,1)<>0),CHOOSE(DETAILS!$B$2,"Wpisz liczbę całkowitą ≥ 0","Enter a whole number ≥ 0","Ganze Zahl ≥ 0 eingeben","Saisir un entier ≥ 0","Introduzca un entero ≥ 0","Inserire un numero intero ≥ 0","Zadejte celé číslo ≥ 0","Zadajte celé číslo ≥ 0"),IF(G38=0,"",IF(G38<BASE_PRICES!D37,CHOOSE(DETAILS!$B$2,"Minimum: ","Minimum: ","Mindestmenge: ","Minimum : ","Mínimo: ","Minimo: ","Minimum: ","Minimum: ")&BASE_PRICES!D37,IF(MOD(G38,BASE_PRICES!E37)<>0,CHOOSE(DETAILS!$B$2,"Wielokrotność: ","Order in multiples of: ","Bestellen in Vielfachen von: ","Commander par multiples de : ","Pedir en múltiplos de: ","Ordinare in multipli di: ","Objednávejte násobky: ","Objednávajte násobky: ")&BASE_PRICES!E37,IF(ISNUMBER(H38),CHOOSE(DETAILS!$B$2,"Wyceniono","Priced","Bepreist","Chiffré","Calculado","Prezzo calcolato","Cena vypočtena","Cena vypočítaná"),CHOOSE(DETAILS!$B$2,"Cena na zapytanie","Price on request","Preis auf Anfrage","Prix sur demande","Precio a consultar","Prezzo su richiesta","Cena na dotaz","Cena na vyžiadanie")))))))
A39: #VALUE! | B39: =CHOOSE(DETAILS!$B$2,"Świeca Dobrobytu","Prosperity candle","Wohlstandskerze","Bougie de prospérité","Vela de prosperidad","Candela della prosperità","Svíčka prosperity","Sviečka prosperity") -> Prosperity candle | C39: =CHOOSE(DETAILS!$B$2,"Naturalny","Natural beeswax","Bienenwachsgelb","Cire naturelle","Cera natural","Colore naturale della cera d’api","Přírodní barva včelího vosku","Prírodná farba včelieho vosku") -> Natural beeswax | E39: =CHOOSE(DETAILS!$B$2,"szt.","piece","Stück","pièce","unidad","pz.","ks","ks") -> piece | F39: =ROUND(BASE_PRICES!B38*(1+DETAILS!$B$30)/DETAILS!$B$26,2) -> 25.2 | G39: 0 | H39: =IF(ISNUMBER(PRICES!V38),ROUND(PRICES!V38*(1+DETAILS!$B$30)/DETAILS!$B$26,4),"") -> 0 | I39: =IF(AND(ISNUMBER(PRICES!V38),BASE_PRICES!B38>0),1-PRICES!V38/BASE_PRICES!B38,"") | J39: =IF(ISNUMBER(H39),ROUND(G39*H39,2),"") | K39: Allegro | L39: =IF(NOT(ISNUMBER(G39)),CHOOSE(DETAILS!$B$2,"Wpisz liczbę całkowitą ≥ 0","Enter a whole number ≥ 0","Ganze Zahl ≥ 0 eingeben","Saisir un entier ≥ 0","Introduzca un entero ≥ 0","Inserire un numero intero ≥ 0","Zadejte celé číslo ≥ 0","Zadajte celé číslo ≥ 0"),IF(OR(G39<0,MOD(G39,1)<>0),CHOOSE(DETAILS!$B$2,"Wpisz liczbę całkowitą ≥ 0","Enter a whole number ≥ 0","Ganze Zahl ≥ 0 eingeben","Saisir un entier ≥ 0","Introduzca un entero ≥ 0","Inserire un numero intero ≥ 0","Zadejte celé číslo ≥ 0","Zadajte celé číslo ≥ 0"),IF(G39=0,"",IF(G39<BASE_PRICES!D38,CHOOSE(DETAILS!$B$2,"Minimum: ","Minimum: ","Mindestmenge: ","Minimum : ","Mínimo: ","Minimo: ","Minimum: ","Minimum: ")&BASE_PRICES!D38,IF(MOD(G39,BASE_PRICES!E38)<>0,CHOOSE(DETAILS!$B$2,"Wielokrotność: ","Order in multiples of: ","Bestellen in Vielfachen von: ","Commander par multiples de : ","Pedir en múltiplos de: ","Ordinare in multipli di: ","Objednávejte násobky: ","Objednávajte násobky: ")&BASE_PRICES!E38,IF(ISNUMBER(H39),CHOOSE(DETAILS!$B$2,"Wyceniono","Priced","Bepreist","Chiffré","Calculado","Prezzo calcolato","Cena vypočtena","Cena vypočítaná"),CHOOSE(DETAILS!$B$2,"Cena na zapytanie","Price on request","Preis auf Anfrage","Prix sur demande","Precio a consultar","Prezzo su richiesta","Cena na dotaz","Cena na vyžiadanie")))))))
A40: #VALUE! | B40: =CHOOSE(DETAILS!$B$2,"Świeca ochronna — fioletowa","Protection candle — purple","Schutzkerze — violett","Bougie de protection — violette","Vela de protección — violeta","Candela di protezione — viola","Ochranná svíčka — fialová","Ochranná sviečka — fialová") -> Protection candle — purple | C40: =CHOOSE(DETAILS!$B$2,"Fioletowa","Purple","Violett","Violette","Violeta","Viola","Fialová","Fialová") -> Purple | E40: =CHOOSE(DETAILS!$B$2,"szt.","piece","Stück","pièce","unidad","pz.","ks","ks") -> piece | F40: =ROUND(BASE_PRICES!B39*(1+DETAILS!$B$30)/DETAILS!$B$26,2) -> 36.16 | G40: 0 | H40: =IF(ISNUMBER(PRICES!V39),ROUND(PRICES!V39*(1+DETAILS!$B$30)/DETAILS!$B$26,4),"") -> 0 | I40: =IF(AND(ISNUMBER(PRICES!V39),BASE_PRICES!B39>0),1-PRICES!V39/BASE_PRICES!B39,"") | J40: =IF(ISNUMBER(H40),ROUND(G40*H40,2),"") | K40: Allegro | L40: =IF(NOT(ISNUMBER(G40)),CHOOSE(DETAILS!$B$2,"Wpisz liczbę całkowitą ≥ 0","Enter a whole number ≥ 0","Ganze Zahl ≥ 0 eingeben","Saisir un entier ≥ 0","Introduzca un entero ≥ 0","Inserire un numero intero ≥ 0","Zadejte celé číslo ≥ 0","Zadajte celé číslo ≥ 0"),IF(OR(G40<0,MOD(G40,1)<>0),CHOOSE(DETAILS!$B$2,"Wpisz liczbę całkowitą ≥ 0","Enter a whole number ≥ 0","Ganze Zahl ≥ 0 eingeben","Saisir un entier ≥ 0","Introduzca un entero ≥ 0","Inserire un numero intero ≥ 0","Zadejte celé číslo ≥ 0","Zadajte celé číslo ≥ 0"),IF(G40=0,"",IF(G40<BASE_PRICES!D39,CHOOSE(DETAILS!$B$2,"Minimum: ","Minimum: ","Mindestmenge: ","Minimum : ","Mínimo: ","Minimo: ","Minimum: ","Minimum: ")&BASE_PRICES!D39,IF(MOD(G40,BASE_PRICES!E39)<>0,CHOOSE(DETAILS!$B$2,"Wielokrotność: ","Order in multiples of: ","Bestellen in Vielfachen von: ","Commander par multiples de : ","Pedir en múltiplos de: ","Ordinare in multipli di: ","Objednávejte násobky: ","Objednávajte násobky: ")&BASE_PRICES!E39,IF(ISNUMBER(H40),CHOOSE(DETAILS!$B$2,"Wyceniono","Priced","Bepreist","Chiffré","Calculado","Prezzo calcolato","Cena vypočtena","Cena vypočítaná"),CHOOSE(DETAILS!$B$2,"Cena na zapytanie","Price on request","Preis auf Anfrage","Prix sur demande","Precio a consultar","Prezzo su richiesta","Cena na dotaz","Cena na vyžiadanie")))))))
A41: #VALUE! | B41: =CHOOSE(DETAILS!$B$2,"Świeca — ochrona domu","Candle — home protection","Kerze — Schutz des Zuhauses","Bougie — protection du foyer","Vela — protección del hogar","Candela — protezione della casa","Svíčka — ochrana domova","Sviečka — ochrana domova") -> Candle — home protection | C41: =CHOOSE(DETAILS!$B$2,"Niebieska","Blue","Blau","Bleue","Azul","Blu","Modrá","Modrá") -> Blue | E41: =CHOOSE(DETAILS!$B$2,"szt.","piece","Stück","pièce","unidad","pz.","ks","ks") -> piece | F41: =ROUND(BASE_PRICES!B40*(1+DETAILS!$B$30)/DETAILS!$B$26,2) -> 38.45 | G41: 0 | H41: =IF(ISNUMBER(PRICES!V40),ROUND(PRICES!V40*(1+DETAILS!$B$30)/DETAILS!$B$26,4),"") -> 0 | I41: =IF(AND(ISNUMBER(PRICES!V40),BASE_PRICES!B40>0),1-PRICES!V40/BASE_PRICES!B40,"") | J41: =IF(ISNUMBER(H41),ROUND(G41*H41,2),"") | K41: Allegro | L41: =IF(NOT(ISNUMBER(G41)),CHOOSE(DETAILS!$B$2,"Wpisz liczbę całkowitą ≥ 0","Enter a whole number ≥ 0","Ganze Zahl ≥ 0 eingeben","Saisir un entier ≥ 0","Introduzca un entero ≥ 0","Inserire un numero intero ≥ 0","Zadejte celé číslo ≥ 0","Zadajte celé číslo ≥ 0"),IF(OR(G41<0,MOD(G41,1)<>0),CHOOSE(DETAILS!$B$2,"Wpisz liczbę całkowitą ≥ 0","Enter a whole number ≥ 0","Ganze Zahl ≥ 0 eingeben","Saisir un entier ≥ 0","Introduzca un entero ≥ 0","Inserire un numero intero ≥ 0","Zadejte celé číslo ≥ 0","Zadajte celé číslo ≥ 0"),IF(G41=0,"",IF(G41<BASE_PRICES!D40,CHOOSE(DETAILS!$B$2,"Minimum: ","Minimum: ","Mindestmenge: ","Minimum : ","Mínimo: ","Minimo: ","Minimum: ","Minimum: ")&BASE_PRICES!D40,IF(MOD(G41,BASE_PRICES!E40)<>0,CHOOSE(DETAILS!$B$2,"Wielokrotność: ","Order in multiples of: ","Bestellen in Vielfachen von: ","Commander par multiples de : ","Pedir en múltiplos de: ","Ordinare in multipli di: ","Objednávejte násobky: ","Objednávajte násobky: ")&BASE_PRICES!E40,IF(ISNUMBER(H41),CHOOSE(DETAILS!$B$2,"Wyceniono","Priced","Bepreist","Chiffré","Calculado","Prezzo calcolato","Cena vypočtena","Cena vypočítaná"),CHOOSE(DETAILS!$B$2,"Cena na zapytanie","Price on request","Preis auf Anfrage","Prix sur demande","Precio a consultar","Prezzo su richiesta","Cena na dotaz","Cena na vyžiadanie")))))))
A42: #VALUE! | B42: =CHOOSE(DETAILS!$B$2,"Świeca do rytuałów miłosnych","Love ritual candle","Liebesritualkerze","Bougie pour rituels d’amour","Vela para rituales de amor","Candela per rituali d’amore","Svíčka pro milostné rituály","Sviečka na rituály lásky") -> Love ritual candle | C42: =CHOOSE(DETAILS!$B$2,"Różowa","Pink","Rosa","Rose","Rosa","Rosa","Růžová","Ružová") -> Pink | E42: =CHOOSE(DETAILS!$B$2,"szt.","piece","Stück","pièce","unidad","pz.","ks","ks") -> piece | F42: =ROUND(BASE_PRICES!B41*(1+DETAILS!$B$30)/DETAILS!$B$26,2) -> 39.99 | G42: 0 | H42: =IF(ISNUMBER(PRICES!V41),ROUND(PRICES!V41*(1+DETAILS!$B$30)/DETAILS!$B$26,4),"") -> 0 | I42: =IF(AND(ISNUMBER(PRICES!V41),BASE_PRICES!B41>0),1-PRICES!V41/BASE_PRICES!B41,"") | J42: =IF(ISNUMBER(H42),ROUND(G42*H42,2),"") | K42: Allegro | L42: =IF(NOT(ISNUMBER(G42)),CHOOSE(DETAILS!$B$2,"Wpisz liczbę całkowitą ≥ 0","Enter a whole number ≥ 0","Ganze Zahl ≥ 0 eingeben","Saisir un entier ≥ 0","Introduzca un entero ≥ 0","Inserire un numero intero ≥ 0","Zadejte celé číslo ≥ 0","Zadajte celé číslo ≥ 0"),IF(OR(G42<0,MOD(G42,1)<>0),CHOOSE(DETAILS!$B$2,"Wpisz liczbę całkowitą ≥ 0","Enter a whole number ≥ 0","Ganze Zahl ≥ 0 eingeben","Saisir un entier ≥ 0","Introduzca un entero ≥ 0","Inserire un numero intero ≥ 0","Zadejte celé číslo ≥ 0","Zadajte celé číslo ≥ 0"),IF(G42=0,"",IF(G42<BASE_PRICES!D41,CHOOSE(DETAILS!$B$2,"Minimum: ","Minimum: ","Mindestmenge: ","Minimum : ","Mínimo: ","Minimo: ","Minimum: ","Minimum: ")&BASE_PRICES!D41,IF(MOD(G42,BASE_PRICES!E41)<>0,CHOOSE(DETAILS!$B$2,"Wielokrotność: ","Order in multiples of: ","Bestellen in Vielfachen von: ","Commander par multiples de : ","Pedir en múltiplos de: ","Ordinare in multipli di: ","Objednávejte násobky: ","Objednávajte násobky: ")&BASE_PRICES!E41,IF(ISNUMBER(H42),CHOOSE(DETAILS!$B$2,"Wyceniono","Priced","Bepreist","Chiffré","Calculado","Prezzo calcolato","Cena vypočtena","Cena vypočítaná"),CHOOSE(DETAILS!$B$2,"Cena na zapytanie","Price on request","Preis auf Anfrage","Prix sur demande","Precio a consultar","Prezzo su richiesta","Cena na dotaz","Cena na vyžiadanie")))))))
A43: #VALUE! | B43: =CHOOSE(DETAILS!$B$2,"Świeca — medytacja i oczyszczanie aury","Candle — meditation and aura cleansing","Kerze — Meditation und Aurareinigung","Bougie — méditation et purification de l’aura","Vela — meditación y limpieza del aura","Candela — meditazione e purificazione dell’aura","Svíčka — meditace a očista aury","Sviečka — meditácia a očista aury") -> Candle — meditation and aura cleansing | C43: =CHOOSE(DETAILS!$B$2,"Biała","White","Weiß","Blanche","Blanca","Bianco","Bílá","Biela") -> White | E43: =CHOOSE(DETAILS!$B$2,"szt.","piece","Stück","pièce","unidad","pz.","ks","ks") -> piece | F43: =ROUND(BASE_PRICES!B42*(1+DETAILS!$B$30)/DETAILS!$B$26,2) -> 35.99 | G43: 0 | H43: =IF(ISNUMBER(PRICES!V42),ROUND(PRICES!V42*(1+DETAILS!$B$30)/DETAILS!$B$26,4),"") -> 0 | I43: =IF(AND(ISNUMBER(PRICES!V42),BASE_PRICES!B42>0),1-PRICES!V42/BASE_PRICES!B42,"") | J43: =IF(ISNUMBER(H43),ROUND(G43*H43,2),"") | K43: Allegro | L43: =IF(NOT(ISNUMBER(G43)),CHOOSE(DETAILS!$B$2,"Wpisz liczbę całkowitą ≥ 0","Enter a whole number ≥ 0","Ganze Zahl ≥ 0 eingeben","Saisir un entier ≥ 0","Introduzca un entero ≥ 0","Inserire un numero intero ≥ 0","Zadejte celé číslo ≥ 0","Zadajte celé číslo ≥ 0"),IF(OR(G43<0,MOD(G43,1)<>0),CHOOSE(DETAILS!$B$2,"Wpisz liczbę całkowitą ≥ 0","Enter a whole number ≥ 0","Ganze Zahl ≥ 0 eingeben","Saisir un entier ≥ 0","Introduzca un entero ≥ 0","Inserire un numero intero ≥ 0","Zadejte celé číslo ≥ 0","Zadajte celé číslo ≥ 0"),IF(G43=0,"",IF(G43<BASE_PRICES!D42,CHOOSE(DETAILS!$B$2,"Minimum: ","Minimum: ","Mindestmenge: ","Minimum : ","Mínimo: ","Minimo: ","Minimum: ","Minimum: ")&BASE_PRICES!D42,IF(MOD(G43,BASE_PRICES!E42)<>0,CHOOSE(DETAILS!$B$2,"Wielokrotność: ","Order in multiples of: ","Bestellen in Vielfachen von: ","Commander par multiples de : ","Pedir en múltiplos de: ","Ordinare in multipli di: ","Objednávejte násobky: ","Objednávajte násobky: ")&BASE_PRICES!E42,IF(ISNUMBER(H43),CHOOSE(DETAILS!$B$2,"Wyceniono","Priced","Bepreist","Chiffré","Calculado","Prezzo calcolato","Cena vypočtena","Cena vypočítaná"),CHOOSE(DETAILS!$B$2,"Cena na zapytanie","Price on request","Preis auf Anfrage","Prix sur demande","Precio a consultar","Prezzo su richiesta","Cena na dotaz","Cena na vyžiadanie")))))))
A44: #VALUE! | B44: =CHOOSE(DETAILS!$B$2,"Świeca — oczyszczanie aury","Aura cleansing candle","Aurareinigungskerze","Bougie de purification de l’aura","Vela de limpieza del aura","Candela per la purificazione dell’aura","Svíčka pro očistu aury","Sviečka na očistu aury") -> Aura cleansing candle | C44: =CHOOSE(DETAILS!$B$2,"Czarna","Black","Schwarz","Noire","Negra","Nero","Černá","Čierna") -> Black | E44: =CHOOSE(DETAILS!$B$2,"szt.","piece","Stück","pièce","unidad","pz.","ks","ks") -> piece | F44: =ROUND(BASE_PRICES!B43*(1+DETAILS!$B$30)/DETAILS!$B$26,2) -> 39.99 | G44: 0 | H44: =IF(ISNUMBER(PRICES!V43),ROUND(PRICES!V43*(1+DETAILS!$B$30)/DETAILS!$B$26,4),"") -> 0 | I44: =IF(AND(ISNUMBER(PRICES!V43),BASE_PRICES!B43>0),1-PRICES!V43/BASE_PRICES!B43,"") | J44: =IF(ISNUMBER(H44),ROUND(G44*H44,2),"") | K44: Allegro | L44: =IF(NOT(ISNUMBER(G44)),CHOOSE(DETAILS!$B$2,"Wpisz liczbę całkowitą ≥ 0","Enter a whole number ≥ 0","Ganze Zahl ≥ 0 eingeben","Saisir un entier ≥ 0","Introduzca un entero ≥ 0","Inserire un numero intero ≥ 0","Zadejte celé číslo ≥ 0","Zadajte celé číslo ≥ 0"),IF(OR(G44<0,MOD(G44,1)<>0),CHOOSE(DETAILS!$B$2,"Wpisz liczbę całkowitą ≥ 0","Enter a whole number ≥ 0","Ganze Zahl ≥ 0 eingeben","Saisir un entier ≥ 0","Introduzca un entero ≥ 0","Inserire un numero intero ≥ 0","Zadejte celé číslo ≥ 0","Zadajte celé číslo ≥ 0"),IF(G44=0,"",IF(G44<BASE_PRICES!D43,CHOOSE(DETAILS!$B$2,"Minimum: ","Minimum: ","Mindestmenge: ","Minimum : ","Mínimo: ","Minimo: ","Minimum: ","Minimum: ")&BASE_PRICES!D43,IF(MOD(G44,BASE_PRICES!E43)<>0,CHOOSE(DETAILS!$B$2,"Wielokrotność: ","Order in multiples of: ","Bestellen in Vielfachen von: ","Commander par multiples de : ","Pedir en múltiplos de: ","Ordinare in multipli di: ","Objednávejte násobky: ","Objednávajte násobky: ")&BASE_PRICES!E43,IF(ISNUMBER(H44),CHOOSE(DETAILS!$B$2,"Wyceniono","Priced","Bepreist","Chiffré","Calculado","Prezzo calcolato","Cena vypočtena","Cena vypočítaná"),CHOOSE(DETAILS!$B$2,"Cena na zapytanie","Price on request","Preis auf Anfrage","Prix sur demande","Precio a consultar","Prezzo su richiesta","Cena na dotaz","Cena na vyžiadanie")))))))
A45: #VALUE! | B45: =CHOOSE(DETAILS!$B$2,"Świeca — oczyszczanie domu","Home cleansing candle","Hausreinigungskerze","Bougie de purification du foyer","Vela de limpieza del hogar","Candela per la purificazione della casa","Svíčka pro očistu domova","Sviečka na očistu domova") -> Home cleansing candle | C45: =CHOOSE(DETAILS!$B$2,"","","","","","","","") | E45: =CHOOSE(DETAILS!$B$2,"szt.","piece","Stück","pièce","unidad","pz.","ks","ks") -> piece | F45: =ROUND(BASE_PRICES!B44*(1+DETAILS!$B$30)/DETAILS!$B$26,2) -> 38.34 | G45: 0 | H45: =IF(ISNUMBER(PRICES!V44),ROUND(PRICES!V44*(1+DETAILS!$B$30)/DETAILS!$B$26,4),"") -> 0 | I45: =IF(AND(ISNUMBER(PRICES!V44),BASE_PRICES!B44>0),1-PRICES!V44/BASE_PRICES!B44,"") | J45: =IF(ISNUMBER(H45),ROUND(G45*H45,2),"") | K45: Allegro | L45: =IF(NOT(ISNUMBER(G45)),CHOOSE(DETAILS!$B$2,"Wpisz liczbę całkowitą ≥ 0","Enter a whole number ≥ 0","Ganze Zahl ≥ 0 eingeben","Saisir un entier ≥ 0","Introduzca un entero ≥ 0","Inserire un numero intero ≥ 0","Zadejte celé číslo ≥ 0","Zadajte celé číslo ≥ 0"),IF(OR(G45<0,MOD(G45,1)<>0),CHOOSE(DETAILS!$B$2,"Wpisz liczbę całkowitą ≥ 0","Enter a whole number ≥ 0","Ganze Zahl ≥ 0 eingeben","Saisir un entier ≥ 0","Introduzca un entero ≥ 0","Inserire un numero intero ≥ 0","Zadejte celé číslo ≥ 0","Zadajte celé číslo ≥ 0"),IF(G45=0,"",IF(G45<BASE_PRICES!D44,CHOOSE(DETAILS!$B$2,"Minimum: ","Minimum: ","Mindestmenge: ","Minimum : ","Mínimo: ","Minimo: ","Minimum: ","Minimum: ")&BASE_PRICES!D44,IF(MOD(G45,BASE_PRICES!E44)<>0,CHOOSE(DETAILS!$B$2,"Wielokrotność: ","Order in multiples of: ","Bestellen in Vielfachen von: ","Commander par multiples de : ","Pedir en múltiplos de: ","Ordinare in multipli di: ","Objednávejte násobky: ","Objednávajte násobky: ")&BASE_PRICES!E44,IF(ISNUMBER(H45),CHOOSE(DETAILS!$B$2,"Wyceniono","Priced","Bepreist","Chiffré","Calculado","Prezzo calcolato","Cena vypočtena","Cena vypočítaná"),CHOOSE(DETAILS!$B$2,"Cena na zapytanie","Price on request","Preis auf Anfrage","Prix sur demande","Precio a consultar","Prezzo su richiesta","Cena na dotaz","Cena na vyžiadanie")))))))
A46: #VALUE! | B46: =CHOOSE(DETAILS!$B$2,"Świeca — Pierwotna Energia","Candle — Primal Energy","Kerze — Ursprüngliche Energie","Bougie — Énergie primordiale","Vela — Energía primordial","Candela — Energia primordiale","Svíčka — Prvotní energie","Sviečka — Prvotná energia") -> Candle — Primal Energy | C46: =CHOOSE(DETAILS!$B$2,"Czerwona","Red","Rot","Rouge","Roja","Rosso","Červená","Červená") -> Red | E46: =CHOOSE(DETAILS!$B$2,"szt.","piece","Stück","pièce","unidad","pz.","ks","ks") -> piece | F46: =ROUND(BASE_PRICES!B45*(1+DETAILS!$B$30)/DETAILS!$B$26,2) -> 36.45 | G46: 0 | H46: =IF(ISNUMBER(PRICES!V45),ROUND(PRICES!V45*(1+DETAILS!$B$30)/DETAILS!$B$26,4),"") -> 0 | I46: =IF(AND(ISNUMBER(PRICES!V45),BASE_PRICES!B45>0),1-PRICES!V45/BASE_PRICES!B45,"") | J46: =IF(ISNUMBER(H46),ROUND(G46*H46,2),"") | K46: Allegro | L46: =IF(NOT(ISNUMBER(G46)),CHOOSE(DETAILS!$B$2,"Wpisz liczbę całkowitą ≥ 0","Enter a whole number ≥ 0","Ganze Zahl ≥ 0 eingeben","Saisir un entier ≥ 0","Introduzca un entero ≥ 0","Inserire un numero intero ≥ 0","Zadejte celé číslo ≥ 0","Zadajte celé číslo ≥ 0"),IF(OR(G46<0,MOD(G46,1)<>0),CHOOSE(DETAILS!$B$2,"Wpisz liczbę całkowitą ≥ 0","Enter a whole number ≥ 0","Ganze Zahl ≥ 0 eingeben","Saisir un entier ≥ 0","Introduzca un entero ≥ 0","Inserire un numero intero ≥ 0","Zadejte celé číslo ≥ 0","Zadajte celé číslo ≥ 0"),IF(G46=0,"",IF(G46<BASE_PRICES!D45,CHOOSE(DETAILS!$B$2,"Minimum: ","Minimum: ","Mindestmenge: ","Minimum : ","Mínimo: ","Minimo: ","Minimum: ","Minimum: ")&BASE_PRICES!D45,IF(MOD(G46,BASE_PRICES!E45)<>0,CHOOSE(DETAILS!$B$2,"Wielokrotność: ","Order in multiples of: ","Bestellen in Vielfachen von: ","Commander par multiples de : ","Pedir en múltiplos de: ","Ordinare in multipli di: ","Objednávejte násobky: ","Objednávajte násobky: ")&BASE_PRICES!E45,IF(ISNUMBER(H46),CHOOSE(DETAILS!$B$2,"Wyceniono","Priced","Bepreist","Chiffré","Calculado","Prezzo calcolato","Cena vypočtena","Cena vypočítaná"),CHOOSE(DETAILS!$B$2,"Cena na zapytanie","Price on request","Preis auf Anfrage","Prix sur demande","Precio a consultar","Prezzo su richiesta","Cena na dotaz","Cena na vyžiadanie")))))))
A47: #VALUE! | B47: =CHOOSE(DETAILS!$B$2,"Świeca — Pieczęć Lilith","Candle — Seal of Lilith","Kerze — Siegel der Lilith","Bougie — Sceau de Lilith","Vela — Sello de Lilith","Candela — Sigillo di Lilith","Svíčka — Pečeť Lilith","Sviečka — Pečať Lilith") -> Candle — Seal of Lilith | C47: =CHOOSE(DETAILS!$B$2,"Czarna","Black","Schwarz","Noire","Negra","Nero","Černá","Čierna") -> Black | D47: 60x55x2mm | E47: =CHOOSE(DETAILS!$B$2,"szt.","piece","Stück","pièce","unidad","pz.","ks","ks") -> piece | F47: =ROUND(BASE_PRICES!B46*(1+DETAILS!$B$30)/DETAILS!$B$26,2) -> 59.99 | G47: 0 | H47: =IF(ISNUMBER(PRICES!V46),ROUND(PRICES!V46*(1+DETAILS!$B$30)/DETAILS!$B$26,4),"") -> 0 | I47: =IF(AND(ISNUMBER(PRICES!V46),BASE_PRICES!B46>0),1-PRICES!V46/BASE_PRICES!B46,"") | J47: =IF(ISNUMBER(H47),ROUND(G47*H47,2),"") | K47: Allegro | L47: =IF(NOT(ISNUMBER(G47)),CHOOSE(DETAILS!$B$2,"Wpisz liczbę całkowitą ≥ 0","Enter a whole number ≥ 0","Ganze Zahl ≥ 0 eingeben","Saisir un entier ≥ 0","Introduzca un entero ≥ 0","Inserire un numero intero ≥ 0","Zadejte celé číslo ≥ 0","Zadajte celé číslo ≥ 0"),IF(OR(G47<0,MOD(G47,1)<>0),CHOOSE(DETAILS!$B$2,"Wpisz liczbę całkowitą ≥ 0","Enter a whole number ≥ 0","Ganze Zahl ≥ 0 eingeben","Saisir un entier ≥ 0","Introduzca un entero ≥ 0","Inserire un numero intero ≥ 0","Zadejte celé číslo ≥ 0","Zadajte celé číslo ≥ 0"),IF(G47=0,"",IF(G47<BASE_PRICES!D46,CHOOSE(DETAILS!$B$2,"Minimum: ","Minimum: ","Mindestmenge: ","Minimum : ","Mínimo: ","Minimo: ","Minimum: ","Minimum: ")&BASE_PRICES!D46,IF(MOD(G47,BASE_PRICES!E46)<>0,CHOOSE(DETAILS!$B$2,"Wielokrotność: ","Order in multiples of: ","Bestellen in Vielfachen von: ","Commander par multiples de : ","Pedir en múltiplos de: ","Ordinare in multipli di: ","Objednávejte násobky: ","Objednávajte násobky: ")&BASE_PRICES!E46,IF(ISNUMBER(H47),CHOOSE(DETAILS!$B$2,"Wyceniono","Priced","Bepreist","Chiffré","Calculado","Prezzo calcolato","Cena vypočtena","Cena vypočítaná"),CHOOSE(DETAILS!$B$2,"Cena na zapytanie","Price on request","Preis auf Anfrage","Prix sur demande","Precio a consultar","Prezzo su richiesta","Cena na dotaz","Cena na vyžiadanie")))))))
A48: #VALUE! | B48: =CHOOSE(DETAILS!$B$2,"Świeca — Żywioł Ziemi, Strażniczka Domu","Candle — Earth Element, Guardian of the Home","Kerze — Erdelement, Hüterin des Zuhauses","Bougie — Élément Terre, Gardienne du foyer","Vela — Elemento Tierra, Guardiana del hogar","Candela — Elemento Terra, Guardiana della casa","Svíčka — Živel země, Strážkyně domova","Sviečka — Živel zeme, Strážkyňa domova") -> Candle — Earth Element, Guardian of the Home | C48: =CHOOSE(DETAILS!$B$2,"","","","","","","","") | E48: =CHOOSE(DETAILS!$B$2,"szt.","piece","Stück","pièce","unidad","pz.","ks","ks") -> piece | F48: =ROUND(BASE_PRICES!B47*(1+DETAILS!$B$30)/DETAILS!$B$26,2) -> 36.16 | G48: 0 | H48: =IF(ISNUMBER(PRICES!V47),ROUND(PRICES!V47*(1+DETAILS!$B$30)/DETAILS!$B$26,4),"") -> 0 | I48: =IF(AND(ISNUMBER(PRICES!V47),BASE_PRICES!B47>0),1-PRICES!V47/BASE_PRICES!B47,"") | J48: =IF(ISNUMBER(H48),ROUND(G48*H48,2),"") | K48: Allegro | L48: =IF(NOT(ISNUMBER(G48)),CHOOSE(DETAILS!$B$2,"Wpisz liczbę całkowitą ≥ 0","Enter a whole number ≥ 0","Ganze Zahl ≥ 0 eingeben","Saisir un entier ≥ 0","Introduzca un entero ≥ 0","Inserire un numero intero ≥ 0","Zadejte celé číslo ≥ 0","Zadajte celé číslo ≥ 0"),IF(OR(G48<0,MOD(G48,1)<>0),CHOOSE(DETAILS!$B$2,"Wpisz liczbę całkowitą ≥ 0","Enter a whole number ≥ 0","Ganze Zahl ≥ 0 eingeben","Saisir un entier ≥ 0","Introduzca un entero ≥ 0","Inserire un numero intero ≥ 0","Zadejte celé číslo ≥ 0","Zadajte celé číslo ≥ 0"),IF(G48=0,"",IF(G48<BASE_PRICES!D47,CHOOSE(DETAILS!$B$2,"Minimum: ","Minimum: ","Mindestmenge: ","Minimum : ","Mínimo: ","Minimo: ","Minimum: ","Minimum: ")&BASE_PRICES!D47,IF(MOD(G48,BASE_PRICES!E47)<>0,CHOOSE(DETAILS!$B$2,"Wielokrotność: ","Order in multiples of: ","Bestellen in Vielfachen von: ","Commander par multiples de : ","Pedir en múltiplos de: ","Ordinare in multipli di: ","Objednávejte násobky: ","Objednávajte násobky: ")&BASE_PRICES!E47,IF(ISNUMBER(H48),CHOOSE(DETAILS!$B$2,"Wyceniono","Priced","Bepreist","Chiffré","Calculado","Prezzo calcolato","Cena vypočtena","Cena vypočítaná"),CHOOSE(DETAILS!$B$2,"Cena na zapytanie","Price on request","Preis auf Anfrage","Prix sur demande","Precio a consultar","Prezzo su richiesta","Cena na dotaz","Cena na vyžiadanie")))))))
A49: #VALUE! | B49: =CHOOSE(DETAILS!$B$2,"Świeca — Trzecie Oko, Ajna","Candle — Third Eye, Ajna","Kerze — Drittes Auge, Ajna","Bougie — Troisième Œil, Ajna","Vela — Tercer Ojo, Ajna","Candela — Terzo occhio, Ajna","Svíčka — Třetí oko, Ádžňá","Sviečka — Tretie oko, Ádžňá") -> Candle — Third Eye, Ajna | C49: =CHOOSE(DETAILS!$B$2,"Niebieska","Blue","Blau","Bleue","Azul","Blu","Modrá","Modrá") -> Blue | E49: =CHOOSE(DETAILS!$B$2,"szt.","piece","Stück","pièce","unidad","pz.","ks","ks") -> piece | F49: =ROUND(BASE_PRICES!B48*(1+DETAILS!$B$30)/DETAILS!$B$26,2) -> 37.56 | G49: 0 | H49: =IF(ISNUMBER(PRICES!V48),ROUND(PRICES!V48*(1+DETAILS!$B$30)/DETAILS!$B$26,4),"") -> 0 | I49: =IF(AND(ISNUMBER(PRICES!V48),BASE_PRICES!B48>0),1-PRICES!V48/BASE_PRICES!B48,"") | J49: =IF(ISNUMBER(H49),ROUND(G49*H49,2),"") | K49: Allegro | L49: =IF(NOT(ISNUMBER(G49)),CHOOSE(DETAILS!$B$2,"Wpisz liczbę całkowitą ≥ 0","Enter a whole number ≥ 0","Ganze Zahl ≥ 0 eingeben","Saisir un entier ≥ 0","Introduzca un entero ≥ 0","Inserire un numero intero ≥ 0","Zadejte celé číslo ≥ 0","Zadajte celé číslo ≥ 0"),IF(OR(G49<0,MOD(G49,1)<>0),CHOOSE(DETAILS!$B$2,"Wpisz liczbę całkowitą ≥ 0","Enter a whole number ≥ 0","Ganze Zahl ≥ 0 eingeben","Saisir un entier ≥ 0","Introduzca un entero ≥ 0","Inserire un numero intero ≥ 0","Zadejte celé číslo ≥ 0","Zadajte celé číslo ≥ 0"),IF(G49=0,"",IF(G49<BASE_PRICES!D48,CHOOSE(DETAILS!$B$2,"Minimum: ","Minimum: ","Mindestmenge: ","Minimum : ","Mínimo: ","Minimo: ","Minimum: ","Minimum: ")&BASE_PRICES!D48,IF(MOD(G49,BASE_PRICES!E48)<>0,CHOOSE(DETAILS!$B$2,"Wielokrotność: ","Order in multiples of: ","Bestellen in Vielfachen von: ","Commander par multiples de : ","Pedir en múltiplos de: ","Ordinare in multipli di: ","Objednávejte násobky: ","Objednávajte násobky: ")&BASE_PRICES!E48,IF(ISNUMBER(H49),CHOOSE(DETAILS!$B$2,"Wyceniono","Priced","Bepreist","Chiffré","Calculado","Prezzo calcolato","Cena vypočtena","Cena vypočítaná"),CHOOSE(DETAILS!$B$2,"Cena na zapytanie","Price on request","Preis auf Anfrage","Prix sur demande","Precio a consultar","Prezzo su richiesta","Cena na dotaz","Cena na vyžiadanie")))))))
A50: #VALUE! | B50: =CHOOSE(DETAILS!$B$2,"Świeca runiczna Ansuz","Ansuz rune candle","Ansuz-Runenkerze","Bougie runique Ansuz","Vela rúnica Ansuz","Candela runica Ansuz","Runová svíčka Ansuz","Runová sviečka Ansuz") -> Ansuz rune candle | C50: =CHOOSE(DETAILS!$B$2,"Naturalna żółta","Natural yellow","Naturgelb","Jaune naturel","Amarillo natural","Giallo naturale","Přírodní žlutá","Prírodná žltá") -> Natural yellow | D50: 60×25 mm | E50: =CHOOSE(DETAILS!$B$2,"szt.","piece","Stück","pièce","unidad","pz.","ks","ks") -> piece | F50: =ROUND(BASE_PRICES!B49*(1+DETAILS!$B$30)/DETAILS!$B$26,2) -> 19.6 | G50: 0 | H50: =IF(ISNUMBER(PRICES!V49),ROUND(PRICES!V49*(1+DETAILS!$B$30)/DETAILS!$B$26,4),"") -> 0 | I50: =IF(AND(ISNUMBER(PRICES!V49),BASE_PRICES!B49>0),1-PRICES!V49/BASE_PRICES!B49,"") | J50: =IF(ISNUMBER(H50),ROUND(G50*H50,2),"") | K50: Allegro | L50: =IF(NOT(ISNUMBER(G50)),CHOOSE(DETAILS!$B$2,"Wpisz liczbę całkowitą ≥ 0","Enter a whole number ≥ 0","Ganze Zahl ≥ 0 eingeben","Saisir un entier ≥ 0","Introduzca un entero ≥ 0","Inserire un numero intero ≥ 0","Zadejte celé číslo ≥ 0","Zadajte celé číslo ≥ 0"),IF(OR(G50<0,MOD(G50,1)<>0),CHOOSE(DETAILS!$B$2,"Wpisz liczbę całkowitą ≥ 0","Enter a whole number ≥ 0","Ganze Zahl ≥ 0 eingeben","Saisir un entier ≥ 0","Introduzca un entero ≥ 0","Inserire un numero intero ≥ 0","Zadejte celé číslo ≥ 0","Zadajte celé číslo ≥ 0"),IF(G50=0,"",IF(G50<BASE_PRICES!D49,CHOOSE(DETAILS!$B$2,"Minimum: ","Minimum: ","Mindestmenge: ","Minimum : ","Mínimo: ","Minimo: ","Minimum: ","Minimum: ")&BASE_PRICES!D49,IF(MOD(G50,BASE_PRICES!E49)<>0,CHOOSE(DETAILS!$B$2,"Wielokrotność: ","Order in multiples of: ","Bestellen in Vielfachen von: ","Commander par multiples de : ","Pedir en múltiplos de: ","Ordinare in multipli di: ","Objednávejte násobky: ","Objednávajte násobky: ")&BASE_PRICES!E49,IF(ISNUMBER(H50),CHOOSE(DETAILS!$B$2,"Wyceniono","Priced","Bepreist","Chiffré","Calculado","Prezzo calcolato","Cena vypočtena","Cena vypočítaná"),CHOOSE(DETAILS!$B$2,"Cena na zapytanie","Price on request","Preis auf Anfrage","Prix sur demande","Precio a consultar","Prezzo su richiesta","Cena na dotaz","Cena na vyžiadanie")))))))
A51: #VALUE! | B51: =CHOOSE(DETAILS!$B$2,"Świeca runiczna Berkano","Berkano rune candle","Berkano-Runenkerze","Bougie runique Berkano","Vela rúnica Berkano","Candela runica Berkano","Runová svíčka Berkano","Runová sviečka Berkano") -> Berkano rune candle | C51: =CHOOSE(DETAILS!$B$2,"Naturalna żółta","Natural yellow","Naturgelb","Jaune naturel","Amarillo natural","Giallo naturale","Přírodní žlutá","Prírodná žltá") -> Natural yellow | D51: 60×25 mm | E51: =CHOOSE(DETAILS!$B$2,"szt.","piece","Stück","pièce","unidad","pz.","ks","ks") -> piece | F51: =ROUND(BASE_PRICES!B50*(1+DETAILS!$B$30)/DETAILS!$B$26,2) -> 19.6 | G51: 0 | H51: =IF(ISNUMBER(PRICES!V50),ROUND(PRICES!V50*(1+DETAILS!$B$30)/DETAILS!$B$26,4),"") -> 0 | I51: =IF(AND(ISNUMBER(PRICES!V50),BASE_PRICES!B50>0),1-PRICES!V50/BASE_PRICES!B50,"") | J51: =IF(ISNUMBER(H51),ROUND(G51*H51,2),"") | K51: Allegro | L51: =IF(NOT(ISNUMBER(G51)),CHOOSE(DETAILS!$B$2,"Wpisz liczbę całkowitą ≥ 0","Enter a whole number ≥ 0","Ganze Zahl ≥ 0 eingeben","Saisir un entier ≥ 0","Introduzca un entero ≥ 0","Inserire un numero intero ≥ 0","Zadejte celé číslo ≥ 0","Zadajte celé číslo ≥ 0"),IF(OR(G51<0,MOD(G51,1)<>0),CHOOSE(DETAILS!$B$2,"Wpisz liczbę całkowitą ≥ 0","Enter a whole number ≥ 0","Ganze Zahl ≥ 0 eingeben","Saisir un entier ≥ 0","Introduzca un entero ≥ 0","Inserire un numero intero ≥ 0","Zadejte celé číslo ≥ 0","Zadajte celé číslo ≥ 0"),IF(G51=0,"",IF(G51<BASE_PRICES!D50,CHOOSE(DETAILS!$B$2,"Minimum: ","Minimum: ","Mindestmenge: ","Minimum : ","Mínimo: ","Minimo: ","Minimum: ","Minimum: ")&BASE_PRICES!D50,IF(MOD(G51,BASE_PRICES!E50)<>0,CHOOSE(DETAILS!$B$2,"Wielokrotność: ","Order in multiples of: ","Bestellen in Vielfachen von: ","Commander par multiples de : ","Pedir en múltiplos de: ","Ordinare in multipli di: ","Objednávejte násobky: ","Objednávajte násobky: ")&BASE_PRICES!E50,IF(ISNUMBER(H51),CHOOSE(DETAILS!$B$2,"Wyceniono","Priced","Bepreist","Chiffré","Calculado","Prezzo calcolato","Cena vypočtena","Cena vypočítaná"),CHOOSE(DETAILS!$B$2,"Cena na zapytanie","Price on request","Preis auf Anfrage","Prix sur demande","Precio a consultar","Prezzo su richiesta","Cena na dotaz","Cena na vyžiadanie")))))))
A52: #VALUE! | B52: =CHOOSE(DETAILS!$B$2,"Świeca runiczna Fehu","Fehu rune candle","Fehu-Runenkerze","Bougie runique Fehu","Vela rúnica Fehu","Candela runica Fehu","Runová svíčka Fehu","Runová sviečka Fehu") -> Fehu rune candle | C52: =CHOOSE(DETAILS!$B$2,"Naturalna żółta","Natural yellow","Naturgelb","Jaune naturel","Amarillo natural","Giallo naturale","Přírodní žlutá","Prírodná žltá") -> Natural yellow | D52: 60×25 mm | E52: =CHOOSE(DETAILS!$B$2,"szt.","piece","Stück","pièce","unidad","pz.","ks","ks") -> piece | F52: =ROUND(BASE_PRICES!B51*(1+DETAILS!$B$30)/DETAILS!$B$26,2) -> 19.6 | G52: 0 | H52: =IF(ISNUMBER(PRICES!V51),ROUND(PRICES!V51*(1+DETAILS!$B$30)/DETAILS!$B$26,4),"") -> 0 | I52: =IF(AND(ISNUMBER(PRICES!V51),BASE_PRICES!B51>0),1-PRICES!V51/BASE_PRICES!B51,"") | J52: =IF(ISNUMBER(H52),ROUND(G52*H52,2),"") | K52: Allegro | L52: =IF(NOT(ISNUMBER(G52)),CHOOSE(DETAILS!$B$2,"Wpisz liczbę całkowitą ≥ 0","Enter a whole number ≥ 0","Ganze Zahl ≥ 0 eingeben","Saisir un entier ≥ 0","Introduzca un entero ≥ 0","Inserire un numero intero ≥ 0","Zadejte celé číslo ≥ 0","Zadajte celé číslo ≥ 0"),IF(OR(G52<0,MOD(G52,1)<>0),CHOOSE(DETAILS!$B$2,"Wpisz liczbę całkowitą ≥ 0","Enter a whole number ≥ 0","Ganze Zahl ≥ 0 eingeben","Saisir un entier ≥ 0","Introduzca un entero ≥ 0","Inserire un numero intero ≥ 0","Zadejte celé číslo ≥ 0","Zadajte celé číslo ≥ 0"),IF(G52=0,"",IF(G52<BASE_PRICES!D51,CHOOSE(DETAILS!$B$2,"Minimum: ","Minimum: ","Mindestmenge: ","Minimum : ","Mínimo: ","Minimo: ","Minimum: ","Minimum: ")&BASE_PRICES!D51,IF(MOD(G52,BASE_PRICES!E51)<>0,CHOOSE(DETAILS!$B$2,"Wielokrotność: ","Order in multiples of: ","Bestellen in Vielfachen von: ","Commander par multiples de : ","Pedir en múltiplos de: ","Ordinare in multipli di: ","Objednávejte násobky: ","Objednávajte násobky: ")&BASE_PRICES!E51,IF(ISNUMBER(H52),CHOOSE(DETAILS!$B$2,"Wyceniono","Priced","Bepreist","Chiffré","Calculado","Prezzo calcolato","Cena vypočtena","Cena vypočítaná"),CHOOSE(DETAILS!$B$2,"Cena na zapytanie","Price on request","Preis auf Anfrage","Prix sur demande","Precio a consultar","Prezzo su richiesta","Cena na dotaz","Cena na vyžiadanie")))))))
A53: #VALUE! | B53: =CHOOSE(DETAILS!$B$2,"Świeca runiczna Uruz","Uruz rune candle","Uruz-Runenkerze","Bougie runique Uruz","Vela rúnica Uruz","Candela runica Uruz","Runová svíčka Uruz","Runová sviečka Uruz") -> Uruz rune candle | C53: =CHOOSE(DETAILS!$B$2,"Naturalna żółta","Natural yellow","Naturgelb","Jaune naturel","Amarillo natural","Giallo naturale","Přírodní žlutá","Prírodná žltá") -> Natural yellow | D53: 60×25 mm | E53: =CHOOSE(DETAILS!$B$2,"szt.","piece","Stück","pièce","unidad","pz.","ks","ks") -> piece | F53: =ROUND(BASE_PRICES!B52*(1+DETAILS!$B$30)/DETAILS!$B$26,2) -> 19.6 | G53: 0 | H53: =IF(ISNUMBER(PRICES!V52),ROUND(PRICES!V52*(1+DETAILS!$B$30)/DETAILS!$B$26,4),"") -> 0 | I53: =IF(AND(ISNUMBER(PRICES!V52),BASE_PRICES!B52>0),1-PRICES!V52/BASE_PRICES!B52,"") | J53: =IF(ISNUMBER(H53),ROUND(G53*H53,2),"") | K53: Allegro | L53: =IF(NOT(ISNUMBER(G53)),CHOOSE(DETAILS!$B$2,"Wpisz liczbę całkowitą ≥ 0","Enter a whole number ≥ 0","Ganze Zahl ≥ 0 eingeben","Saisir un entier ≥ 0","Introduzca un entero ≥ 0","Inserire un numero intero ≥ 0","Zadejte celé číslo ≥ 0","Zadajte celé číslo ≥ 0"),IF(OR(G53<0,MOD(G53,1)<>0),CHOOSE(DETAILS!$B$2,"Wpisz liczbę całkowitą ≥ 0","Enter a whole number ≥ 0","Ganze Zahl ≥ 0 eingeben","Saisir un entier ≥ 0","Introduzca un entero ≥ 0","Inserire un numero intero ≥ 0","Zadejte celé číslo ≥ 0","Zadajte celé číslo ≥ 0"),IF(G53=0,"",IF(G53<BASE_PRICES!D52,CHOOSE(DETAILS!$B$2,"Minimum: ","Minimum: ","Mindestmenge: ","Minimum : ","Mínimo: ","Minimo: ","Minimum: ","Minimum: ")&BASE_PRICES!D52,IF(MOD(G53,BASE_PRICES!E52)<>0,CHOOSE(DETAILS!$B$2,"Wielokrotność: ","Order in multiples of: ","Bestellen in Vielfachen von: ","Commander par multiples de : ","Pedir en múltiplos de: ","Ordinare in multipli di: ","Objednávejte násobky: ","Objednávajte násobky: ")&BASE_PRICES!E52,IF(ISNUMBER(H53),CHOOSE(DETAILS!$B$2,"Wyceniono","Priced","Bepreist","Chiffré","Calculado","Prezzo calcolato","Cena vypočtena","Cena vypočítaná"),CHOOSE(DETAILS!$B$2,"Cena na zapytanie","Price on request","Preis auf Anfrage","Prix sur demande","Precio a consultar","Prezzo su richiesta","Cena na dotaz","Cena na vyžiadanie")))))))
A54: #VALUE! | B54: =CHOOSE(DETAILS!$B$2,"Świeca runiczna Wunjo","Wunjo rune candle","Wunjo-Runenkerze","Bougie runique Wunjo","Vela rúnica Wunjo","Candela runica Wunjo","Runová svíčka Wunjo","Runová sviečka Wunjo") -> Wunjo rune candle | C54: =CHOOSE(DETAILS!$B$2,"Naturalna żółta","Natural yellow","Naturgelb","Jaune naturel","Amarillo natural","Giallo naturale","Přírodní žlutá","Prírodná žltá") -> Natural yellow | D54: 60×25 mm | E54: =CHOOSE(DETAILS!$B$2,"szt.","piece","Stück","pièce","unidad","pz.","ks","ks") -> piece | F54: =ROUND(BASE_PRICES!B53*(1+DETAILS!$B$30)/DETAILS!$B$26,2) -> 19.6 | G54: 0 | H54: =IF(ISNUMBER(PRICES!V53),ROUND(PRICES!V53*(1+DETAILS!$B$30)/DETAILS!$B$26,4),"") -> 0 | I54: =IF(AND(ISNUMBER(PRICES!V53),BASE_PRICES!B53>0),1-PRICES!V53/BASE_PRICES!B53,"") | J54: =IF(ISNUMBER(H54),ROUND(G54*H54,2),"") | K54: Allegro | L54: =IF(NOT(ISNUMBER(G54)),CHOOSE(DETAILS!$B$2,"Wpisz liczbę całkowitą ≥ 0","Enter a whole number ≥ 0","Ganze Zahl ≥ 0 eingeben","Saisir un entier ≥ 0","Introduzca un entero ≥ 0","Inserire un numero intero ≥ 0","Zadejte celé číslo ≥ 0","Zadajte celé číslo ≥ 0"),IF(OR(G54<0,MOD(G54,1)<>0),CHOOSE(DETAILS!$B$2,"Wpisz liczbę całkowitą ≥ 0","Enter a whole number ≥ 0","Ganze Zahl ≥ 0 eingeben","Saisir un entier ≥ 0","Introduzca un entero ≥ 0","Inserire un numero intero ≥ 0","Zadejte celé číslo ≥ 0","Zadajte celé číslo ≥ 0"),IF(G54=0,"",IF(G54<BASE_PRICES!D53,CHOOSE(DETAILS!$B$2,"Minimum: ","Minimum: ","Mindestmenge: ","Minimum : ","Mínimo: ","Minimo: ","Minimum: ","Minimum: ")&BASE_PRICES!D53,IF(MOD(G54,BASE_PRICES!E53)<>0,CHOOSE(DETAILS!$B$2,"Wielokrotność: ","Order in multiples of: ","Bestellen in Vielfachen von: ","Commander par multiples de : ","Pedir en múltiplos de: ","Ordinare in multipli di: ","Objednávejte násobky: ","Objednávajte násobky: ")&BASE_PRICES!E53,IF(ISNUMBER(H54),CHOOSE(DETAILS!$B$2,"Wyceniono","Priced","Bepreist","Chiffré","Calculado","Prezzo calcolato","Cena vypočtena","Cena vypočítaná"),CHOOSE(DETAILS!$B$2,"Cena na zapytanie","Price on request","Preis auf Anfrage","Prix sur demande","Precio a consultar","Prezzo su richiesta","Cena na dotaz","Cena na vyžiadanie")))))))
A55: #VALUE! | B55: =CHOOSE(DETAILS!$B$2,"Świecznik","Candle holder","Kerzenhalter","Bougeoir","Portavelas","Portacandele","Svícen","Svietnik") -> Candle holder | C55: =CHOOSE(DETAILS!$B$2,"Złota","Gold","Gold","Dorée","Dorada","Oro","Zlatá","Zlatá") -> Gold | D55: 2 cm | E55: =CHOOSE(DETAILS!$B$2,"szt.","piece","Stück","pièce","unidad","pz.","ks","ks") -> piece | F55: =ROUND(BASE_PRICES!B54*(1+DETAILS!$B$30)/DETAILS!$B$26,2) -> 63.2 | G55: 0 | H55: =IF(ISNUMBER(PRICES!V54),ROUND(PRICES!V54*(1+DETAILS!$B$30)/DETAILS!$B$26,4),"") -> 0 | I55: =IF(AND(ISNUMBER(PRICES!V54),BASE_PRICES!B54>0),1-PRICES!V54/BASE_PRICES!B54,"") | J55: =IF(ISNUMBER(H55),ROUND(G55*H55,2),"") | K55: Allegro | L55: =IF(NOT(ISNUMBER(G55)),CHOOSE(DETAILS!$B$2,"Wpisz liczbę całkowitą ≥ 0","Enter a whole number ≥ 0","Ganze Zahl ≥ 0 eingeben","Saisir un entier ≥ 0","Introduzca un entero ≥ 0","Inserire un numero intero ≥ 0","Zadejte celé číslo ≥ 0","Zadajte celé číslo ≥ 0"),IF(OR(G55<0,MOD(G55,1)<>0),CHOOSE(DETAILS!$B$2,"Wpisz liczbę całkowitą ≥ 0","Enter a whole number ≥ 0","Ganze Zahl ≥ 0 eingeben","Saisir un entier ≥ 0","Introduzca un entero ≥ 0","Inserire un numero intero ≥ 0","Zadejte celé číslo ≥ 0","Zadajte celé číslo ≥ 0"),IF(G55=0,"",IF(G55<BASE_PRICES!D54,CHOOSE(DETAILS!$B$2,"Minimum: ","Minimum: ","Mindestmenge: ","Minimum : ","Mínimo: ","Minimo: ","Minimum: ","Minimum: ")&BASE_PRICES!D54,IF(MOD(G55,BASE_PRICES!E54)<>0,CHOOSE(DETAILS!$B$2,"Wielokrotność: ","Order in multiples of: ","Bestellen in Vielfachen von: ","Commander par multiples de : ","Pedir en múltiplos de: ","Ordinare in multipli di: ","Objednávejte násobky: ","Objednávajte násobky: ")&BASE_PRICES!E54,IF(ISNUMBER(H55),CHOOSE(DETAILS!$B$2,"Wyceniono","Priced","Bepreist","Chiffré","Calculado","Prezzo calcolato","Cena vypočtena","Cena vypočítaná"),CHOOSE(DETAILS!$B$2,"Cena na zapytanie","Price on request","Preis auf Anfrage","Prix sur demande","Precio a consultar","Prezzo su richiesta","Cena na dotaz","Cena na vyžiadanie")))))))
A56: #VALUE! | B56: =CHOOSE(DETAILS!$B$2,"Świecznik","Candle holder","Kerzenhalter","Bougeoir","Portavelas","Portacandele","Svícen","Svietnik") -> Candle holder | C56: =CHOOSE(DETAILS!$B$2,"Złota","Gold","Gold","Dorée","Dorada","Oro","Zlatá","Zlatá") -> Gold | D56: 0,6 cm | E56: =CHOOSE(DETAILS!$B$2,"szt.","piece","Stück","pièce","unidad","pz.","ks","ks") -> piece | F56: =ROUND(BASE_PRICES!B55*(1+DETAILS!$B$30)/DETAILS!$B$26,2) -> 53.2 | G56: 0 | H56: =IF(ISNUMBER(PRICES!V55),ROUND(PRICES!V55*(1+DETAILS!$B$30)/DETAILS!$B$26,4),"") -> 0 | I56: =IF(AND(ISNUMBER(PRICES!V55),BASE_PRICES!B55>0),1-PRICES!V55/BASE_PRICES!B55,"") | J56: =IF(ISNUMBER(H56),ROUND(G56*H56,2),"") | K56: Allegro | L56: =IF(NOT(ISNUMBER(G56)),CHOOSE(DETAILS!$B$2,"Wpisz liczbę całkowitą ≥ 0","Enter a whole number ≥ 0","Ganze Zahl ≥ 0 eingeben","Saisir un entier ≥ 0","Introduzca un entero ≥ 0","Inserire un numero intero ≥ 0","Zadejte celé číslo ≥ 0","Zadajte celé číslo ≥ 0"),IF(OR(G56<0,MOD(G56,1)<>0),CHOOSE(DETAILS!$B$2,"Wpisz liczbę całkowitą ≥ 0","Enter a whole number ≥ 0","Ganze Zahl ≥ 0 eingeben","Saisir un entier ≥ 0","Introduzca un entero ≥ 0","Inserire un numero intero ≥ 0","Zadejte celé číslo ≥ 0","Zadajte celé číslo ≥ 0"),IF(G56=0,"",IF(G56<BASE_PRICES!D55,CHOOSE(DETAILS!$B$2,"Minimum: ","Minimum: ","Mindestmenge: ","Minimum : ","Mínimo: ","Minimo: ","Minimum: ","Minimum: ")&BASE_PRICES!D55,IF(MOD(G56,BASE_PRICES!E55)<>0,CHOOSE(DETAILS!$B$2,"Wielokrotność: ","Order in multiples of: ","Bestellen in Vielfachen von: ","Commander par multiples de : ","Pedir en múltiplos de: ","Ordinare in multipli di: ","Objednávejte násobky: ","Objednávajte násobky: ")&BASE_PRICES!E55,IF(ISNUMBER(H56),CHOOSE(DETAILS!$B$2,"Wyceniono","Priced","Bepreist","Chiffré","Calculado","Prezzo calcolato","Cena vypočtena","Cena vypočítaná"),CHOOSE(DETAILS!$B$2,"Cena na zapytanie","Price on request","Preis auf Anfrage","Prix sur demande","Precio a consultar","Prezzo su richiesta","Cena na dotaz","Cena na vyžiadanie")))))))
A57: #VALUE! | B57: =CHOOSE(DETAILS!$B$2,"Świecznik","Candle holder","Kerzenhalter","Bougeoir","Portavelas","Portacandele","Svícen","Svietnik") -> Candle holder | C57: =CHOOSE(DETAILS!$B$2,"Złota","Gold","Gold","Dorée","Dorada","Oro","Zlatá","Zlatá") -> Gold | D57: 1 cm | E57: =CHOOSE(DETAILS!$B$2,"szt.","piece","Stück","pièce","unidad","pz.","ks","ks") -> piece | F57: =ROUND(BASE_PRICES!B56*(1+DETAILS!$B$30)/DETAILS!$B$26,2) -> 58.97 | G57: 0 | H57: =IF(ISNUMBER(PRICES!V56),ROUND(PRICES!V56*(1+DETAILS!$B$30)/DETAILS!$B$26,4),"") -> 0 | I57: =IF(AND(ISNUMBER(PRICES!V56),BASE_PRICES!B56>0),1-PRICES!V56/BASE_PRICES!B56,"") | J57: =IF(ISNUMBER(H57),ROUND(G57*H57,2),"") | K57: Allegro | L57: =IF(NOT(ISNUMBER(G57)),CHOOSE(DETAILS!$B$2,"Wpisz liczbę całkowitą ≥ 0","Enter a whole number ≥ 0","Ganze Zahl ≥ 0 eingeben","Saisir un entier ≥ 0","Introduzca un entero ≥ 0","Inserire un numero intero ≥ 0","Zadejte celé číslo ≥ 0","Zadajte celé číslo ≥ 0"),IF(OR(G57<0,MOD(G57,1)<>0),CHOOSE(DETAILS!$B$2,"Wpisz liczbę całkowitą ≥ 0","Enter a whole number ≥ 0","Ganze Zahl ≥ 0 eingeben","Saisir un entier ≥ 0","Introduzca un entero ≥ 0","Inserire un numero intero ≥ 0","Zadejte celé číslo ≥ 0","Zadajte celé číslo ≥ 0"),IF(G57=0,"",IF(G57<BASE_PRICES!D56,CHOOSE(DETAILS!$B$2,"Minimum: ","Minimum: ","Mindestmenge: ","Minimum : ","Mínimo: ","Minimo: ","Minimum: ","Minimum: ")&BASE_PRICES!D56,IF(MOD(G57,BASE_PRICES!E56)<>0,CHOOSE(DETAILS!$B$2,"Wielokrotność: ","Order in multiples of: ","Bestellen in Vielfachen von: ","Commander par multiples de : ","Pedir en múltiplos de: ","Ordinare in multipli di: ","Objednávejte násobky: ","Objednávajte násobky: ")&BASE_PRICES!E56,IF(ISNUMBER(H57),CHOOSE(DETAILS!$B$2,"Wyceniono","Priced","Bepreist","Chiffré","Calculado","Prezzo calcolato","Cena vypočtena","Cena vypočítaná"),CHOOSE(DETAILS!$B$2,"Cena na zapytanie","Price on request","Preis auf Anfrage","Prix sur demande","Precio a consultar","Prezzo su richiesta","Cena na dotaz","Cena na vyžiadanie")))))))
A58: #VALUE! | B58: =CHOOSE(DETAILS!$B$2,"Świecznik","Candle holder","Kerzenhalter","Bougeoir","Portavelas","Portacandele","Svícen","Svietnik") -> Candle holder | C58: =CHOOSE(DETAILS!$B$2,"Złota","Gold","Gold","Dorée","Dorada","Oro","Zlatá","Zlatá") -> Gold | D58: 0.8 cm | E58: =CHOOSE(DETAILS!$B$2,"szt.","piece","Stück","pièce","unidad","pz.","ks","ks") -> piece | F58: =ROUND(BASE_PRICES!B57*(1+DETAILS!$B$30)/DETAILS!$B$26,2) -> 50.97 | G58: 0 | H58: =IF(ISNUMBER(PRICES!V57),ROUND(PRICES!V57*(1+DETAILS!$B$30)/DETAILS!$B$26,4),"") -> 0 | I58: =IF(AND(ISNUMBER(PRICES!V57),BASE_PRICES!B57>0),1-PRICES!V57/BASE_PRICES!B57,"") | J58: =IF(ISNUMBER(H58),ROUND(G58*H58,2),"") | K58: Allegro | L58: =IF(NOT(ISNUMBER(G58)),CHOOSE(DETAILS!$B$2,"Wpisz liczbę całkowitą ≥ 0","Enter a whole number ≥ 0","Ganze Zahl ≥ 0 eingeben","Saisir un entier ≥ 0","Introduzca un entero ≥ 0","Inserire un numero intero ≥ 0","Zadejte celé číslo ≥ 0","Zadajte celé číslo ≥ 0"),IF(OR(G58<0,MOD(G58,1)<>0),CHOOSE(DETAILS!$B$2,"Wpisz liczbę całkowitą ≥ 0","Enter a whole number ≥ 0","Ganze Zahl ≥ 0 eingeben","Saisir un entier ≥ 0","Introduzca un entero ≥ 0","Inserire un numero intero ≥ 0","Zadejte celé číslo ≥ 0","Zadajte celé číslo ≥ 0"),IF(G58=0,"",IF(G58<BASE_PRICES!D57,CHOOSE(DETAILS!$B$2,"Minimum: ","Minimum: ","Mindestmenge: ","Minimum : ","Mínimo: ","Minimo: ","Minimum: ","Minimum: ")&BASE_PRICES!D57,IF(MOD(G58,BASE_PRICES!E57)<>0,CHOOSE(DETAILS!$B$2,"Wielokrotność: ","Order in multiples of: ","Bestellen in Vielfachen von: ","Commander par multiples de : ","Pedir en múltiplos de: ","Ordinare in multipli di: ","Objednávejte násobky: ","Objednávajte násobky: ")&BASE_PRICES!E57,IF(ISNUMBER(H58),CHOOSE(DETAILS!$B$2,"Wyceniono","Priced","Bepreist","Chiffré","Calculado","Prezzo calcolato","Cena vypočtena","Cena vypočítaná"),CHOOSE(DETAILS!$B$2,"Cena na zapytanie","Price on request","Preis auf Anfrage","Prix sur demande","Precio a consultar","Prezzo su richiesta","Cena na dotaz","Cena na vyžiadanie")))))))

Sheet DETAILS
A1: =CHOOSE(DETAILS!$B$2,"Dane zamawiającego","Customer details","Kundendaten","Coordonnées du client","Datos del cliente","Dati del cliente","Údaje zákazníka","Údaje zákazníka") -> Customer details
A2: PL / EN / DE / FR / ES / IT / CS / SK | B2: =MATCH(ORDER!$B$2,$H$35:$H$42,0) -> 2
A4: =CHOOSE(DETAILS!$B$2,"Firma / sklep","Company / shop","Firma / Geschäft","Entreprise / boutique","Empresa / tienda","Azienda / negozio","Firma / obchod","Firma / obchod") -> Company / shop
A5: =CHOOSE(DETAILS!$B$2,"NIP / VAT ID","Tax / VAT ID","Steuer- / USt-IdNr.","N° fiscal / TVA","NIF / IVA","Codice fiscale / partita IVA","Daňové číslo / DIČ","Daňové číslo / IČ DPH") -> Tax / VAT ID
A6: =CHOOSE(DETAILS!$B$2,"Osoba kontaktowa","Contact person","Ansprechperson","Personne à contacter","Persona de contacto","Persona di contatto","Kontaktní osoba","Kontaktná osoba") -> Contact person
A7: =CHOOSE(DETAILS!$B$2,"E-mail / telefon","Email / phone","E-Mail / Telefon","E-mail / téléphone","Correo / teléfono","E-mail / telefono","E-mail / telefon","E-mail / telefón") -> Email / phone
A8: =CHOOSE(DETAILS!$B$2,"Adres dostawy","Delivery address","Lieferadresse","Adresse de livraison","Dirección de entrega","Indirizzo di consegna","Doručovací adresa","Dodacia adresa") -> Delivery address
A9: =CHOOSE(DETAILS!$B$2,"Kraj / kod pocztowy","Country / postal code","Land / Postleitzahl","Pays / code postal","País / código postal","Paese / codice postale","Země / PSČ","Krajina / PSČ") -> Country / postal code
A10: =CHOOSE(DETAILS!$B$2,"Numer zamówienia / uwagi","Order reference / notes","Bestellreferenz / Hinweise","Référence / remarques","Referencia / notas","Riferimento ordine / note","Číslo objednávky / poznámky","Číslo objednávky / poznámky") -> Order reference / notes
A12: =CHOOSE(DETAILS!$B$2,"Kontakt dostawcy","Supplier contact","Lieferantenkontakt","Contact fournisseur","Contacto del proveedor","Contatto del fornitore","Kontakt na dodavatele","Kontakt na dodávateľa") -> Supplier contact | B12: divinealchemybyiren@gmail.com
B13: tel .48794721604 Irena Pietkiewicz
A14: =CHOOSE(DETAILS!$B$2,"Wpisz ilość w żółtej kolumnie G. Zapisz plik i odeślij dostawcy. Link Allegro prowadzi do zdjęć, opisu i opinii.","Enter quantities in yellow column G. Save and return the file to the supplier. Allegro links show photos, details and reviews.","Mengen in die gelbe Spalte G eintragen. Datei speichern und an den Lieferanten zurücksenden. Allegro-Links führen zu Fotos, Details und Bewertungen.","Saisissez les quantités dans la colonne jaune G. Enregistrez et renvoyez le fichier au fournisseur. Les liens Allegro donnent accès aux photos, détails et avis.","Introduzca cantidades en la columna amarilla G. Guarde y devuelva el archivo al proveedor. Los enlaces de Allegro muestran fotos, detalles y reseñas.","Inserire le quantità nella colonna gialla G. Salvare e restituire il file al fornitore. I link Allegro mostrano foto, dettagli e recensioni.","Zadejte množství do žlutého sloupce G. Soubor uložte a odešlete dodavateli. Odkazy Allegro obsahují fotografie, podrobnosti a recenze.","Zadajte množstvá do žltého stĺpca G. Súbor uložte a odošlite dodávateľovi. Odkazy Allegro obsahujú fotografie, podrobnosti a recenzie.") -> Enter quantities in yellow column G. Save and return the file to the supplier. Allegro links show photos, details and reviews.
A17: =CHOOSE(DETAILS!$B$2,"Progi na każdy produkt / kolor osobno. 130 × 10 mm: od 10 szt. Ziołowe 60 g: od 5 szt. 260 × 6 mm: od 500 szt., co 20 szt. 500 szt. = 25 pudełek.","Tiers apply separately per product / colour. 130 × 10 mm: minimum 10. Herbal 60 g: minimum 5. 260 × 6 mm: minimum 500, in multiples of 20. 500 candles = 25 boxes.","Staffeln je Produkt / Farbe. 130 × 10 mm: ab 10 Stück. Kräuterkerzen 60 g: ab 5 Stück. 260 × 6 mm: ab 500, in Vielfachen von 20. 500 Kerzen = 25 Schachteln.","Paliers par produit / couleur. 130 × 10 mm : minimum 10. Bougies aux herbes 60 g : minimum 5. 260 × 6 mm : minimum 500, par multiples de 20. 500 bougies = 25 boîtes.","Tramos por producto / color. 130 × 10 mm: mínimo 10. Velas con hierbas de 60 g: mínimo 5. 260 × 6 mm: mínimo 500, en múltiplos de 20. 500 velas = 25 cajas.","Fasce per prodotto / colore. 130 × 10 mm: minimo 10. Candele alle erbe da 60 g: minimo 5. 260 × 6 mm: minimo 500, in multipli di 20. 500 candele = 25 scatole.","Pásma pro každý produkt / barvu. 130 × 10 mm: od 10 ks. Bylinné 60 g: od 5 ks. 260 × 6 mm: od 500 ks, v násobcích 20. 500 svíček = 25 krabiček.","Pásma pre každý produkt / farbu. 130 × 10 mm: od 10 ks. Bylinné 60 g: od 5 ks. 260 × 6 mm: od 500 ks, v násobkoch 20. 500 sviečok = 25 škatuliek.") -> Tiers apply separately per product / colour. 130 × 10 mm: minimum 10. Herbal 60 g: minimum 5. 260 × 6 mm: minimum 500, in multiples of 20. 500 candles = 25 boxes.
A20: =CHOOSE(DETAILS!$B$2,"Ceny jednostkowe podano z dokładnością do 4 miejsc po przecinku. Wartość każdej pozycji jest zaokrąglana do 2 miejsc po przecinku.","Unit prices are shown to up to 4 decimal places. Each line total is rounded to 2 decimal places.","Einzelpreise werden mit bis zu 4 Nachkommastellen angegeben. Der Gesamtbetrag jeder Position wird auf 2 Nachkommastellen gerundet.","Les prix unitaires sont indiqués avec jusqu’à 4 décimales. Le montant de chaque ligne est arrondi à 2 décimales.","Los precios unitarios se muestran con hasta 4 decimales. El importe de cada línea se redondea a 2 decimales.","Prezzi unitari indicati fino a 4 decimali. Il totale di ogni riga è arrotondato a 2 decimali.","Jednotkové ceny jsou uvedeny až na 4 desetinná místa. Součet každé položky se zaokrouhluje na 2 desetinná místa.","Jednotkové ceny sú uvedené až na 4 desatinné miesta. Suma každej položky sa zaokrúhľuje na 2 desatinné miesta.") -> Unit prices are shown to up to 4 decimal places. Each line total is rounded to 2 decimal places.
A23: =CHOOSE(DETAILS!$B$2,"Kursy przeliczenia cen","Price conversion rates","Umrechnungskurse","Taux de conversion des prix","Tipos de conversión de precios","Tassi di conversione dei prezzi","Přepočítací kurzy cen","Prepočítacie kurzy cien") -> Price conversion rates
A24: =CHOOSE(DETAILS!$B$2,"Cena nie zależy od języka ani kraju. Zmiana waluty przelicza kwoty po kursach poniżej.","Price does not depend on language or country. Changing currency converts amounts using the rates below.","Der Preis hängt nicht von Sprache oder Land ab. Ein Währungswechsel rechnet die Beträge mit den folgenden Kursen um.","Le prix ne dépend ni de la langue ni du pays. Le changement de devise utilise les taux ci-dessous.","El precio no depende del idioma ni del país. El cambio de moneda utiliza los tipos indicados abajo.","Il prezzo non dipende dalla lingua o dal paese. Il cambio di valuta utilizza i tassi riportati sotto.","Cena nezávisí na jazyku ani zemi. Změna měny přepočte částky podle kurzů níže.","Cena nezávisí od jazyka ani krajiny. Zmena meny prepočíta sumy podľa kurzov nižšie.") -> Price does not depend on language or country. Changing currency converts amounts using the rates below.
B26: =VLOOKUP($B$27,$A$35:$B$45,2,FALSE) -> 1
B27: =IF(ORDER!$F$2="AUTO",VLOOKUP(ORDER!$D$2,$E$35:$G$66,3,FALSE),ORDER!$F$2) -> PLN
A28: NBP 177/A/NBP/2026 · 2026-09-11
A29: https://nbp.pl/statystyka-i-sprawozdawczosc/kursy/tabela-a/
A30: Market markup | B30: =VLOOKUP(ORDER!$D$2,$E$35:$I$66,5,FALSE) -> 0
A31: =CHOOSE(DETAILS!$B$2,"Ceny przeliczone z PLN. Kursy ustala dostawca; nie zmieniają się automatycznie.","Prices converted from PLN. Supplier sets the rates; they do not update automatically.","Preise aus PLN umgerechnet. Kurse werden vom Lieferanten festgelegt und nicht automatisch aktualisiert.","Prix convertis depuis PLN. Taux fixés par le fournisseur, sans mise à jour automatique.","Precios convertidos desde PLN. El proveedor fija los tipos; no se actualizan automáticamente.","Prezzi convertiti da PLN. I tassi sono fissati dal fornitore e non si aggiornano automaticamente.","Ceny jsou přepočteny z PLN. Kurzy stanovuje dodavatel; neaktualizují se automaticky.","Ceny sú prepočítané z PLN. Kurzy stanovuje dodávateľ; neaktualizujú sa automaticky.") -> Prices converted from PLN. Supplier sets the rates; they do not update automatically.
A33: =CHOOSE(DETAILS!$B$2,"Kraj dostawy","Delivery country","Lieferland","Pays de livraison","País de entrega","Paese di consegna","Země doručení","Krajina doručenia") -> Delivery country | B33: =ORDER!$D$2 -> PL | C33: =VLOOKUP($B$33,$E$35:$G$66,2,FALSE) -> Polska
A34: =CHOOSE(DETAILS!$B$2,"Waluta","Currency","Währung","Devise","Moneda","Valuta","Měna","Mena") -> Currency | B34: PLN / 1 | E34: =CHOOSE(DETAILS!$B$2,"Kraj dostawy","Delivery country","Lieferland","Pays de livraison","País de entrega","Paese di consegna","Země doručení","Krajina doručenia") -> Delivery country | F34: =CHOOSE(DETAILS!$B$2,"Nazwa kraju","Country name","Landesname","Nom du pays","Nombre del país","Nome del paese","Název země","Názov krajiny") -> Country name | G34: =CHOOSE(DETAILS!$B$2,"Waluta","Currency","Währung","Devise","Moneda","Valuta","Měna","Mena") -> Currency | I34: Markup
A35: PLN | B35: 1 | E35: PL | F35: Polska | G35: PLN | H35: Polski | I35: 0
A36: EUR | B36: 4.3228 | E36: AT | F36: Österreich | G36: EUR | H36: English | I36: 0.2
A37: GBP | B37: 5.0332 | E37: BE | F37: Belgique / België | G37: EUR | H37: Deutsch | I37: 0.2
A38: CZK | B38: 0.1784 | E38: BG | F38: България | G38: EUR | H38: Français | I38: 0.2
A39: HUF | B39: 0.01188 | E39: HR | F39: Hrvatska | G39: EUR | H39: Español | I39: 0.2
A40: SEK | B40: 0.3848 | E40: CY | F40: Κύπρος | G40: EUR | H40: Italiano | I40: 0.2
A41: DKK | B41: 0.5783 | E41: CZ | F41: Česko | G41: CZK | H41: Čeština | I41: 0
A42: NOK | B42: 0.4005 | E42: DK | F42: Danmark | G42: DKK | H42: Slovenčina | I42: 0.2
A43: CHF | B43: 4.5768 | E43: EE | F43: Eesti | G43: EUR | I43: 0
A44: RON | B44: 0.8225 | E44: FI | F44: Suomi | G44: EUR | I44: 0.2
A45: ISK | B45: 0.030877 | E45: FR | F45: France | G45: EUR | I45: 0.2
E46: DE | F46: Deutschland | G46: EUR | I46: 0.2
A47: =CHOOSE(DETAILS!$B$2,"Ziołowe 60 g: 5–9 szt. −16%; 10–99 szt. −25%; od 100 szt. −33%. Rabat od ceny bazowej danego produktu.","Herbal 60 g: 5–9 pcs −16%; 10–99 pcs −25%; 100+ pcs −33%. Discount from each product’s reference price.","Kräuterkerzen 60 g: 5–9 Stück −16%; 10–99 −25%; ab 100 −33%. Rabatt auf den jeweiligen Basispreis.","Bougies aux herbes 60 g : 5–9 pièces −16 % ; 10–99 −25 % ; dès 100 −33 %. Remise sur le prix de référence du produit.","Velas con hierbas de 60 g: 5–9 unidades −16%; 10–99 −25%; desde 100 −33%. Descuento sobre el precio base de cada producto.","Candele alle erbe da 60 g: 5–9 pezzi −16%; 10–99 −25%; da 100 −33%. Sconto sul prezzo di riferimento del prodotto.","Bylinné 60 g: 5–9 ks −16 %; 10–99 ks −25 %; od 100 ks −33 %. Sleva ze základní ceny daného produktu.","Bylinné 60 g: 5–9 ks −16 %; 10–99 ks −25 %; od 100 ks −33 %. Zľava zo základnej ceny daného produktu.") -> Herbal 60 g: 5–9 pcs −16%; 10–99 pcs −25%; 100+ pcs −33%. Discount from each product’s reference price. | E47: GR | F47: Ελλάδα | G47: EUR | I47: 0.2
E48: HU | F48: Magyarország | G48: HUF | I48: 0
E49: IE | F49: Ireland / Éire | G49: EUR | I49: 0.2
E50: IT | F50: Italia | G50: EUR | I50: 0.2
A51: =CHOOSE(DETAILS!$B$2,"Dokumenty i badanie wosku","Documents and wax testing","Dokumente und Wachsuntersuchung","Documents et analyse de la cire","Documentos y análisis de la cera","Documenti e analisi della cera","Dokumenty a zkouška vosku","Dokumenty a skúška vosku") -> Documents and wax testing | E51: LV | F51: Latvija | G51: EUR | I51: 0
A52: ETA Innovations Research Hub · RD/2025/LU/00344 | E52: LT | F52: Lietuva | G52: EUR | I52: 0
A53: =CHOOSE(DETAILS!$B$2,"Analiza FTIR dostarczonej próbki: widmo typowe dla wosku pszczelego. Wyniki dotyczą wyłącznie zbadanej próbki; laboratorium bez akredytacji PCA.","FTIR analysis of the submitted sample: spectrum characteristic of beeswax. Results apply only to the tested sample; the laboratory has no PCA accreditation.","FTIR-Analyse der eingereichten Probe: für Bienenwachs typisches Spektrum. Ergebnisse gelten nur für die untersuchte Probe; das Labor hat keine PCA-Akkreditierung.","Analyse FTIR de l’échantillon fourni : spectre caractéristique de la cire d’abeille. Résultats limités à cet échantillon ; laboratoire sans accréditation PCA.","Análisis FTIR de la muestra presentada: espectro característico de cera de abeja. Resultados aplicables solo a la muestra; laboratorio sin acreditación PCA.","Analisi FTIR del campione fornito: spettro caratteristico della cera d’api. Risultati riferiti solo al campione esaminato; laboratorio privo di accreditamento PCA.","FTIR analýza dodaného vzorku: spektrum typické pro včelí vosk. Výsledky platí pouze pro zkoušený vzorek; laboratoř nemá akreditaci PCA.","FTIR analýza dodanej vzorky: spektrum typické pre včelí vosk. Výsledky platia iba pre skúmanú vzorku; laboratórium nemá akreditáciu PCA.") -> FTIR analysis of the submitted sample: spectrum characteristic of beeswax. Results apply only to the tested sample; the laboratory has no PCA accreditation. | E53: LU | F53: Luxembourg | G53: EUR | I53: 0.2
E54: MT | F54: Malta | G54: EUR | I54: 0.2
E55: NL | F55: Nederland | G55: EUR | I55: 0.2
A56: =CHOOSE(DETAILS!$B$2,"Parafina (% m/m)","Paraffin (% w/w)","Paraffin (% m/m)","Paraffine (% m/m)","Parafina (% m/m)","Paraffina (% m/m)","Parafín (% hm.)","Parafín (% hm.)") -> Paraffin (% w/w) | B56: 2,9 ± 1 | E56: PT | F56: Portugal | G56: EUR | I56: 0.2
A57: =CHOOSE(DETAILS!$B$2,"Stearyna","Stearin","Stearin","Stéarine","Estearina","Stearina","Stearin","Stearín") -> Stearin | B57: =CHOOSE(DETAILS!$B$2,"Nie wykryto","Not detected","Nicht nachgewiesen","Non détectée","No detectada","Non rilevata","Nezjištěn","Nezistený") -> Not detected | E57: RO | F57: România | G57: RON | I57: 0
A58: =CHOOSE(DETAILS!$B$2,"Zanieczyszczenia mineralne (% m/m)","Mineral impurities (% w/w)","Mineralische Verunreinigungen (% m/m)","Impuretés minérales (% m/m)","Impurezas minerales (% m/m)","Impurità minerali (% m/m)","Minerální nečistoty (% hm.)","Minerálne nečistoty (% hm.)") -> Mineral impurities (% w/w) | B58: 0,6 ± 0,1 | E58: SK | F58: Slovensko | G58: EUR | I58: 0
E59: SI | F59: Slovenija | G59: EUR | I59: 0.2
A60: =CHOOSE(DETAILS!$B$2,"Otwórz pełny raport PDF","Open full PDF report","Vollständigen PDF-Bericht öffnen","Ouvrir le rapport PDF complet","Abrir el informe PDF completo","Aprire il rapporto PDF completo","Otevřít úplnou zprávu PDF","Otvoriť úplnú správu PDF") -> Open full PDF report | E60: ES | F60: España | G60: EUR | I60: 0.2
E61: SE | F61: Sverige | G61: SEK | I61: 0.2
E62: GB | F62: United Kingdom | G62: GBP | I62: 0.2
E63: NO | F63: Norge | G63: NOK | I63: 0.2
E64: CH | F64: Schweiz / Suisse | G64: CHF | I64: 0.2
E65: IS | F65: Ísland | G65: ISK | I65: 0.2
E66: LI | F66: Liechtenstein | G66: CHF | I66: 0.2

Sheet PRICES
A1: =CHOOSE(DETAILS!$B$2,"Cennik i progi ilościowe","Price list and quantity tiers","Preisliste und Mengenstaffeln","Tarifs et paliers de quantité","Tarifas y tramos de cantidad","Listino prezzi e fasce di quantità","Ceník a množstevní pásma","Cenník a množstevné pásma") -> Price list and quantity tiers
A2: =CHOOSE(DETAILS!$B$2,"Ceny za 1 sztukę w wybranej walucie. Pusta cena = zapytanie. Ilości wpisz w ORDER.","Prices per piece in the selected currency. Blank price = request a quote. Enter quantities in ORDER.","Preise pro Stück in der gewählten Währung. Leerer Preis = Anfrage. Mengen in ORDER eintragen.","Prix par pièce dans la devise choisie. Prix vide = devis. Quantités dans ORDER.","Precios por unidad en la moneda elegida. Precio vacío = consultar. Cantidades en ORDER.","Prezzi al pezzo nella valuta scelta. Prezzo vuoto = preventivo. Quantità in ORDER.","Ceny za kus ve zvolené měně. Prázdná cena = poptávka. Množství zadejte do ORDER.","Ceny za kus vo zvolenej mene. Prázdna cena = dopyt. Množstvá zadajte do ORDER.") -> Prices per piece in the selected currency. Blank price = request a quote. Enter quantities in ORDER.
F3: =DETAILS!$B$27 -> PLN
A4: =CHOOSE(DETAILS!$B$2,"Zdjęcie","Photo","Foto","Photo"," Foto","Foto","Fotografie","Fotografia") -> Photo | B4: =CHOOSE(DETAILS!$B$2,"Produkt","Product","Produkt","Produit","Producto","Prodotto","Produkt","Produkt") -> Product | C4: =CHOOSE(DETAILS!$B$2,"Kolor","Colour","Farbe","Couleur","Color","Colore","Barva","Farba") -> Colour | D4: =CHOOSE(DETAILS!$B$2,"Rozmiar","Size","Größe","Dimensions","Tamaño","Dimensioni","Rozměry","Rozmery") -> Size | E4: =CHOOSE(DETAILS!$B$2,"Waga netto (g)","Net weight (g)","Nettogewicht (g)","Poids net (g)","Peso neto (g)","Peso netto (g)","Čistá hmotnost (g)","Čistá hmotnosť (g)") -> Net weight (g) | F4: EAN | G4: =CHOOSE(DETAILS!$B$2,"Cena bazowa","Reference price","Basispreis","Prix de référence","Precio base","Prezzo di riferimento","Základní cena","Základná cena") -> Reference price | H4: =CHOOSE(DETAILS!$B$2,"Sztuk / jednostkę","Pieces / unit","Stück / Einheit","Pièces / unité","Piezas / unidad","Pezzi / unità","Kusů / jednotku","Kusov / jednotku") -> Pieces / unit | I4: =CHOOSE(DETAILS!$B$2,"Minimum, jedn.","Minimum, units","Minimum, Einheiten","Minimum, unités","Mínimo, unidades","Minimo, unità","Minimum, jednotky","Minimum, jednotky") -> Minimum, units | J4: 1 | K4: 5 | L4: 10 | M4: 20 | N4: 25 | O4: 30 | P4: 50 | Q4: 100 | R4: 250 | S4: 500 | T4: 1000 | U4: Band | V4: PLN | W4: Pending
A5: #VALUE! | B5: =ORDER!B6 -> Coloured beeswax candle | C5: =ORDER!C6 -> White | D5: =ORDER!D6 -> 130 × 10 mm | E5: 10 | F5: 5902138542870 | G5: =ROUND(BASE_PRICES!B5*(1+DETAILS!$B$30)/DETAILS!$B$26,4) -> 6.1 | H5: =BASE_PRICES!C5 -> 1 | I5: =BASE_PRICES!D5 -> 10 | J5: =IF(1<BASE_PRICES!D5,"",IF(BASE_PRICES!F5="","",ROUND(BASE_PRICES!F5*(1+DETAILS!$B$30)/DETAILS!$B$26,4))) -> 0 | K5: =IF(5<BASE_PRICES!D5,"",IF(BASE_PRICES!G5="","",ROUND(BASE_PRICES!G5*(1+DETAILS!$B$30)/DETAILS!$B$26,4))) -> 0 | L5: =IF(10<BASE_PRICES!D5,"",IF(BASE_PRICES!H5="","",ROUND(BASE_PRICES!H5*(1+DETAILS!$B$30)/DETAILS!$B$26,4))) -> 5.246 | M5: =IF(20<BASE_PRICES!D5,"",IF(BASE_PRICES!I5="","",ROUND(BASE_PRICES!I5*(1+DETAILS!$B$30)/DETAILS!$B$26,4))) -> 4.9495 | N5: =IF(25<BASE_PRICES!D5,"",IF(BASE_PRICES!J5="","",ROUND(BASE_PRICES!J5*(1+DETAILS!$B$30)/DETAILS!$B$26,4))) -> 4.9495 | O5: =IF(30<BASE_PRICES!D5,"",IF(BASE_PRICES!K5="","",ROUND(BASE_PRICES!K5*(1+DETAILS!$B$30)/DETAILS!$B$26,4))) -> 4.9495 | P5: =IF(50<BASE_PRICES!D5,"",IF(BASE_PRICES!L5="","",ROUND(BASE_PRICES!L5*(1+DETAILS!$B$30)/DETAILS!$B$26,4))) -> 4.4998 | Q5: =IF(100<BASE_PRICES!D5,"",IF(BASE_PRICES!M5="","",ROUND(BASE_PRICES!M5*(1+DETAILS!$B$30)/DETAILS!$B$26,4))) -> 4.27 | R5: =IF(250<BASE_PRICES!D5,"",IF(BASE_PRICES!N5="","",ROUND(BASE_PRICES!N5*(1+DETAILS!$B$30)/DETAILS!$B$26,4))) -> 4.08 | S5: =IF(500<BASE_PRICES!D5,"",IF(BASE_PRICES!O5="","",ROUND(BASE_PRICES!O5*(1+DETAILS!$B$30)/DETAILS!$B$26,4))) -> 3.4 | T5: =IF(1000<BASE_PRICES!D5,"",IF(BASE_PRICES!P5="","",ROUND(BASE_PRICES!P5*(1+DETAILS!$B$30)/DETAILS!$B$26,4))) -> 3.2 | U5: =IF(ISNUMBER(ORDER!G6),IF(AND(ORDER!G6>=I5,MOD(ORDER!G6,BASE_PRICES!E5)=0),MATCH(ORDER!G6,$J$4:$T$4,1),0),0) -> 0 | V5: =IF(U5=0,"",IF(INDEX(BASE_PRICES!F5:P5,1,U5)="","",INDEX(BASE_PRICES!F5:P5,1,U5))) | W5: =IF(ORDER!G6=0,0,IF(ISNUMBER(ORDER!H6),0,1)) -> 0
A6: #VALUE! | B6: =ORDER!B7 -> Coloured beeswax candle | C6: =ORDER!C7 -> Light blue | D6: =ORDER!D7 -> 130 × 10 mm | E6: 10 | F6: 5902138542887 | G6: =ROUND(BASE_PRICES!B6*(1+DETAILS!$B$30)/DETAILS!$B$26,4) -> 6.1 | H6: =BASE_PRICES!C6 -> 1 | I6: =BASE_PRICES!D6 -> 10 | J6: =IF(1<BASE_PRICES!D6,"",IF(BASE_PRICES!F6="","",ROUND(BASE_PRICES!F6*(1+DETAILS!$B$30)/DETAILS!$B$26,4))) -> 0 | K6: =IF(5<BASE_PRICES!D6,"",IF(BASE_PRICES!G6="","",ROUND(BASE_PRICES!G6*(1+DETAILS!$B$30)/DETAILS!$B$26,4))) -> 0 | L6: =IF(10<BASE_PRICES!D6,"",IF(BASE_PRICES!H6="","",ROUND(BASE_PRICES!H6*(1+DETAILS!$B$30)/DETAILS!$B$26,4))) -> 5.246 | M6: =IF(20<BASE_PRICES!D6,"",IF(BASE_PRICES!I6="","",ROUND(BASE_PRICES!I6*(1+DETAILS!$B$30)/DETAILS!$B$26,4))) -> 4.9495 | N6: =IF(25<BASE_PRICES!D6,"",IF(BASE_PRICES!J6="","",ROUND(BASE_PRICES!J6*(1+DETAILS!$B$30)/DETAILS!$B$26,4))) -> 4.9495 | O6: =IF(30<BASE_PRICES!D6,"",IF(BASE_PRICES!K6="","",ROUND(BASE_PRICES!K6*(1+DETAILS!$B$30)/DETAILS!$B$26,4))) -> 4.9495 | P6: =IF(50<BASE_PRICES!D6,"",IF(BASE_PRICES!L6="","",ROUND(BASE_PRICES!L6*(1+DETAILS!$B$30)/DETAILS!$B$26,4))) -> 4.4998 | Q6: =IF(100<BASE_PRICES!D6,"",IF(BASE_PRICES!M6="","",ROUND(BASE_PRICES!M6*(1+DETAILS!$B$30)/DETAILS!$B$26,4))) -> 4.27 | R6: =IF(250<BASE_PRICES!D6,"",IF(BASE_PRICES!N6="","",ROUND(BASE_PRICES!N6*(1+DETAILS!$B$30)/DETAILS!$B$26,4))) -> 4.08 | S6: =IF(500<BASE_PRICES!D6,"",IF(BASE_PRICES!O6="","",ROUND(BASE_PRICES!O6*(1+DETAILS!$B$30)/DETAILS!$B$26,4))) -> 3.4 | T6: =IF(1000<BASE_PRICES!D6,"",IF(BASE_PRICES!P6="","",ROUND(BASE_PRICES!P6*(1+DETAILS!$B$30)/DETAILS!$B$26,4))) -> 3.2 | U6: =IF(ISNUMBER(ORDER!G7),IF(AND(ORDER!G7>=I6,MOD(ORDER!G7,BASE_PRICES!E6)=0),MATCH(ORDER!G7,$J$4:$T$4,1),0),0) -> 0 | V6: =IF(U6=0,"",IF(INDEX(BASE_PRICES!F6:P6,1,U6)="","",INDEX(BASE_PRICES!F6:P6,1,U6))) | W6: =IF(ORDER!G7=0,0,IF(ISNUMBER(ORDER!H7),0,1)) -> 0
A7: #VALUE! | B7: =ORDER!B8 -> Coloured beeswax candle | C7: =ORDER!C8 -> Natural yellow | D7: =ORDER!D8 -> 130 × 10 mm | E7: 10 | F7: 5902138542856 | G7: =ROUND(BASE_PRICES!B7*(1+DETAILS!$B$30)/DETAILS!$B$26,4) -> 5.4 | H7: =BASE_PRICES!C7 -> 1 | I7: =BASE_PRICES!D7 -> 10 | J7: =IF(1<BASE_PRICES!D7,"",IF(BASE_PRICES!F7="","",ROUND(BASE_PRICES!F7*(1+DETAILS!$B$30)/DETAILS!$B$26,4))) -> 0 | K7: =IF(5<BASE_PRICES!D7,"",IF(BASE_PRICES!G7="","",ROUND(BASE_PRICES!G7*(1+DETAILS!$B$30)/DETAILS!$B$26,4))) -> 0 | L7: =IF(10<BASE_PRICES!D7,"",IF(BASE_PRICES!H7="","",ROUND(BASE_PRICES!H7*(1+DETAILS!$B$30)/DETAILS!$B$26,4))) -> 4.806 | M7: =IF(20<BASE_PRICES!D7,"",IF(BASE_PRICES!I7="","",ROUND(BASE_PRICES!I7*(1+DETAILS!$B$30)/DETAILS!$B$26,4))) -> 4.536 | N7: =IF(25<BASE_PRICES!D7,"",IF(BASE_PRICES!J7="","",ROUND(BASE_PRICES!J7*(1+DETAILS!$B$30)/DETAILS!$B$26,4))) -> 4.536 | O7: =IF(30<BASE_PRICES!D7,"",IF(BASE_PRICES!K7="","",ROUND(BASE_PRICES!K7*(1+DETAILS!$B$30)/DETAILS!$B$26,4))) -> 4.536 | P7: =IF(50<BASE_PRICES!D7,"",IF(BASE_PRICES!L7="","",ROUND(BASE_PRICES!L7*(1+DETAILS!$B$30)/DETAILS!$B$26,4))) -> 4.104 | Q7: =IF(100<BASE_PRICES!D7,"",IF(BASE_PRICES!M7="","",ROUND(BASE_PRICES!M7*(1+DETAILS!$B$30)/DETAILS!$B$26,4))) -> 3.78 | R7: =IF(250<BASE_PRICES!D7,"",IF(BASE_PRICES!N7="","",ROUND(BASE_PRICES!N7*(1+DETAILS!$B$30)/DETAILS!$B$26,4))) -> 3.618 | S7: =IF(500<BASE_PRICES!D7,"",IF(BASE_PRICES!O7="","",ROUND(BASE_PRICES!O7*(1+DETAILS!$B$30)/DETAILS!$B$26,4))) -> 3.4 | T7: =IF(1000<BASE_PRICES!D7,"",IF(BASE_PRICES!P7="","",ROUND(BASE_PRICES!P7*(1+DETAILS!$B$30)/DETAILS!$B$26,4))) -> 3.2 | U7: =IF(ISNUMBER(ORDER!G8),IF(AND(ORDER!G8>=I7,MOD(ORDER!G8,BASE_PRICES!E7)=0),MATCH(ORDER!G8,$J$4:$T$4,1),0),0) -> 0 | V7: =IF(U7=0,"",IF(INDEX(BASE_PRICES!F7:P7,1,U7)="","",INDEX(BASE_PRICES!F7:P7,1,U7))) | W7: =IF(ORDER!G8=0,0,IF(ISNUMBER(ORDER!H8),0,1)) -> 0
A8: #VALUE! | B8: =ORDER!B9 -> Coloured beeswax candle | C8: =ORDER!C9 -> Green | D8: =ORDER!D9 -> 130 × 10 mm | E8: 10 | F8: 5902138542849 | G8: =ROUND(BASE_PRICES!B8*(1+DETAILS!$B$30)/DETAILS!$B$26,4) -> 5.4 | H8: =BASE_PRICES!C8 -> 1 | I8: =BASE_PRICES!D8 -> 10 | J8: =IF(1<BASE_PRICES!D8,"",IF(BASE_PRICES!F8="","",ROUND(BASE_PRICES!F8*(1+DETAILS!$B$30)/DETAILS!$B$26,4))) -> 0 | K8: =IF(5<BASE_PRICES!D8,"",IF(BASE_PRICES!G8="","",ROUND(BASE_PRICES!G8*(1+DETAILS!$B$30)/DETAILS!$B$26,4))) -> 0 | L8: =IF(10<BASE_PRICES!D8,"",IF(BASE_PRICES!H8="","",ROUND(BASE_PRICES!H8*(1+DETAILS!$B$30)/DETAILS!$B$26,4))) -> 4.806 | M8: =IF(20<BASE_PRICES!D8,"",IF(BASE_PRICES!I8="","",ROUND(BASE_PRICES!I8*(1+DETAILS!$B$30)/DETAILS!$B$26,4))) -> 4.536 | N8: =IF(25<BASE_PRICES!D8,"",IF(BASE_PRICES!J8="","",ROUND(BASE_PRICES!J8*(1+DETAILS!$B$30)/DETAILS!$B$26,4))) -> 4.536 | O8: =IF(30<BASE_PRICES!D8,"",IF(BASE_PRICES!K8="","",ROUND(BASE_PRICES!K8*(1+DETAILS!$B$30)/DETAILS!$B$26,4))) -> 4.536 | P8: =IF(50<BASE_PRICES!D8,"",IF(BASE_PRICES!L8="","",ROUND(BASE_PRICES!L8*(1+DETAILS!$B$30)/DETAILS!$B$26,4))) -> 4.104 | Q8: =IF(100<BASE_PRICES!D8,"",IF(BASE_PRICES!M8="","",ROUND(BASE_PRICES!M8*(1+DETAILS!$B$30)/DETAILS!$B$26,4))) -> 3.78 | R8: =IF(250<BASE_PRICES!D8,"",IF(BASE_PRICES!N8="","",ROUND(BASE_PRICES!N8*(1+DETAILS!$B$30)/DETAILS!$B$26,4))) -> 3.618 | S8: =IF(500<BASE_PRICES!D8,"",IF(BASE_PRICES!O8="","",ROUND(BASE_PRICES!O8*(1+DETAILS!$B$30)/DETAILS!$B$26,4))) -> 3.4 | T8: =IF(1000<BASE_PRICES!D8,"",IF(BASE_PRICES!P8="","",ROUND(BASE_PRICES!P8*(1+DETAILS!$B$30)/DETAILS!$B$26,4))) -> 3.2 | U8: =IF(ISNUMBER(ORDER!G9),IF(AND(ORDER!G9>=I8,MOD(ORDER!G9,BASE_PRICES!E8)=0),MATCH(ORDER!G9,$J$4:$T$4,1),0),0) -> 0 | V8: =IF(U8=0,"",IF(INDEX(BASE_PRICES!F8:P8,1,U8)="","",INDEX(BASE_PRICES!F8:P8,1,U8))) | W8: =IF(ORDER!G9=0,0,IF(ISNUMBER(ORDER!H9),0,1)) -> 0
A9: #VALUE! | B9: =ORDER!B10 -> Coloured beeswax candle | C9: =ORDER!C10 -> Gold | D9: =ORDER!D10 -> 130 × 10 mm | E9: 10 | F9: 5902138542818 | G9: =ROUND(BASE_PRICES!B9*(1+DETAILS!$B$30)/DETAILS!$B$26,4) -> 6.4 | H9: =BASE_PRICES!C9 -> 1 | I9: =BASE_PRICES!D9 -> 10 | J9: =IF(1<BASE_PRICES!D9,"",IF(BASE_PRICES!F9="","",ROUND(BASE_PRICES!F9*(1+DETAILS!$B$30)/DETAILS!$B$26,4))) -> 0 | K9: =IF(5<BASE_PRICES!D9,"",IF(BASE_PRICES!G9="","",ROUND(BASE_PRICES!G9*(1+DETAILS!$B$30)/DETAILS!$B$26,4))) -> 0 | L9: =IF(10<BASE_PRICES!D9,"",IF(BASE_PRICES!H9="","",ROUND(BASE_PRICES!H9*(1+DETAILS!$B$30)/DETAILS!$B$26,4))) -> 5.696 | M9: =IF(20<BASE_PRICES!D9,"",IF(BASE_PRICES!I9="","",ROUND(BASE_PRICES!I9*(1+DETAILS!$B$30)/DETAILS!$B$26,4))) -> 5.376 | N9: =IF(25<BASE_PRICES!D9,"",IF(BASE_PRICES!J9="","",ROUND(BASE_PRICES!J9*(1+DETAILS!$B$30)/DETAILS!$B$26,4))) -> 5.376 | O9: =IF(30<BASE_PRICES!D9,"",IF(BASE_PRICES!K9="","",ROUND(BASE_PRICES!K9*(1+DETAILS!$B$30)/DETAILS!$B$26,4))) -> 5.376 | P9: =IF(50<BASE_PRICES!D9,"",IF(BASE_PRICES!L9="","",ROUND(BASE_PRICES!L9*(1+DETAILS!$B$30)/DETAILS!$B$26,4))) -> 4.864 | Q9: =IF(100<BASE_PRICES!D9,"",IF(BASE_PRICES!M9="","",ROUND(BASE_PRICES!M9*(1+DETAILS!$B$30)/DETAILS!$B$26,4))) -> 4.48 | R9: =IF(250<BASE_PRICES!D9,"",IF(BASE_PRICES!N9="","",ROUND(BASE_PRICES!N9*(1+DETAILS!$B$30)/DETAILS!$B$26,4))) -> 4.288 | S9: =IF(500<BASE_PRICES!D9,"",IF(BASE_PRICES!O9="","",ROUND(BASE_PRICES!O9*(1+DETAILS!$B$30)/DETAILS!$B$26,4))) -> 3.4 | T9: =IF(1000<BASE_PRICES!D9,"",IF(BASE_PRICES!P9="","",ROUND(BASE_PRICES!P9*(1+DETAILS!$B$30)/DETAILS!$B$26,4))) -> 3.2 | U9: =IF(ISNUMBER(ORDER!G10),IF(AND(ORDER!G10>=I9,MOD(ORDER!G10,BASE_PRICES!E9)=0),MATCH(ORDER!G10,$J$4:$T$4,1),0),0) -> 0 | V9: =IF(U9=0,"",IF(INDEX(BASE_PRICES!F9:P9,1,U9)="","",INDEX(BASE_PRICES!F9:P9,1,U9))) | W9: =IF(ORDER!G10=0,0,IF(ISNUMBER(ORDER!H10),0,1)) -> 0
A10: #VALUE! | B10: =ORDER!B11 -> Coloured beeswax candle | C10: =ORDER!C11 -> Brown | D10: =ORDER!D11 -> 130 × 10 mm | E10: 10 | F10: 5903716470011 | G10: =ROUND(BASE_PRICES!B10*(1+DETAILS!$B$30)/DETAILS!$B$26,4) -> 5.2 | H10: =BASE_PRICES!C10 -> 1 | I10: =BASE_PRICES!D10 -> 10 | J10: =IF(1<BASE_PRICES!D10,"",IF(BASE_PRICES!F10="","",ROUND(BASE_PRICES!F10*(1+DETAILS!$B$30)/DETAILS!$B$26,4))) -> 0 | K10: =IF(5<BASE_PRICES!D10,"",IF(BASE_PRICES!G10="","",ROUND(BASE_PRICES!G10*(1+DETAILS!$B$30)/DETAILS!$B$26,4))) -> 0 | L10: =IF(10<BASE_PRICES!D10,"",IF(BASE_PRICES!H10="","",ROUND(BASE_PRICES!H10*(1+DETAILS!$B$30)/DETAILS!$B$26,4))) -> 4.472 | M10: =IF(20<BASE_PRICES!D10,"",IF(BASE_PRICES!I10="","",ROUND(BASE_PRICES!I10*(1+DETAILS!$B$30)/DETAILS!$B$26,4))) -> 4.212 | N10: =IF(25<BASE_PRICES!D10,"",IF(BASE_PRICES!J10="","",ROUND(BASE_PRICES!J10*(1+DETAILS!$B$30)/DETAILS!$B$26,4))) -> 4.212 | O10: =IF(30<BASE_PRICES!D10,"",IF(BASE_PRICES!K10="","",ROUND(BASE_PRICES!K10*(1+DETAILS!$B$30)/DETAILS!$B$26,4))) -> 4.212 | P10: =IF(50<BASE_PRICES!D10,"",IF(BASE_PRICES!L10="","",ROUND(BASE_PRICES!L10*(1+DETAILS!$B$30)/DETAILS!$B$26,4))) -> 3.848 | Q10: =IF(100<BASE_PRICES!D10,"",IF(BASE_PRICES!M10="","",ROUND(BASE_PRICES!M10*(1+DETAILS!$B$30)/DETAILS!$B$26,4))) -> 3.64 | R10: =IF(250<BASE_PRICES!D10,"",IF(BASE_PRICES!N10="","",ROUND(BASE_PRICES!N10*(1+DETAILS!$B$30)/DETAILS!$B$26,4))) -> 3.484 | S10: =IF(500<BASE_PRICES!D10,"",IF(BASE_PRICES!O10="","",ROUND(BASE_PRICES!O10*(1+DETAILS!$B$30)/DETAILS!$B$26,4))) -> 3.4 | T10: =IF(1000<BASE_PRICES!D10,"",IF(BASE_PRICES!P10="","",ROUND(BASE_PRICES!P10*(1+DETAILS!$B$30)/DETAILS!$B$26,4))) -> 3.2 | U10: =IF(ISNUMBER(ORDER!G11),IF(AND(ORDER!G11>=I10,MOD(ORDER!G11,BASE_PRICES!E10)=0),MATCH(ORDER!G11,$J$4:$T$4,1),0),0) -> 0 | V10: =IF(U10=0,"",IF(INDEX(BASE_PRICES!F10:P10,1,U10)="","",INDEX(BASE_PRICES!F10:P10,1,U10))) | W10: =IF(ORDER!G11=0,0,IF(ISNUMBER(ORDER!H11),0,1)) -> 0
A11: #VALUE! | B11: =ORDER!B12 -> Coloured beeswax candle | C11: =ORDER!C12 -> Orange | D11: =ORDER!D12 -> 130 × 10 mm | E11: 10 | F11: 5902138542863 | G11: =ROUND(BASE_PRICES!B11*(1+DETAILS!$B$30)/DETAILS!$B$26,4) -> 5.4 | H11: =BASE_PRICES!C11 -> 1 | I11: =BASE_PRICES!D11 -> 10 | J11: =IF(1<BASE_PRICES!D11,"",IF(BASE_PRICES!F11="","",ROUND(BASE_PRICES!F11*(1+DETAILS!$B$30)/DETAILS!$B$26,4))) -> 0 | K11: =IF(5<BASE_PRICES!D11,"",IF(BASE_PRICES!G11="","",ROUND(BASE_PRICES!G11*(1+DETAILS!$B$30)/DETAILS!$B$26,4))) -> 0 | L11: =IF(10<BASE_PRICES!D11,"",IF(BASE_PRICES!H11="","",ROUND(BASE_PRICES!H11*(1+DETAILS!$B$30)/DETAILS!$B$26,4))) -> 4.806 | M11: =IF(20<BASE_PRICES!D11,"",IF(BASE_PRICES!I11="","",ROUND(BASE_PRICES!I11*(1+DETAILS!$B$30)/DETAILS!$B$26,4))) -> 4.536 | N11: =IF(25<BASE_PRICES!D11,"",IF(BASE_PRICES!J11="","",ROUND(BASE_PRICES!J11*(1+DETAILS!$B$30)/DETAILS!$B$26,4))) -> 4.536 | O11: =IF(30<BASE_PRICES!D11,"",IF(BASE_PRICES!K11="","",ROUND(BASE_PRICES!K11*(1+DETAILS!$B$30)/DETAILS!$B$26,4))) -> 4.536 | P11: =IF(50<BASE_PRICES!D11,"",IF(BASE_PRICES!L11="","",ROUND(BASE_PRICES!L11*(1+DETAILS!$B$30)/DETAILS!$B$26,4))) -> 3.996 | Q11: =IF(100<BASE_PRICES!D11,"",IF(BASE_PRICES!M11="","",ROUND(BASE_PRICES!M11*(1+DETAILS!$B$30)/DETAILS!$B$26,4))) -> 3.78 | R11: =IF(250<BASE_PRICES!D11,"",IF(BASE_PRICES!N11="","",ROUND(BASE_PRICES!N11*(1+DETAILS!$B$30)/DETAILS!$B$26,4))) -> 3.618 | S11: =IF(500<BASE_PRICES!D11,"",IF(BASE_PRICES!O11="","",ROUND(BASE_PRICES!O11*(1+DETAILS!$B$30)/DETAILS!$B$26,4))) -> 3.4 | T11: =IF(1000<BASE_PRICES!D11,"",IF(BASE_PRICES!P11="","",ROUND(BASE_PRICES!P11*(1+DETAILS!$B$30)/DETAILS!$B$26,4))) -> 3.2 | U11: =IF(ISNUMBER(ORDER!G12),IF(AND(ORDER!G12>=I11,MOD(ORDER!G12,BASE_PRICES!E11)=0),MATCH(ORDER!G12,$J$4:$T$4,1),0),0) -> 0 | V11: =IF(U11=0,"",IF(INDEX(BASE_PRICES!F11:P11,1,U11)="","",INDEX(BASE_PRICES!F11:P11,1,U11))) | W11: =IF(ORDER!G12=0,0,IF(ISNUMBER(ORDER!H12),0,1)) -> 0
A12: #VALUE! | B12: =ORDER!B13 -> Coloured beeswax candle | C12: =ORDER!C13 -> Pink | D12: =ORDER!D13 -> 130 × 10 mm | E12: 10 | F12: 5902138542825 | G12: =ROUND(BASE_PRICES!B12*(1+DETAILS!$B$30)/DETAILS!$B$26,4) -> 6.1 | H12: =BASE_PRICES!C12 -> 1 | I12: =BASE_PRICES!D12 -> 10 | J12: =IF(1<BASE_PRICES!D12,"",IF(BASE_PRICES!F12="","",ROUND(BASE_PRICES!F12*(1+DETAILS!$B$30)/DETAILS!$B$26,4))) -> 0 | K12: =IF(5<BASE_PRICES!D12,"",IF(BASE_PRICES!G12="","",ROUND(BASE_PRICES!G12*(1+DETAILS!$B$30)/DETAILS!$B$26,4))) -> 0 | L12: =IF(10<BASE_PRICES!D12,"",IF(BASE_PRICES!H12="","",ROUND(BASE_PRICES!H12*(1+DETAILS!$B$30)/DETAILS!$B$26,4))) -> 5.429 | M12: =IF(20<BASE_PRICES!D12,"",IF(BASE_PRICES!I12="","",ROUND(BASE_PRICES!I12*(1+DETAILS!$B$30)/DETAILS!$B$26,4))) -> 5.123 | N12: =IF(25<BASE_PRICES!D12,"",IF(BASE_PRICES!J12="","",ROUND(BASE_PRICES!J12*(1+DETAILS!$B$30)/DETAILS!$B$26,4))) -> 5.123 | O12: =IF(30<BASE_PRICES!D12,"",IF(BASE_PRICES!K12="","",ROUND(BASE_PRICES!K12*(1+DETAILS!$B$30)/DETAILS!$B$26,4))) -> 5.123 | P12: =IF(50<BASE_PRICES!D12,"",IF(BASE_PRICES!L12="","",ROUND(BASE_PRICES!L12*(1+DETAILS!$B$30)/DETAILS!$B$26,4))) -> 4.636 | Q12: =IF(100<BASE_PRICES!D12,"",IF(BASE_PRICES!M12="","",ROUND(BASE_PRICES!M12*(1+DETAILS!$B$30)/DETAILS!$B$26,4))) -> 4.27 | R12: =IF(250<BASE_PRICES!D12,"",IF(BASE_PRICES!N12="","",ROUND(BASE_PRICES!N12*(1+DETAILS!$B$30)/DETAILS!$B$26,4))) -> 4.087 | S12: =IF(500<BASE_PRICES!D12,"",IF(BASE_PRICES!O12="","",ROUND(BASE_PRICES!O12*(1+DETAILS!$B$30)/DETAILS!$B$26,4))) -> 3.4 | T12: =IF(1000<BASE_PRICES!D12,"",IF(BASE_PRICES!P12="","",ROUND(BASE_PRICES!P12*(1+DETAILS!$B$30)/DETAILS!$B$26,4))) -> 3.2 | U12: =IF(ISNUMBER(ORDER!G13),IF(AND(ORDER!G13>=I12,MOD(ORDER!G13,BASE_PRICES!E12)=0),MATCH(ORDER!G13,$J$4:$T$4,1),0),0) -> 0 | V12: =IF(U12=0,"",IF(INDEX(BASE_PRICES!F12:P12,1,U12)="","",INDEX(BASE_PRICES!F12:P12,1,U12))) | W12: =IF(ORDER!G13=0,0,IF(ISNUMBER(ORDER!H13),0,1)) -> 0
A13: #VALUE! | B13: =ORDER!B14 -> Coloured beeswax candle | C13: =ORDER!C14 -> Blue | D13: =ORDER!D14 -> 130 × 10 mm | E13: 10 | F13: 5902138542832 | G13: =ROUND(BASE_PRICES!B13*(1+DETAILS!$B$30)/DETAILS!$B$26,4) -> 6.1 | H13: =BASE_PRICES!C13 -> 1 | I13: =BASE_PRICES!D13 -> 10 | J13: =IF(1<BASE_PRICES!D13,"",IF(BASE_PRICES!F13="","",ROUND(BASE_PRICES!F13*(1+DETAILS!$B$30)/DETAILS!$B$26,4))) -> 0 | K13: =IF(5<BASE_PRICES!D13,"",IF(BASE_PRICES!G13="","",ROUND(BASE_PRICES!G13*(1+DETAILS!$B$30)/DETAILS!$B$26,4))) -> 0 | L13: =IF(10<BASE_PRICES!D13,"",IF(BASE_PRICES!H13="","",ROUND(BASE_PRICES!H13*(1+DETAILS!$B$30)/DETAILS!$B$26,4))) -> 5.429 | M13: =IF(20<BASE_PRICES!D13,"",IF(BASE_PRICES!I13="","",ROUND(BASE_PRICES!I13*(1+DETAILS!$B$30)/DETAILS!$B$26,4))) -> 5.124 | N13: =IF(25<BASE_PRICES!D13,"",IF(BASE_PRICES!J13="","",ROUND(BASE_PRICES!J13*(1+DETAILS!$B$30)/DETAILS!$B$26,4))) -> 5.124 | O13: =IF(30<BASE_PRICES!D13,"",IF(BASE_PRICES!K13="","",ROUND(BASE_PRICES!K13*(1+DETAILS!$B$30)/DETAILS!$B$26,4))) -> 5.124 | P13: =IF(50<BASE_PRICES!D13,"",IF(BASE_PRICES!L13="","",ROUND(BASE_PRICES!L13*(1+DETAILS!$B$30)/DETAILS!$B$26,4))) -> 4.636 | Q13: =IF(100<BASE_PRICES!D13,"",IF(BASE_PRICES!M13="","",ROUND(BASE_PRICES!M13*(1+DETAILS!$B$30)/DETAILS!$B$26,4))) -> 4.27 | R13: =IF(250<BASE_PRICES!D13,"",IF(BASE_PRICES!N13="","",ROUND(BASE_PRICES!N13*(1+DETAILS!$B$30)/DETAILS!$B$26,4))) -> 4.087 | S13: =IF(500<BASE_PRICES!D13,"",IF(BASE_PRICES!O13="","",ROUND(BASE_PRICES!O13*(1+DETAILS!$B$30)/DETAILS!$B$26,4))) -> 3.4 | T13: =IF(1000<BASE_PRICES!D13,"",IF(BASE_PRICES!P13="","",ROUND(BASE_PRICES!P13*(1+DETAILS!$B$30)/DETAILS!$B$26,4))) -> 3.2 | U13: =IF(ISNUMBER(ORDER!G14),IF(AND(ORDER!G14>=I13,MOD(ORDER!G14,BASE_PRICES!E13)=0),MATCH(ORDER!G14,$J$4:$T$4,1),0),0) -> 0 | V13: =IF(U13=0,"",IF(INDEX(BASE_PRICES!F13:P13,1,U13)="","",INDEX(BASE_PRICES!F13:P13,1,U13))) | W13: =IF(ORDER!G14=0,0,IF(ISNUMBER(ORDER!H14),0,1)) -> 0
A14: #VALUE! | B14: =ORDER!B15 -> Coloured beeswax candle | C14: =ORDER!C15 -> Silver | D14: =ORDER!D15 -> 130 × 10 mm | E14: 10 | F14: 5903716470004 | G14: =ROUND(BASE_PRICES!B14*(1+DETAILS!$B$30)/DETAILS!$B$26,4) -> 6.4 | H14: =BASE_PRICES!C14 -> 1 | I14: =BASE_PRICES!D14 -> 10 | J14: =IF(1<BASE_PRICES!D14,"",IF(BASE_PRICES!F14="","",ROUND(BASE_PRICES!F14*(1+DETAILS!$B$30)/DETAILS!$B$26,4))) -> 0 | K14: =IF(5<BASE_PRICES!D14,"",IF(BASE_PRICES!G14="","",ROUND(BASE_PRICES!G14*(1+DETAILS!$B$30)/DETAILS!$B$26,4))) -> 0 | L14: =IF(10<BASE_PRICES!D14,"",IF(BASE_PRICES!H14="","",ROUND(BASE_PRICES!H14*(1+DETAILS!$B$30)/DETAILS!$B$26,4))) -> 5.696 | M14: =IF(20<BASE_PRICES!D14,"",IF(BASE_PRICES!I14="","",ROUND(BASE_PRICES!I14*(1+DETAILS!$B$30)/DETAILS!$B$26,4))) -> 5.376 | N14: =IF(25<BASE_PRICES!D14,"",IF(BASE_PRICES!J14="","",ROUND(BASE_PRICES!J14*(1+DETAILS!$B$30)/DETAILS!$B$26,4))) -> 5.376 | O14: =IF(30<BASE_PRICES!D14,"",IF(BASE_PRICES!K14="","",ROUND(BASE_PRICES!K14*(1+DETAILS!$B$30)/DETAILS!$B$26,4))) -> 5.376 | P14: =IF(50<BASE_PRICES!D14,"",IF(BASE_PRICES!L14="","",ROUND(BASE_PRICES!L14*(1+DETAILS!$B$30)/DETAILS!$B$26,4))) -> 4.864 | Q14: =IF(100<BASE_PRICES!D14,"",IF(BASE_PRICES!M14="","",ROUND(BASE_PRICES!M14*(1+DETAILS!$B$30)/DETAILS!$B$26,4))) -> 4.48 | R14: =IF(250<BASE_PRICES!D14,"",IF(BASE_PRICES!N14="","",ROUND(BASE_PRICES!N14*(1+DETAILS!$B$30)/DETAILS!$B$26,4))) -> 4.288 | S14: =IF(500<BASE_PRICES!D14,"",IF(BASE_PRICES!O14="","",ROUND(BASE_PRICES!O14*(1+DETAILS!$B$30)/DETAILS!$B$26,4))) -> 3.4 | T14: =IF(1000<BASE_PRICES!D14,"",IF(BASE_PRICES!P14="","",ROUND(BASE_PRICES!P14*(1+DETAILS!$B$30)/DETAILS!$B$26,4))) -> 3.2 | U14: =IF(ISNUMBER(ORDER!G15),IF(AND(ORDER!G15>=I14,MOD(ORDER!G15,BASE_PRICES!E14)=0),MATCH(ORDER!G15,$J$4:$T$4,1),0),0) -> 0 | V14: =IF(U14=0,"",IF(INDEX(BASE_PRICES!F14:P14,1,U14)="","",INDEX(BASE_PRICES!F14:P14,1,U14))) | W14: =IF(ORDER!G15=0,0,IF(ISNUMBER(ORDER!H15),0,1)) -> 0
A15: #VALUE! | B15: =ORDER!B16 -> Coloured beeswax candle | C15: =ORDER!C16 -> Purple | D15: =ORDER!D16 -> 130 × 10 mm | E15: 10 | F15: 5903716470028 | G15: =ROUND(BASE_PRICES!B15*(1+DETAILS!$B$30)/DETAILS!$B$26,4) -> 5.9 | H15: =BASE_PRICES!C15 -> 1 | I15: =BASE_PRICES!D15 -> 10 | J15: =IF(1<BASE_PRICES!D15,"",IF(BASE_PRICES!F15="","",ROUND(BASE_PRICES!F15*(1+DETAILS!$B$30)/DETAILS!$B$26,4))) -> 0 | K15: =IF(5<BASE_PRICES!D15,"",IF(BASE_PRICES!G15="","",ROUND(BASE_PRICES!G15*(1+DETAILS!$B$30)/DETAILS!$B$26,4))) -> 0 | L15: =IF(10<BASE_PRICES!D15,"",IF(BASE_PRICES!H15="","",ROUND(BASE_PRICES!H15*(1+DETAILS!$B$30)/DETAILS!$B$26,4))) -> 5.246 | M15: =IF(20<BASE_PRICES!D15,"",IF(BASE_PRICES!I15="","",ROUND(BASE_PRICES!I15*(1+DETAILS!$B$30)/DETAILS!$B$26,4))) -> 4.9495 | N15: =IF(25<BASE_PRICES!D15,"",IF(BASE_PRICES!J15="","",ROUND(BASE_PRICES!J15*(1+DETAILS!$B$30)/DETAILS!$B$26,4))) -> 4.9495 | O15: =IF(30<BASE_PRICES!D15,"",IF(BASE_PRICES!K15="","",ROUND(BASE_PRICES!K15*(1+DETAILS!$B$30)/DETAILS!$B$26,4))) -> 4.9495 | P15: =IF(50<BASE_PRICES!D15,"",IF(BASE_PRICES!L15="","",ROUND(BASE_PRICES!L15*(1+DETAILS!$B$30)/DETAILS!$B$26,4))) -> 4.4998 | Q15: =IF(100<BASE_PRICES!D15,"",IF(BASE_PRICES!M15="","",ROUND(BASE_PRICES!M15*(1+DETAILS!$B$30)/DETAILS!$B$26,4))) -> 4.13 | R15: =IF(250<BASE_PRICES!D15,"",IF(BASE_PRICES!N15="","",ROUND(BASE_PRICES!N15*(1+DETAILS!$B$30)/DETAILS!$B$26,4))) -> 3.953 | S15: =IF(500<BASE_PRICES!D15,"",IF(BASE_PRICES!O15="","",ROUND(BASE_PRICES!O15*(1+DETAILS!$B$30)/DETAILS!$B$26,4))) -> 3.4 | T15: =IF(1000<BASE_PRICES!D15,"",IF(BASE_PRICES!P15="","",ROUND(BASE_PRICES!P15*(1+DETAILS!$B$30)/DETAILS!$B$26,4))) -> 3.2 | U15: =IF(ISNUMBER(ORDER!G16),IF(AND(ORDER!G16>=I15,MOD(ORDER!G16,BASE_PRICES!E15)=0),MATCH(ORDER!G16,$J$4:$T$4,1),0),0) -> 0 | V15: =IF(U15=0,"",IF(INDEX(BASE_PRICES!F15:P15,1,U15)="","",INDEX(BASE_PRICES!F15:P15,1,U15))) | W15: =IF(ORDER!G16=0,0,IF(ISNUMBER(ORDER!H16),0,1)) -> 0
A16: #VALUE! | B16: =ORDER!B17 -> Coloured beeswax candle | C16: =ORDER!C17 -> Red | D16: =ORDER!D17 -> 130 × 10 mm | E16: 10 | F16: 5902138542894 | G16: =ROUND(BASE_PRICES!B16*(1+DETAILS!$B$30)/DETAILS!$B$26,4) -> 5.4 | H16: =BASE_PRICES!C16 -> 1 | I16: =BASE_PRICES!D16 -> 10 | J16: =IF(1<BASE_PRICES!D16,"",IF(BASE_PRICES!F16="","",ROUND(BASE_PRICES!F16*(1+DETAILS!$B$30)/DETAILS!$B$26,4))) -> 0 | K16: =IF(5<BASE_PRICES!D16,"",IF(BASE_PRICES!G16="","",ROUND(BASE_PRICES!G16*(1+DETAILS!$B$30)/DETAILS!$B$26,4))) -> 0 | L16: =IF(10<BASE_PRICES!D16,"",IF(BASE_PRICES!H16="","",ROUND(BASE_PRICES!H16*(1+DETAILS!$B$30)/DETAILS!$B$26,4))) -> 4.806 | M16: =IF(20<BASE_PRICES!D16,"",IF(BASE_PRICES!I16="","",ROUND(BASE_PRICES!I16*(1+DETAILS!$B$30)/DETAILS!$B$26,4))) -> 4.536 | N16: =IF(25<BASE_PRICES!D16,"",IF(BASE_PRICES!J16="","",ROUND(BASE_PRICES!J16*(1+DETAILS!$B$30)/DETAILS!$B$26,4))) -> 4.536 | O16: =IF(30<BASE_PRICES!D16,"",IF(BASE_PRICES!K16="","",ROUND(BASE_PRICES!K16*(1+DETAILS!$B$30)/DETAILS!$B$26,4))) -> 4.536 | P16: =IF(50<BASE_PRICES!D16,"",IF(BASE_PRICES!L16="","",ROUND(BASE_PRICES!L16*(1+DETAILS!$B$30)/DETAILS!$B$26,4))) -> 4.104 | Q16: =IF(100<BASE_PRICES!D16,"",IF(BASE_PRICES!M16="","",ROUND(BASE_PRICES!M16*(1+DETAILS!$B$30)/DETAILS!$B$26,4))) -> 3.78 | R16: =IF(250<BASE_PRICES!D16,"",IF(BASE_PRICES!N16="","",ROUND(BASE_PRICES!N16*(1+DETAILS!$B$30)/DETAILS!$B$26,4))) -> 3.618 | S16: =IF(500<BASE_PRICES!D16,"",IF(BASE_PRICES!O16="","",ROUND(BASE_PRICES!O16*(1+DETAILS!$B$30)/DETAILS!$B$26,4))) -> 3.4 | T16: =IF(1000<BASE_PRICES!D16,"",IF(BASE_PRICES!P16="","",ROUND(BASE_PRICES!P16*(1+DETAILS!$B$30)/DETAILS!$B$26,4))) -> 3.2 | U16: =IF(ISNUMBER(ORDER!G17),IF(AND(ORDER!G17>=I16,MOD(ORDER!G17,BASE_PRICES!E16)=0),MATCH(ORDER!G17,$J$4:$T$4,1),0),0) -> 0 | V16: =IF(U16=0,"",IF(INDEX(BASE_PRICES!F16:P16,1,U16)="","",INDEX(BASE_PRICES!F16:P16,1,U16))) | W16: =IF(ORDER!G17=0,0,IF(ISNUMBER(ORDER!H17),0,1)) -> 0
... A53: #VALUE! | B53: =ORDER!B54 -> Wunjo rune candle | C53: =ORDER!C54 -> Natural yellow | D53: =ORDER!D54 -> 60×25 mm | E53: 35 | F53: 5903716470172 | G53: =ROUND(BASE_PRICES!B53*(1+DETAILS!$B$30)/DETAILS!$B$26,4) -> 19.6 | H53: =BASE_PRICES!C53 -> 1 | I53: =BASE_PRICES!D53 -> 1 | J53: =IF(1<BASE_PRICES!D53,"",IF(BASE_PRICES!F53="","",ROUND(BASE_PRICES!F53*(1+DETAILS!$B$30)/DETAILS!$B$26,4))) -> 19.6 | K53: =IF(5<BASE_PRICES!D53,"",IF(BASE_PRICES!G53="","",ROUND(BASE_PRICES!G53*(1+DETAILS!$B$30)/DETAILS!$B$26,4))) -> 16.464 | L53: =IF(10<BASE_PRICES!D53,"",IF(BASE_PRICES!H53="","",ROUND(BASE_PRICES!H53*(1+DETAILS!$B$30)/DETAILS!$B$26,4))) -> 14.504 | M53: =IF(20<BASE_PRICES!D53,"",IF(BASE_PRICES!I53="","",ROUND(BASE_PRICES!I53*(1+DETAILS!$B$30)/DETAILS!$B$26,4))) -> 14.504 | N53: =IF(25<BASE_PRICES!D53,"",IF(BASE_PRICES!J53="","",ROUND(BASE_PRICES!J53*(1+DETAILS!$B$30)/DETAILS!$B$26,4))) -> 14.504 | O53: =IF(30<BASE_PRICES!D53,"",IF(BASE_PRICES!K53="","",ROUND(BASE_PRICES!K53*(1+DETAILS!$B$30)/DETAILS!$B$26,4))) -> 13.72 | P53: =IF(50<BASE_PRICES!D53,"",IF(BASE_PRICES!L53="","",ROUND(BASE_PRICES!L53*(1+DETAILS!$B$30)/DETAILS!$B$26,4))) -> 11.36 | Q53: =IF(100<BASE_PRICES!D53,"",IF(BASE_PRICES!M53="","",ROUND(BASE_PRICES!M53*(1+DETAILS!$B$30)/DETAILS!$B$26,4))) -> 0 | R53: =IF(250<BASE_PRICES!D53,"",IF(BASE_PRICES!N53="","",ROUND(BASE_PRICES!N53*(1+DETAILS!$B$30)/DETAILS!$B$26,4))) -> 0 | S53: =IF(500<BASE_PRICES!D53,"",IF(BASE_PRICES!O53="","",ROUND(BASE_PRICES!O53*(1+DETAILS!$B$30)/DETAILS!$B$26,4))) -> 0 | T53: =IF(1000<BASE_PRICES!D53,"",IF(BASE_PRICES!P53="","",ROUND(BASE_PRICES!P53*(1+DETAILS!$B$30)/DETAILS!$B$26,4))) -> 0 | U53: =IF(ISNUMBER(ORDER!G54),IF(AND(ORDER!G54>=I53,MOD(ORDER!G54,BASE_PRICES!E53)=0),MATCH(ORDER!G54,$J$4:$T$4,1),0),0) -> 0 | V53: =IF(U53=0,"",IF(INDEX(BASE_PRICES!F53:P53,1,U53)="","",INDEX(BASE_PRICES!F53:P53,1,U53))) | W53: =IF(ORDER!G54=0,0,IF(ISNUMBER(ORDER!H54),0,1)) -> 0
A54: #VALUE! | B54: =ORDER!B55 -> Candle holder | C54: =ORDER!C55 -> Gold | D54: =ORDER!D55 -> 2 cm | F54: 5903716470097 | G54: =ROUND(BASE_PRICES!B54*(1+DETAILS!$B$30)/DETAILS!$B$26,4) -> 63.2 | H54: =BASE_PRICES!C54 -> 1 | I54: =BASE_PRICES!D54 -> 1 | J54: =IF(1<BASE_PRICES!D54,"",IF(BASE_PRICES!F54="","",ROUND(BASE_PRICES!F54*(1+DETAILS!$B$30)/DETAILS!$B$26,4))) -> 63.2 | K54: =IF(5<BASE_PRICES!D54,"",IF(BASE_PRICES!G54="","",ROUND(BASE_PRICES!G54*(1+DETAILS!$B$30)/DETAILS!$B$26,4))) -> 53.72 | L54: =IF(10<BASE_PRICES!D54,"",IF(BASE_PRICES!H54="","",ROUND(BASE_PRICES!H54*(1+DETAILS!$B$30)/DETAILS!$B$26,4))) -> 50.56 | M54: =IF(20<BASE_PRICES!D54,"",IF(BASE_PRICES!I54="","",ROUND(BASE_PRICES!I54*(1+DETAILS!$B$30)/DETAILS!$B$26,4))) -> 49.296 | N54: =IF(25<BASE_PRICES!D54,"",IF(BASE_PRICES!J54="","",ROUND(BASE_PRICES!J54*(1+DETAILS!$B$30)/DETAILS!$B$26,4))) -> 47.4 | O54: =IF(30<BASE_PRICES!D54,"",IF(BASE_PRICES!K54="","",ROUND(BASE_PRICES!K54*(1+DETAILS!$B$30)/DETAILS!$B$26,4))) -> 41.08 | P54: =IF(50<BASE_PRICES!D54,"",IF(BASE_PRICES!L54="","",ROUND(BASE_PRICES!L54*(1+DETAILS!$B$30)/DETAILS!$B$26,4))) -> 36.65 | Q54: =IF(100<BASE_PRICES!D54,"",IF(BASE_PRICES!M54="","",ROUND(BASE_PRICES!M54*(1+DETAILS!$B$30)/DETAILS!$B$26,4))) -> 0 | R54: =IF(250<BASE_PRICES!D54,"",IF(BASE_PRICES!N54="","",ROUND(BASE_PRICES!N54*(1+DETAILS!$B$30)/DETAILS!$B$26,4))) -> 0 | S54: =IF(500<BASE_PRICES!D54,"",IF(BASE_PRICES!O54="","",ROUND(BASE_PRICES!O54*(1+DETAILS!$B$30)/DETAILS!$B$26,4))) -> 0 | T54: =IF(1000<BASE_PRICES!D54,"",IF(BASE_PRICES!P54="","",ROUND(BASE_PRICES!P54*(1+DETAILS!$B$30)/DETAILS!$B$26,4))) -> 0 | U54: =IF(ISNUMBER(ORDER!G55),IF(AND(ORDER!G55>=I54,MOD(ORDER!G55,BASE_PRICES!E54)=0),MATCH(ORDER!G55,$J$4:$T$4,1),0),0) -> 0 | V54: =IF(U54=0,"",IF(INDEX(BASE_PRICES!F54:P54,1,U54)="","",INDEX(BASE_PRICES!F54:P54,1,U54))) | W54: =IF(ORDER!G55=0,0,IF(ISNUMBER(ORDER!H55),0,1)) -> 0
A55: #VALUE! | B55: =ORDER!B56 -> Candle holder | C55: =ORDER!C56 -> Gold | D55: =ORDER!D56 -> 0,6 cm | F55: 5903716470073 | G55: =ROUND(BASE_PRICES!B55*(1+DETAILS!$B$30)/DETAILS!$B$26,4) -> 53.2 | H55: =BASE_PRICES!C55 -> 1 | I55: =BASE_PRICES!D55 -> 1 | J55: =IF(1<BASE_PRICES!D55,"",IF(BASE_PRICES!F55="","",ROUND(BASE_PRICES!F55*(1+DETAILS!$B$30)/DETAILS!$B$26,4))) -> 53.2 | K55: =IF(5<BASE_PRICES!D55,"",IF(BASE_PRICES!G55="","",ROUND(BASE_PRICES!G55*(1+DETAILS!$B$30)/DETAILS!$B$26,4))) -> 45.22 | L55: =IF(10<BASE_PRICES!D55,"",IF(BASE_PRICES!H55="","",ROUND(BASE_PRICES!H55*(1+DETAILS!$B$30)/DETAILS!$B$26,4))) -> 42.56 | M55: =IF(20<BASE_PRICES!D55,"",IF(BASE_PRICES!I55="","",ROUND(BASE_PRICES!I55*(1+DETAILS!$B$30)/DETAILS!$B$26,4))) -> 41.496 | N55: =IF(25<BASE_PRICES!D55,"",IF(BASE_PRICES!J55="","",ROUND(BASE_PRICES!J55*(1+DETAILS!$B$30)/DETAILS!$B$26,4))) -> 39.9 | O55: =IF(30<BASE_PRICES!D55,"",IF(BASE_PRICES!K55="","",ROUND(BASE_PRICES!K55*(1+DETAILS!$B$30)/DETAILS!$B$26,4))) -> 35.644 | P55: =IF(50<BASE_PRICES!D55,"",IF(BASE_PRICES!L55="","",ROUND(BASE_PRICES!L55*(1+DETAILS!$B$30)/DETAILS!$B$26,4))) -> 30.856 | Q55: =IF(100<BASE_PRICES!D55,"",IF(BASE_PRICES!M55="","",ROUND(BASE_PRICES!M55*(1+DETAILS!$B$30)/DETAILS!$B$26,4))) -> 0 | R55: =IF(250<BASE_PRICES!D55,"",IF(BASE_PRICES!N55="","",ROUND(BASE_PRICES!N55*(1+DETAILS!$B$30)/DETAILS!$B$26,4))) -> 0 | S55: =IF(500<BASE_PRICES!D55,"",IF(BASE_PRICES!O55="","",ROUND(BASE_PRICES!O55*(1+DETAILS!$B$30)/DETAILS!$B$26,4))) -> 0 | T55: =IF(1000<BASE_PRICES!D55,"",IF(BASE_PRICES!P55="","",ROUND(BASE_PRICES!P55*(1+DETAILS!$B$30)/DETAILS!$B$26,4))) -> 0 | U55: =IF(ISNUMBER(ORDER!G56),IF(AND(ORDER!G56>=I55,MOD(ORDER!G56,BASE_PRICES!E55)=0),MATCH(ORDER!G56,$J$4:$T$4,1),0),0) -> 0 | V55: =IF(U55=0,"",IF(INDEX(BASE_PRICES!F55:P55,1,U55)="","",INDEX(BASE_PRICES!F55:P55,1,U55))) | W55: =IF(ORDER!G56=0,0,IF(ISNUMBER(ORDER!H56),0,1)) -> 0
A56: #VALUE! | B56: =ORDER!B57 -> Candle holder | C56: =ORDER!C57 -> Gold | D56: =ORDER!D57 -> 1 cm | F56: 5903716470080 | G56: =ROUND(BASE_PRICES!B56*(1+DETAILS!$B$30)/DETAILS!$B$26,4) -> 58.97 | H56: =BASE_PRICES!C56 -> 1 | I56: =BASE_PRICES!D56 -> 1 | J56: =IF(1<BASE_PRICES!D56,"",IF(BASE_PRICES!F56="","",ROUND(BASE_PRICES!F56*(1+DETAILS!$B$30)/DETAILS!$B$26,4))) -> 58.97 | K56: =IF(5<BASE_PRICES!D56,"",IF(BASE_PRICES!G56="","",ROUND(BASE_PRICES!G56*(1+DETAILS!$B$30)/DETAILS!$B$26,4))) -> 50.12 | L56: =IF(10<BASE_PRICES!D56,"",IF(BASE_PRICES!H56="","",ROUND(BASE_PRICES!H56*(1+DETAILS!$B$30)/DETAILS!$B$26,4))) -> 47.176 | M56: =IF(20<BASE_PRICES!D56,"",IF(BASE_PRICES!I56="","",ROUND(BASE_PRICES!I56*(1+DETAILS!$B$30)/DETAILS!$B$26,4))) -> 45.9966 | N56: =IF(25<BASE_PRICES!D56,"",IF(BASE_PRICES!J56="","",ROUND(BASE_PRICES!J56*(1+DETAILS!$B$30)/DETAILS!$B$26,4))) -> 44.2275 | O56: =IF(30<BASE_PRICES!D56,"",IF(BASE_PRICES!K56="","",ROUND(BASE_PRICES!K56*(1+DETAILS!$B$30)/DETAILS!$B$26,4))) -> 39.5099 | P56: =IF(50<BASE_PRICES!D56,"",IF(BASE_PRICES!L56="","",ROUND(BASE_PRICES!L56*(1+DETAILS!$B$30)/DETAILS!$B$26,4))) -> 34.2026 | Q56: =IF(100<BASE_PRICES!D56,"",IF(BASE_PRICES!M56="","",ROUND(BASE_PRICES!M56*(1+DETAILS!$B$30)/DETAILS!$B$26,4))) -> 0 | R56: =IF(250<BASE_PRICES!D56,"",IF(BASE_PRICES!N56="","",ROUND(BASE_PRICES!N56*(1+DETAILS!$B$30)/DETAILS!$B$26,4))) -> 0 | S56: =IF(500<BASE_PRICES!D56,"",IF(BASE_PRICES!O56="","",ROUND(BASE_PRICES!O56*(1+DETAILS!$B$30)/DETAILS!$B$26,4))) -> 0 | T56: =IF(1000<BASE_PRICES!D56,"",IF(BASE_PRICES!P56="","",ROUND(BASE_PRICES!P56*(1+DETAILS!$B$30)/DETAILS!$B$26,4))) -> 0 | U56: =IF(ISNUMBER(ORDER!G57),IF(AND(ORDER!G57>=I56,MOD(ORDER!G57,BASE_PRICES!E56)=0),MATCH(ORDER!G57,$J$4:$T$4,1),0),0) -> 0 | V56: =IF(U56=0,"",IF(INDEX(BASE_PRICES!F56:P56,1,U56)="","",INDEX(BASE_PRICES!F56:P56,1,U56))) | W56: =IF(ORDER!G57=0,0,IF(ISNUMBER(ORDER!H57),0,1)) -> 0
A57: #VALUE! | B57: =ORDER!B58 -> Candle holder | C57: =ORDER!C58 -> Gold | D57: =ORDER!D58 -> 0.8 cm | F57: 5903716470066 | G57: =ROUND(BASE_PRICES!B57*(1+DETAILS!$B$30)/DETAILS!$B$26,4) -> 50.97 | H57: =BASE_PRICES!C57 -> 1 | I57: =BASE_PRICES!D57 -> 1 | J57: =IF(1<BASE_PRICES!D57,"",IF(BASE_PRICES!F57="","",ROUND(BASE_PRICES!F57*(1+DETAILS!$B$30)/DETAILS!$B$26,4))) -> 50.97 | K57: =IF(5<BASE_PRICES!D57,"",IF(BASE_PRICES!G57="","",ROUND(BASE_PRICES!G57*(1+DETAILS!$B$30)/DETAILS!$B$26,4))) -> 43.3245 | L57: =IF(10<BASE_PRICES!D57,"",IF(BASE_PRICES!H57="","",ROUND(BASE_PRICES!H57*(1+DETAILS!$B$30)/DETAILS!$B$26,4))) -> 40.2663 | M57: =IF(20<BASE_PRICES!D57,"",IF(BASE_PRICES!I57="","",ROUND(BASE_PRICES!I57*(1+DETAILS!$B$30)/DETAILS!$B$26,4))) -> 37.7178 | N57: =IF(25<BASE_PRICES!D57,"",IF(BASE_PRICES!J57="","",ROUND(BASE_PRICES!J57*(1+DETAILS!$B$30)/DETAILS!$B$26,4))) -> 35.679 | O57: =IF(30<BASE_PRICES!D57,"",IF(BASE_PRICES!K57="","",ROUND(BASE_PRICES!K57*(1+DETAILS!$B$30)/DETAILS!$B$26,4))) -> 34.1499 | P57: =IF(50<BASE_PRICES!D57,"",IF(BASE_PRICES!L57="","",ROUND(BASE_PRICES!L57*(1+DETAILS!$B$30)/DETAILS!$B$26,4))) -> 30.582 | Q57: =IF(100<BASE_PRICES!D57,"",IF(BASE_PRICES!M57="","",ROUND(BASE_PRICES!M57*(1+DETAILS!$B$30)/DETAILS!$B$26,4))) -> 0 | R57: =IF(250<BASE_PRICES!D57,"",IF(BASE_PRICES!N57="","",ROUND(BASE_PRICES!N57*(1+DETAILS!$B$30)/DETAILS!$B$26,4))) -> 0 | S57: =IF(500<BASE_PRICES!D57,"",IF(BASE_PRICES!O57="","",ROUND(BASE_PRICES!O57*(1+DETAILS!$B$30)/DETAILS!$B$26,4))) -> 0 | T57: =IF(1000<BASE_PRICES!D57,"",IF(BASE_PRICES!P57="","",ROUND(BASE_PRICES!P57*(1+DETAILS!$B$30)/DETAILS!$B$26,4))) -> 0 | U57: =IF(ISNUMBER(ORDER!G58),IF(AND(ORDER!G58>=I57,MOD(ORDER!G58,BASE_PRICES!E57)=0),MATCH(ORDER!G58,$J$4:$T$4,1),0),0) -> 0 | V57: =IF(U57=0,"",IF(INDEX(BASE_PRICES!F57:P57,1,U57)="","",INDEX(BASE_PRICES!F57:P57,1,U57))) | W57: =IF(ORDER!G58=0,0,IF(ISNUMBER(ORDER!H58),0,1)) -> 0

Sheet PRODUCTS
A1: =CHOOSE(DETAILS!$B$2,"Karty produktów","Product cards","Produktkarten","Fiches produits","Fichas de producto","Schede prodotto","Produktové karty","Produktové karty") -> Product cards
A2: =CHOOSE(DETAILS!$B$2,"Opis do wykorzystania w sklepie. Pełne zdjęcia i opinie: linki Allegro w ORDER.","Descriptions for your shop. Full photos and reviews: Allegro links in ORDER.","Beschreibungen für Ihr Geschäft. Weitere Fotos und Bewertungen: Allegro-Links in ORDER.","Descriptions pour votre boutique. Photos et avis : liens Allegro dans ORDER.","Descripciones para su tienda. Fotos y reseñas: enlaces de Allegro en ORDER.","Descrizioni per il vostro negozio. Foto e recensioni: link Allegro in ORDER.","Popisy pro váš obchod. Další fotografie a recenze: odkazy Allegro v ORDER.","Popisy pre váš obchod. Ďalšie fotografie a recenzie: odkazy Allegro v ORDER.") -> Descriptions for your shop. Full photos and reviews: Allegro links in ORDER.
F3: =ORDER!B2 -> English
A4: =CHOOSE(DETAILS!$B$2,"Zdjęcie","Photo","Foto","Photo","Foto","Foto","Fotografie","Fotografia") -> Photo | B4: =CHOOSE(DETAILS!$B$2,"Produkt / wariant","Product / variant","Produkt / Variante","Produit / variante","Producto / variante","Prodotto / variante","Produkt / varianta","Produkt / variant") -> Product / variant | C4: =CHOOSE(DETAILS!$B$2,"Opis / przeznaczenie","Description / intended use","Beschreibung / Verwendung","Description / usage prévu","Descripción / uso previsto","Descrizione / uso previsto","Popis / určené použití","Popis / určené použitie") -> Description / intended use | D4: =CHOOSE(DETAILS!$B$2,"Skład ogólny","General composition","Allgemeine Zusammensetzung","Composition générale","Composición general","Composizione generale","Obecné složení","Všeobecné zloženie") -> General composition | E4: =CHOOSE(DETAILS!$B$2,"Pakowanie","Packaging","Verpackung","Conditionnement","Embalaje","Confezionamento","Balení","Balenie") -> Packaging | F4: =CHOOSE(DETAILS!$B$2,"Sposób użycia","How to use","Anwendung","Utilisation","Modo de uso","Istruzioni d’uso","Návod k použití","Návod na použitie") -> How to use
A5: #VALUE! | B5: =ORDER!B6&CHAR(10)&ORDER!C6&" "&ORDER!D6&CHAR(10)&"EAN: "&PRICES!F5 -> Coloured beeswax candle White 130 × 10 mm EAN: 5902138542870 | C5: =CHOOSE(DETAILS!$B$2,"Ręcznie wykonana kolorowa świeca z wosku pszczelego do praktyk intencyjnych. Kolor i rozmiar podano przy produkcie.","Handmade coloured beeswax candle for intention practices. Colour and size are shown with the product.","Handgefertigte farbige Bienenwachskerze für Intentionen. Farbe und Größe sind beim Produkt angegeben.","Bougie colorée artisanale en cire d’abeille pour les pratiques d’intention. Couleur et dimensions indiquées avec le produit.","Vela artesanal de cera de abeja de color para prácticas de intención. Color y dimensiones junto al producto.","Candela colorata in cera d’api, realizzata a mano per pratiche d’intenzione. Colore e dimensioni sono indicati accanto al prodotto.","Ručně vyráběná barevná svíčka ze včelího vosku pro práci se záměrem. Barva a rozměry jsou uvedeny u produktu.","Ručne vyrábaná farebná sviečka zo včelieho vosku na prácu so zámerom. Farba a rozmery sú uvedené pri produkte.") -> Handmade coloured beeswax candle for intention practices. Colour and size are shown with the product. | D5: =CHOOSE(DETAILS!$B$2,"Naturalny wosk pszczeli, knot.","Natural beeswax, wick.","Natürliches Bienenwachs, Docht.","Cire d’abeille naturelle, mèche.","Cera de abeja natural, mecha.","Cera d’api naturale, stoppino.","Přírodní včelí vosk, knot.","Prírodný včelí vosk, knôt.") -> Natural beeswax, wick. | E5: =CHOOSE(DETAILS!$B$2,"Zabezpieczone do transportu. Szczegóły opakowania jednostkowego potwierdza dostawca.","Protected for transport. The supplier confirms individual packaging details.","Für den Transport geschützt. Details zur Einzelverpackung bestätigt der Lieferant.","Protégé pour le transport. Emballage individuel à confirmer auprès du fournisseur.","Protegido para el transporte. El proveedor confirma los detalles del embalaje individual.","Protetto per il trasporto. I dettagli della confezione individuale sono confermati dal fornitore.","Chráněno pro přepravu. Podrobnosti o jednotlivém balení potvrdí dodavatel.","Chránené na prepravu. Podrobnosti o jednotlivom balení potvrdí dodávateľ.") -> Protected for transport. The supplier confirms individual packaging details. | F5: =CHOOSE(DETAILS!$B$2,"Sposób użycia","How to use","Anwendung","Utilisation","Modo de uso","Istruzioni d’uso","Návod k použití","Návod na použitie") -> How to use
A6: #VALUE! | B6: =ORDER!B7&CHAR(10)&ORDER!C7&" "&ORDER!D7&CHAR(10)&"EAN: "&PRICES!F6 -> Coloured beeswax candle Light blue 130 × 10 mm EAN: 5902138542887 | C6: =CHOOSE(DETAILS!$B$2,"Ręcznie wykonana kolorowa świeca z wosku pszczelego do praktyk intencyjnych. Kolor i rozmiar podano przy produkcie.","Handmade coloured beeswax candle for intention practices. Colour and size are shown with the product.","Handgefertigte farbige Bienenwachskerze für Intentionen. Farbe und Größe sind beim Produkt angegeben.","Bougie colorée artisanale en cire d’abeille pour les pratiques d’intention. Couleur et dimensions indiquées avec le produit.","Vela artesanal de cera de abeja de color para prácticas de intención. Color y dimensiones junto al producto.","Candela colorata in cera d’api, realizzata a mano per pratiche d’intenzione. Colore e dimensioni sono indicati accanto al prodotto.","Ručně vyráběná barevná svíčka ze včelího vosku pro práci se záměrem. Barva a rozměry jsou uvedeny u produktu.","Ručne vyrábaná farebná sviečka zo včelieho vosku na prácu so zámerom. Farba a rozmery sú uvedené pri produkte.") -> Handmade coloured beeswax candle for intention practices. Colour and size are shown with the product. | D6: =CHOOSE(DETAILS!$B$2,"Naturalny wosk pszczeli, knot.","Natural beeswax, wick.","Natürliches Bienenwachs, Docht.","Cire d’abeille naturelle, mèche.","Cera de abeja natural, mecha.","Cera d’api naturale, stoppino.","Přírodní včelí vosk, knot.","Prírodný včelí vosk, knôt.") -> Natural beeswax, wick. | E6: =CHOOSE(DETAILS!$B$2,"Zabezpieczone do transportu. Szczegóły opakowania jednostkowego potwierdza dostawca.","Protected for transport. The supplier confirms individual packaging details.","Für den Transport geschützt. Details zur Einzelverpackung bestätigt der Lieferant.","Protégé pour le transport. Emballage individuel à confirmer auprès du fournisseur.","Protegido para el transporte. El proveedor confirma los detalles del embalaje individual.","Protetto per il trasporto. I dettagli della confezione individuale sono confermati dal fornitore.","Chráněno pro přepravu. Podrobnosti o jednotlivém balení potvrdí dodavatel.","Chránené na prepravu. Podrobnosti o jednotlivom balení potvrdí dodávateľ.") -> Protected for transport. The supplier confirms individual packaging details. | F6: =CHOOSE(DETAILS!$B$2,"Sposób użycia","How to use","Anwendung","Utilisation","Modo de uso","Istruzioni d’uso","Návod k použití","Návod na použitie") -> How to use
A7: #VALUE! | B7: =ORDER!B8&CHAR(10)&ORDER!C8&" "&ORDER!D8&CHAR(10)&"EAN: "&PRICES!F7 -> Coloured beeswax candle Natural yellow 130 × 10 mm EAN: 5902138542856 | C7: =CHOOSE(DETAILS!$B$2,"Ręcznie wykonana kolorowa świeca z wosku pszczelego do praktyk intencyjnych. Kolor i rozmiar podano przy produkcie.","Handmade coloured beeswax candle for intention practices. Colour and size are shown with the product.","Handgefertigte farbige Bienenwachskerze für Intentionen. Farbe und Größe sind beim Produkt angegeben.","Bougie colorée artisanale en cire d’abeille pour les pratiques d’intention. Couleur et dimensions indiquées avec le produit.","Vela artesanal de cera de abeja de color para prácticas de intención. Color y dimensiones junto al producto.","Candela colorata in cera d’api, realizzata a mano per pratiche d’intenzione. Colore e dimensioni sono indicati accanto al prodotto.","Ručně vyráběná barevná svíčka ze včelího vosku pro práci se záměrem. Barva a rozměry jsou uvedeny u produktu.","Ručne vyrábaná farebná sviečka zo včelieho vosku na prácu so zámerom. Farba a rozmery sú uvedené pri produkte.") -> Handmade coloured beeswax candle for intention practices. Colour and size are shown with the product. | D7: =CHOOSE(DETAILS!$B$2,"Naturalny wosk pszczeli, knot.","Natural beeswax, wick.","Natürliches Bienenwachs, Docht.","Cire d’abeille naturelle, mèche.","Cera de abeja natural, mecha.","Cera d’api naturale, stoppino.","Přírodní včelí vosk, knot.","Prírodný včelí vosk, knôt.") -> Natural beeswax, wick. | E7: =CHOOSE(DETAILS!$B$2,"Zabezpieczone do transportu. Szczegóły opakowania jednostkowego potwierdza dostawca.","Protected for transport. The supplier confirms individual packaging details.","Für den Transport geschützt. Details zur Einzelverpackung bestätigt der Lieferant.","Protégé pour le transport. Emballage individuel à confirmer auprès du fournisseur.","Protegido para el transporte. El proveedor confirma los detalles del embalaje individual.","Protetto per il trasporto. I dettagli della confezione individuale sono confermati dal fornitore.","Chráněno pro přepravu. Podrobnosti o jednotlivém balení potvrdí dodavatel.","Chránené na prepravu. Podrobnosti o jednotlivom balení potvrdí dodávateľ.") -> Protected for transport. The supplier confirms individual packaging details. | F7: =CHOOSE(DETAILS!$B$2,"Sposób użycia","How to use","Anwendung","Utilisation","Modo de uso","Istruzioni d’uso","Návod k použití","Návod na použitie") -> How to use
A8: #VALUE! | B8: =ORDER!B9&CHAR(10)&ORDER!C9&" "&ORDER!D9&CHAR(10)&"EAN: "&PRICES!F8 -> Coloured beeswax candle Green 130 × 10 mm EAN: 5902138542849 | C8: =CHOOSE(DETAILS!$B$2,"Ręcznie wykonana kolorowa świeca z wosku pszczelego do praktyk intencyjnych. Kolor i rozmiar podano przy produkcie.","Handmade coloured beeswax candle for intention practices. Colour and size are shown with the product.","Handgefertigte farbige Bienenwachskerze für Intentionen. Farbe und Größe sind beim Produkt angegeben.","Bougie colorée artisanale en cire d’abeille pour les pratiques d’intention. Couleur et dimensions indiquées avec le produit.","Vela artesanal de cera de abeja de color para prácticas de intención. Color y dimensiones junto al producto.","Candela colorata in cera d’api, realizzata a mano per pratiche d’intenzione. Colore e dimensioni sono indicati accanto al prodotto.","Ručně vyráběná barevná svíčka ze včelího vosku pro práci se záměrem. Barva a rozměry jsou uvedeny u produktu.","Ručne vyrábaná farebná sviečka zo včelieho vosku na prácu so zámerom. Farba a rozmery sú uvedené pri produkte.") -> Handmade coloured beeswax candle for intention practices. Colour and size are shown with the product. | D8: =CHOOSE(DETAILS!$B$2,"Naturalny wosk pszczeli, knot.","Natural beeswax, wick.","Natürliches Bienenwachs, Docht.","Cire d’abeille naturelle, mèche.","Cera de abeja natural, mecha.","Cera d’api naturale, stoppino.","Přírodní včelí vosk, knot.","Prírodný včelí vosk, knôt.") -> Natural beeswax, wick. | E8: =CHOOSE(DETAILS!$B$2,"Zabezpieczone do transportu. Szczegóły opakowania jednostkowego potwierdza dostawca.","Protected for transport. The supplier confirms individual packaging details.","Für den Transport geschützt. Details zur Einzelverpackung bestätigt der Lieferant.","Protégé pour le transport. Emballage individuel à confirmer auprès du fournisseur.","Protegido para el transporte. El proveedor confirma los detalles del embalaje individual.","Protetto per il trasporto. I dettagli della confezione individuale sono confermati dal fornitore.","Chráněno pro přepravu. Podrobnosti o jednotlivém balení potvrdí dodavatel.","Chránené na prepravu. Podrobnosti o jednotlivom balení potvrdí dodávateľ.") -> Protected for transport. The supplier confirms individual packaging details. | F8: =CHOOSE(DETAILS!$B$2,"Sposób użycia","How to use","Anwendung","Utilisation","Modo de uso","Istruzioni d’uso","Návod k použití","Návod na použitie") -> How to use
A9: #VALUE! | B9: =ORDER!B10&CHAR(10)&ORDER!C10&" "&ORDER!D10&CHAR(10)&"EAN: "&PRICES!F9 -> Coloured beeswax candle Gold 130 × 10 mm EAN: 5902138542818 | C9: =CHOOSE(DETAILS!$B$2,"Ręcznie wykonana kolorowa świeca z wosku pszczelego do praktyk intencyjnych. Kolor i rozmiar podano przy produkcie.","Handmade coloured beeswax candle for intention practices. Colour and size are shown with the product.","Handgefertigte farbige Bienenwachskerze für Intentionen. Farbe und Größe sind beim Produkt angegeben.","Bougie colorée artisanale en cire d’abeille pour les pratiques d’intention. Couleur et dimensions indiquées avec le produit.","Vela artesanal de cera de abeja de color para prácticas de intención. Color y dimensiones junto al producto.","Candela colorata in cera d’api, realizzata a mano per pratiche d’intenzione. Colore e dimensioni sono indicati accanto al prodotto.","Ručně vyráběná barevná svíčka ze včelího vosku pro práci se záměrem. Barva a rozměry jsou uvedeny u produktu.","Ručne vyrábaná farebná sviečka zo včelieho vosku na prácu so zámerom. Farba a rozmery sú uvedené pri produkte.") -> Handmade coloured beeswax candle for intention practices. Colour and size are shown with the product. | D9: =CHOOSE(DETAILS!$B$2,"Naturalny wosk pszczeli, knot.","Natural beeswax, wick.","Natürliches Bienenwachs, Docht.","Cire d’abeille naturelle, mèche.","Cera de abeja natural, mecha.","Cera d’api naturale, stoppino.","Přírodní včelí vosk, knot.","Prírodný včelí vosk, knôt.") -> Natural beeswax, wick. | E9: =CHOOSE(DETAILS!$B$2,"Zabezpieczone do transportu. Szczegóły opakowania jednostkowego potwierdza dostawca.","Protected for transport. The supplier confirms individual packaging details.","Für den Transport geschützt. Details zur Einzelverpackung bestätigt der Lieferant.","Protégé pour le transport. Emballage individuel à confirmer auprès du fournisseur.","Protegido para el transporte. El proveedor confirma los detalles del embalaje individual.","Protetto per il trasporto. I dettagli della confezione individuale sono confermati dal fornitore.","Chráněno pro přepravu. Podrobnosti o jednotlivém balení potvrdí dodavatel.","Chránené na prepravu. Podrobnosti o jednotlivom balení potvrdí dodávateľ.") -> Protected for transport. The supplier confirms individual packaging details. | F9: =CHOOSE(DETAILS!$B$2,"Sposób użycia","How to use","Anwendung","Utilisation","Modo de uso","Istruzioni d’uso","Návod k použití","Návod na použitie") -> How to use
A10: #VALUE! | B10: =ORDER!B11&CHAR(10)&ORDER!C11&" "&ORDER!D11&CHAR(10)&"EAN: "&PRICES!F10 -> Coloured beeswax candle Brown 130 × 10 mm EAN: 5903716470011 | C10: =CHOOSE(DETAILS!$B$2,"Ręcznie wykonana kolorowa świeca z wosku pszczelego do praktyk intencyjnych. Kolor i rozmiar podano przy produkcie.","Handmade coloured beeswax candle for intention practices. Colour and size are shown with the product.","Handgefertigte farbige Bienenwachskerze für Intentionen. Farbe und Größe sind beim Produkt angegeben.","Bougie colorée artisanale en cire d’abeille pour les pratiques d’intention. Couleur et dimensions indiquées avec le produit.","Vela artesanal de cera de abeja de color para prácticas de intención. Color y dimensiones junto al producto.","Candela colorata in cera d’api, realizzata a mano per pratiche d’intenzione. Colore e dimensioni sono indicati accanto al prodotto.","Ručně vyráběná barevná svíčka ze včelího vosku pro práci se záměrem. Barva a rozměry jsou uvedeny u produktu.","Ručne vyrábaná farebná sviečka zo včelieho vosku na prácu so zámerom. Farba a rozmery sú uvedené pri produkte.") -> Handmade coloured beeswax candle for intention practices. Colour and size are shown with the product. | D10: =CHOOSE(DETAILS!$B$2,"Naturalny wosk pszczeli, knot.","Natural beeswax, wick.","Natürliches Bienenwachs, Docht.","Cire d’abeille naturelle, mèche.","Cera de abeja natural, mecha.","Cera d’api naturale, stoppino.","Přírodní včelí vosk, knot.","Prírodný včelí vosk, knôt.") -> Natural beeswax, wick. | E10: =CHOOSE(DETAILS!$B$2,"Zabezpieczone do transportu. Szczegóły opakowania jednostkowego potwierdza dostawca.","Protected for transport. The supplier confirms individual packaging details.","Für den Transport geschützt. Details zur Einzelverpackung bestätigt der Lieferant.","Protégé pour le transport. Emballage individuel à confirmer auprès du fournisseur.","Protegido para el transporte. El proveedor confirma los detalles del embalaje individual.","Protetto per il trasporto. I dettagli della confezione individuale sono confermati dal fornitore.","Chráněno pro přepravu. Podrobnosti o jednotlivém balení potvrdí dodavatel.","Chránené na prepravu. Podrobnosti o jednotlivom balení potvrdí dodávateľ.") -> Protected for transport. The supplier confirms individual packaging details. | F10: =CHOOSE(DETAILS!$B$2,"Sposób użycia","How to use","Anwendung","Utilisation","Modo de uso","Istruzioni d’uso","Návod k použití","Návod na použitie") -> How to use
A11: #VALUE! | B11: =ORDER!B12&CHAR(10)&ORDER!C12&" "&ORDER!D12&CHAR(10)&"EAN: "&PRICES!F11 -> Coloured beeswax candle Orange 130 × 10 mm EAN: 5902138542863 | C11: =CHOOSE(DETAILS!$B$2,"Ręcznie wykonana kolorowa świeca z wosku pszczelego do praktyk intencyjnych. Kolor i rozmiar podano przy produkcie.","Handmade coloured beeswax candle for intention practices. Colour and size are shown with the product.","Handgefertigte farbige Bienenwachskerze für Intentionen. Farbe und Größe sind beim Produkt angegeben.","Bougie colorée artisanale en cire d’abeille pour les pratiques d’intention. Couleur et dimensions indiquées avec le produit.","Vela artesanal de cera de abeja de color para prácticas de intención. Color y dimensiones junto al producto.","Candela colorata in cera d’api, realizzata a mano per pratiche d’intenzione. Colore e dimensioni sono indicati accanto al prodotto.","Ručně vyráběná barevná svíčka ze včelího vosku pro práci se záměrem. Barva a rozměry jsou uvedeny u produktu.","Ručne vyrábaná farebná sviečka zo včelieho vosku na prácu so zámerom. Farba a rozmery sú uvedené pri produkte.") -> Handmade coloured beeswax candle for intention practices. Colour and size are shown with the product. | D11: =CHOOSE(DETAILS!$B$2,"Naturalny wosk pszczeli, knot.","Natural beeswax, wick.","Natürliches Bienenwachs, Docht.","Cire d’abeille naturelle, mèche.","Cera de abeja natural, mecha.","Cera d’api naturale, stoppino.","Přírodní včelí vosk, knot.","Prírodný včelí vosk, knôt.") -> Natural beeswax, wick. | E11: =CHOOSE(DETAILS!$B$2,"Zabezpieczone do transportu. Szczegóły opakowania jednostkowego potwierdza dostawca.","Protected for transport. The supplier confirms individual packaging details.","Für den Transport geschützt. Details zur Einzelverpackung bestätigt der Lieferant.","Protégé pour le transport. Emballage individuel à confirmer auprès du fournisseur.","Protegido para el transporte. El proveedor confirma los detalles del embalaje individual.","Protetto per il trasporto. I dettagli della confezione individuale sono confermati dal fornitore.","Chráněno pro přepravu. Podrobnosti o jednotlivém balení potvrdí dodavatel.","Chránené na prepravu. Podrobnosti o jednotlivom balení potvrdí dodávateľ.") -> Protected for transport. The supplier confirms individual packaging details. | F11: =CHOOSE(DETAILS!$B$2,"Sposób użycia","How to use","Anwendung","Utilisation","Modo de uso","Istruzioni d’uso","Návod k použití","Návod na použitie") -> How to use
A12: #VALUE! | B12: =ORDER!B13&CHAR(10)&ORDER!C13&" "&ORDER!D13&CHAR(10)&"EAN: "&PRICES!F12 -> Coloured beeswax candle Pink 130 × 10 mm EAN: 5902138542825 | C12: =CHOOSE(DETAILS!$B$2,"Ręcznie wykonana kolorowa świeca z wosku pszczelego do praktyk intencyjnych. Kolor i rozmiar podano przy produkcie.","Handmade coloured beeswax candle for intention practices. Colour and size are shown with the product.","Handgefertigte farbige Bienenwachskerze für Intentionen. Farbe und Größe sind beim Produkt angegeben.","Bougie colorée artisanale en cire d’abeille pour les pratiques d’intention. Couleur et dimensions indiquées avec le produit.","Vela artesanal de cera de abeja de color para prácticas de intención. Color y dimensiones junto al producto.","Candela colorata in cera d’api, realizzata a mano per pratiche d’intenzione. Colore e dimensioni sono indicati accanto al prodotto.","Ručně vyráběná barevná svíčka ze včelího vosku pro práci se záměrem. Barva a rozměry jsou uvedeny u produktu.","Ručne vyrábaná farebná sviečka zo včelieho vosku na prácu so zámerom. Farba a rozmery sú uvedené pri produkte.") -> Handmade coloured beeswax candle for intention practices. Colour and size are shown with the product. | D12: =CHOOSE(DETAILS!$B$2,"Naturalny wosk pszczeli, knot.","Natural beeswax, wick.","Natürliches Bienenwachs, Docht.","Cire d’abeille naturelle, mèche.","Cera de abeja natural, mecha.","Cera d’api naturale, stoppino.","Přírodní včelí vosk, knot.","Prírodný včelí vosk, knôt.") -> Natural beeswax, wick. | E12: =CHOOSE(DETAILS!$B$2,"Zabezpieczone do transportu. Szczegóły opakowania jednostkowego potwierdza dostawca.","Protected for transport. The supplier confirms individual packaging details.","Für den Transport geschützt. Details zur Einzelverpackung bestätigt der Lieferant.","Protégé pour le transport. Emballage individuel à confirmer auprès du fournisseur.","Protegido para el transporte. El proveedor confirma los detalles del embalaje individual.","Protetto per il trasporto. I dettagli della confezione individuale sono confermati dal fornitore.","Chráněno pro přepravu. Podrobnosti o jednotlivém balení potvrdí dodavatel.","Chránené na prepravu. Podrobnosti o jednotlivom balení potvrdí dodávateľ.") -> Protected for transport. The supplier confirms individual packaging details. | F12: =CHOOSE(DETAILS!$B$2,"Sposób użycia","How to use","Anwendung","Utilisation","Modo de uso","Istruzioni d’uso","Návod k použití","Návod na použitie") -> How to use
A13: #VALUE! | B13: =ORDER!B14&CHAR(10)&ORDER!C14&" "&ORDER!D14&CHAR(10)&"EAN: "&PRICES!F13 -> Coloured beeswax candle Blue 130 × 10 mm EAN: 5902138542832 | C13: =CHOOSE(DETAILS!$B$2,"Ręcznie wykonana kolorowa świeca z wosku pszczelego do praktyk intencyjnych. Kolor i rozmiar podano przy produkcie.","Handmade coloured beeswax candle for intention practices. Colour and size are shown with the product.","Handgefertigte farbige Bienenwachskerze für Intentionen. Farbe und Größe sind beim Produkt angegeben.","Bougie colorée artisanale en cire d’abeille pour les pratiques d’intention. Couleur et dimensions indiquées avec le produit.","Vela artesanal de cera de abeja de color para prácticas de intención. Color y dimensiones junto al producto.","Candela colorata in cera d’api, realizzata a mano per pratiche d’intenzione. Colore e dimensioni sono indicati accanto al prodotto.","Ručně vyráběná barevná svíčka ze včelího vosku pro práci se záměrem. Barva a rozměry jsou uvedeny u produktu.","Ručne vyrábaná farebná sviečka zo včelieho vosku na prácu so zámerom. Farba a rozmery sú uvedené pri produkte.") -> Handmade coloured beeswax candle for intention practices. Colour and size are shown with the product. | D13: =CHOOSE(DETAILS!$B$2,"Naturalny wosk pszczeli, knot.","Natural beeswax, wick.","Natürliches Bienenwachs, Docht.","Cire d’abeille naturelle, mèche.","Cera de abeja natural, mecha.","Cera d’api naturale, stoppino.","Přírodní včelí vosk, knot.","Prírodný včelí vosk, knôt.") -> Natural beeswax, wick. | E13: =CHOOSE(DETAILS!$B$2,"Zabezpieczone do transportu. Szczegóły opakowania jednostkowego potwierdza dostawca.","Protected for transport. The supplier confirms individual packaging details.","Für den Transport geschützt. Details zur Einzelverpackung bestätigt der Lieferant.","Protégé pour le transport. Emballage individuel à confirmer auprès du fournisseur.","Protegido para el transporte. El proveedor confirma los detalles del embalaje individual.","Protetto per il trasporto. I dettagli della confezione individuale sono confermati dal fornitore.","Chráněno pro přepravu. Podrobnosti o jednotlivém balení potvrdí dodavatel.","Chránené na prepravu. Podrobnosti o jednotlivom balení potvrdí dodávateľ.") -> Protected for transport. The supplier confirms individual packaging details. | F13: =CHOOSE(DETAILS!$B$2,"Sposób użycia","How to use","Anwendung","Utilisation","Modo de uso","Istruzioni d’uso","Návod k použití","Návod na použitie") -> How to use
A14: #VALUE! | B14: =ORDER!B15&CHAR(10)&ORDER!C15&" "&ORDER!D15&CHAR(10)&"EAN: "&PRICES!F14 -> Coloured beeswax candle Silver 130 × 10 mm EAN: 5903716470004 | C14: =CHOOSE(DETAILS!$B$2,"Ręcznie wykonana kolorowa świeca z wosku pszczelego do praktyk intencyjnych. Kolor i rozmiar podano przy produkcie.","Handmade coloured beeswax candle for intention practices. Colour and size are shown with the product.","Handgefertigte farbige Bienenwachskerze für Intentionen. Farbe und Größe sind beim Produkt angegeben.","Bougie colorée artisanale en cire d’abeille pour les pratiques d’intention. Couleur et dimensions indiquées avec le produit.","Vela artesanal de cera de abeja de color para prácticas de intención. Color y dimensiones junto al producto.","Candela colorata in cera d’api, realizzata a mano per pratiche d’intenzione. Colore e dimensioni sono indicati accanto al prodotto.","Ručně vyráběná barevná svíčka ze včelího vosku pro práci se záměrem. Barva a rozměry jsou uvedeny u produktu.","Ručne vyrábaná farebná sviečka zo včelieho vosku na prácu so zámerom. Farba a rozmery sú uvedené pri produkte.") -> Handmade coloured beeswax candle for intention practices. Colour and size are shown with the product. | D14: =CHOOSE(DETAILS!$B$2,"Naturalny wosk pszczeli, knot.","Natural beeswax, wick.","Natürliches Bienenwachs, Docht.","Cire d’abeille naturelle, mèche.","Cera de abeja natural, mecha.","Cera d’api naturale, stoppino.","Přírodní včelí vosk, knot.","Prírodný včelí vosk, knôt.") -> Natural beeswax, wick. | E14: =CHOOSE(DETAILS!$B$2,"Zabezpieczone do transportu. Szczegóły opakowania jednostkowego potwierdza dostawca.","Protected for transport. The supplier confirms individual packaging details.","Für den Transport geschützt. Details zur Einzelverpackung bestätigt der Lieferant.","Protégé pour le transport. Emballage individuel à confirmer auprès du fournisseur.","Protegido para el transporte. El proveedor confirma los detalles del embalaje individual.","Protetto per il trasporto. I dettagli della confezione individuale sono confermati dal fornitore.","Chráněno pro přepravu. Podrobnosti o jednotlivém balení potvrdí dodavatel.","Chránené na prepravu. Podrobnosti o jednotlivom balení potvrdí dodávateľ.") -> Protected for transport. The supplier confirms individual packaging details. | F14: =CHOOSE(DETAILS!$B$2,"Sposób użycia","How to use","Anwendung","Utilisation","Modo de uso","Istruzioni d’uso","Návod k použití","Návod na použitie") -> How to use
A15: #VALUE! | B15: =ORDER!B16&CHAR(10)&ORDER!C16&" "&ORDER!D16&CHAR(10)&"EAN: "&PRICES!F15 -> Coloured beeswax candle Purple 130 × 10 mm EAN: 5903716470028 | C15: =CHOOSE(DETAILS!$B$2,"Ręcznie wykonana kolorowa świeca z wosku pszczelego do praktyk intencyjnych. Kolor i rozmiar podano przy produkcie.","Handmade coloured beeswax candle for intention practices. Colour and size are shown with the product.","Handgefertigte farbige Bienenwachskerze für Intentionen. Farbe und Größe sind beim Produkt angegeben.","Bougie colorée artisanale en cire d’abeille pour les pratiques d’intention. Couleur et dimensions indiquées avec le produit.","Vela artesanal de cera de abeja de color para prácticas de intención. Color y dimensiones junto al producto.","Candela colorata in cera d’api, realizzata a mano per pratiche d’intenzione. Colore e dimensioni sono indicati accanto al prodotto.","Ručně vyráběná barevná svíčka ze včelího vosku pro práci se záměrem. Barva a rozměry jsou uvedeny u produktu.","Ručne vyrábaná farebná sviečka zo včelieho vosku na prácu so zámerom. Farba a rozmery sú uvedené pri produkte.") -> Handmade coloured beeswax candle for intention practices. Colour and size are shown with the product. | D15: =CHOOSE(DETAILS!$B$2,"Naturalny wosk pszczeli, knot.","Natural beeswax, wick.","Natürliches Bienenwachs, Docht.","Cire d’abeille naturelle, mèche.","Cera de abeja natural, mecha.","Cera d’api naturale, stoppino.","Přírodní včelí vosk, knot.","Prírodný včelí vosk, knôt.") -> Natural beeswax, wick. | E15: =CHOOSE(DETAILS!$B$2,"Zabezpieczone do transportu. Szczegóły opakowania jednostkowego potwierdza dostawca.","Protected for transport. The supplier confirms individual packaging details.","Für den Transport geschützt. Details zur Einzelverpackung bestätigt der Lieferant.","Protégé pour le transport. Emballage individuel à confirmer auprès du fournisseur.","Protegido para el transporte. El proveedor confirma los detalles del embalaje individual.","Protetto per il trasporto. I dettagli della confezione individuale sono confermati dal fornitore.","Chráněno pro přepravu. Podrobnosti o jednotlivém balení potvrdí dodavatel.","Chránené na prepravu. Podrobnosti o jednotlivom balení potvrdí dodávateľ.") -> Protected for transport. The supplier confirms individual packaging details. | F15: =CHOOSE(DETAILS!$B$2,"Sposób użycia","How to use","Anwendung","Utilisation","Modo de uso","Istruzioni d’uso","Návod k použití","Návod na použitie") -> How to use
